From mboxrd@z Thu Jan 1 00:00:00 1970 Return-Path: Received: from mails.dpdk.org (mails.dpdk.org [217.70.189.124]) by inbox.dpdk.org (Postfix) with ESMTP id 8D2EF46AA0 for ; Mon, 30 Jun 2025 18:53:18 +0200 (CEST) Received: from mails.dpdk.org (localhost [127.0.0.1]) by mails.dpdk.org (Postfix) with ESMTP id 875334025D; Mon, 30 Jun 2025 18:53:18 +0200 (CEST) Received: from mail-il1-f228.google.com (mail-il1-f228.google.com [209.85.166.228]) by mails.dpdk.org (Postfix) with ESMTP id 76B2D4025D for ; Mon, 30 Jun 2025 18:53:17 +0200 (CEST) Received: by mail-il1-f228.google.com with SMTP id e9e14a558f8ab-3df2f97258eso21588255ab.0 for ; Mon, 30 Jun 2025 09:53:17 -0700 (PDT) DKIM-Signature: v=1; a=rsa-sha256; c=relaxed/relaxed; d=iol.unh.edu; s=unh-iol; t=1751302397; x=1751907197; darn=dpdk.org; h=references:in-reply-to:cc:to:from:subject:message-id:date:from:to :cc:subject:date:message-id:reply-to; bh=yOI07RJIg4hF3LhYmB5dqu6eCATOk5KQ1WK6PrExJ7Q=; b=eziXO5UEwU9mCGtLczzrHUmNTO5286KFtGFbHSpDsevyYeuKqZMqN7HCX9eOAS0k7K p67suHasZXsETto7RpbdSJXACpxwtSeFaWtMVGmU56f52gPEMXpqjFktQY9PFaAYXXXP 9fz8sL4B7clE8itvCzJqITnW8e1YdCPtGDipo= X-Google-DKIM-Signature: v=1; a=rsa-sha256; c=relaxed/relaxed; d=1e100.net; s=20230601; t=1751302397; x=1751907197; h=references:in-reply-to:cc:to:from:subject:message-id:date :x-gm-message-state:from:to:cc:subject:date:message-id:reply-to; bh=yOI07RJIg4hF3LhYmB5dqu6eCATOk5KQ1WK6PrExJ7Q=; b=Ei1Dqkzvn4diChw69niDNR/X7anAyR7OLi4wGQcPQdeaySn2+hZhSDYqka/Qc+vaLM 9RMg0OmPiEEQDy2bQ+vrnPogY5v5jR2WKtAaYu+7t4jL3RR+XSi+L6v1p5jKiRCukVvB Z1mu3UZoyVIfbn8SsvPgaBEhikoPP6JGwwcZd6Trsq2V3AT+IKfcaep203ND5tF6qIsr 1zqio/taWu7uNoRYJ9UcQzm/Ua6a0aDSAAs5SX4ZkCp7IEdsXbpXSb4c/Y7Ut/WN/qHo jhScG5aSLGEQ6IW5j1juzO2kUHqdT6tq4XlcccBhXwrmID6CqDbjwr1cA8zWNGrWYWum 2YwQ== X-Gm-Message-State: AOJu0YwqFWZyBvP4qIreJo4VWYMrr6N4bM+Q03a64l3LiyIAT0Bdec2m 5U/CpH6eUfRUzBK743DmoRRExhjwVtOP7XY61zUiFM0BEC+MfCoSTctZVaXM+3sCq8+rbB7lE8D sqNn2uizPm6gBgiwCgNfPNofnc17bVw3ph8GeVBjW3F7Znq8Jq80czYDR7nCO X-Gm-Gg: ASbGnctVjPTSIeItDwqTTS14M3lSkyi/A5by0GTJ5y5iHJb3tnCACZdgW+5GWSQPVPA qrK+K5jDnhqf4Ck3yqTxFY+HeOQmLVlPvj/Oihud8tqOfSXJ8iQGGOEo9HbYm38K2i1RaNpWTtC 3ITMau30S9AoA3fxQLTaHjhRgz0Jcw7RnW5xyGudFEUH2UoDL8D7r7WXlsNtR/hoNbbKD/90HMh eZgTKVUol2n87HW/fXX0i/J1765DBvMqzXMABi96pt/K7ApvvuavgGY7bhI4gsNYYe16YuaossW 94DDPUjPO9K+zU1z+VAckZ81xMeYN5bCC6iQm1qZbpq4EgE= X-Google-Smtp-Source: AGHT+IF04yFHlyC7eRP3azhf5rlPi5CVfLcaBQILah+WRR6ksqDiNzO1pv2RcBdVOgTju9YKY4JCtYkIko/V X-Received: by 2002:a05:6e02:3087:b0:3df:3bb2:b8f8 with SMTP id e9e14a558f8ab-3df4abb6541mr129632605ab.11.1751302396735; Mon, 30 Jun 2025 09:53:16 -0700 (PDT) Received: from postal.iol.unh.edu (postal.iol.unh.edu. [2606:4100:3880:1234::84]) by smtp-relay.gmail.com with ESMTPS id e9e14a558f8ab-3df4a0bd47dsm4646995ab.51.2025.06.30.09.53.16 (version=TLS1_2 cipher=ECDHE-ECDSA-AES128-GCM-SHA256 bits=128/128); Mon, 30 Jun 2025 09:53:16 -0700 (PDT) X-Relaying-Domain: iol.unh.edu Date: Mon, 30 Jun 2025 09:53:16 -0700 (PDT) Message-ID: <6862c0fc.050a0220.22ff6b.95ccSMTPIN_ADDED_MISSING@mx.google.com> Received: from [172.21.0.7] (unknown [172.18.0.240]) by postal.iol.unh.edu (Postfix) with ESMTP id 358B2604D420; Mon, 30 Jun 2025 12:53:16 -0400 (EDT) Subject: |SUCCESS| pw154849 [PATCH] node: fix C++ compatibility errors (optio From: dpdklab@iol.unh.edu To: Test Report Cc: dpdk-test-reports@iol.unh.edu In-Reply-To: <20250630105025.2265901-1-bruce.richardson@intel.com> References: <20250630105025.2265901-1-bruce.richardson@intel.com> Content-Type: text/plain X-BeenThere: test-report@dpdk.org X-Mailman-Version: 2.1.29 Precedence: list List-Id: automatic DPDK test reports List-Unsubscribe: , List-Archive: List-Post: List-Help: List-Subscribe: , Errors-To: test-report-bounces@dpdk.org Test-Label: iol-abi-testing Test-Status: SUCCESS http://dpdk.org/patch/154849 _Testing PASS_ Submitter: Bruce Richardson Date: Monday, June 30 2025 10:50:14 DPDK git baseline: Repo:dpdk Branch: master CommitID:20460dcffd08a4680f881c39916ae783ee830374 154849 --> testing pass Upstream job id: Generic-DPDK-Compile-ABI#132391 Test environment and result as below: +-------------------------------+----------+ | Environment | abi_test | +===============================+==========+ | CentOS Stream 9 | PASS | +-------------------------------+----------+ | CentOS Stream 10 | PASS | +-------------------------------+----------+ | Debian GNU/Linux 12 | PASS | +-------------------------------+----------+ | Fedora Linux 40 | PASS | +-------------------------------+----------+ | Fedora Linux 41 | PASS | +-------------------------------+----------+ | openSUSE Leap 15.6 | PASS | +-------------------------------+----------+ | Red Hat Enterprise Linux 8.10 | PASS | +-------------------------------+----------+ | Red Hat Enterprise Linux 9.5 | PASS | +-------------------------------+----------+ | Ubuntu 22.04 | PASS | +-------------------------------+----------+ | Ubuntu 24.04 | PASS | +-------------------------------+----------+ CentOS Stream 9 Kernel: 5.15 Compiler: gcc gcc (GCC) 11.5.0 20240719 (Red Hat 11.5.0-7) CentOS Stream 10 Kernel: 5.15 Compiler: gcc gcc (GCC) 14.2.1 20250110 (Red Hat 14.2.1-8) Debian GNU/Linux 12 Kernel: 5.15 Compiler: gcc gcc (Debian 12.2.0-14+deb12u1) 12.2.0 Fedora Linux 40 Kernel: 5.15 Compiler: clang gcc (GCC) 14.2.1 20240912 (Red Hat 14.2.1-3) Fedora Linux 41 Kernel: 5.15 Compiler: clang gcc (GCC) 14.3.1 20250523 (Red Hat 14.3.1-1) openSUSE Leap 15.6 Kernel: 5.15 Compiler: gcc gcc (SUSE Linux) 7.5.0 Red Hat Enterprise Linux 8.10 Kernel: 5.15 Compiler: gcc gcc (GCC) 8.5.0 20210514 (Red Hat 8.5.0-22) Red Hat Enterprise Linux 9.5 Kernel: 5.15 Compiler: gcc gcc (GCC) 11.5.0 20240719 (Red Hat 11.5.0-2) Ubuntu 22.04 Kernel: 5.15 Compiler: gcc gcc (Ubuntu 11.4.0-1ubuntu1~22.04) 11.4.0 Ubuntu 24.04 Kernel: 5.15 Compiler: gcc gcc (Ubuntu 13.3.0-6ubuntu2~24.04) 13.3.0 To view detailed results, visit: https://lab.dpdk.org/results/dashboard/patchsets/33542/ UNH-IOL DPDK Community Lab To manage your email subscriptions, visit: https://lab.dpdk.org/results/dashboard/preferences/subscriptions/