From mboxrd@z Thu Jan 1 00:00:00 1970 Return-Path: Received: from mails.dpdk.org (mails.dpdk.org [217.70.189.124]) by inbox.dpdk.org (Postfix) with ESMTP id 9FF6646AA0 for ; Mon, 30 Jun 2025 19:02:47 +0200 (CEST) Received: from mails.dpdk.org (localhost [127.0.0.1]) by mails.dpdk.org (Postfix) with ESMTP id 7DB644025D; Mon, 30 Jun 2025 19:02:47 +0200 (CEST) Received: from mail-pg1-f226.google.com (mail-pg1-f226.google.com [209.85.215.226]) by mails.dpdk.org (Postfix) with ESMTP id 991A34025D for ; Mon, 30 Jun 2025 19:02:45 +0200 (CEST) Received: by mail-pg1-f226.google.com with SMTP id 41be03b00d2f7-b350704f506so1140465a12.0 for ; Mon, 30 Jun 2025 10:02:45 -0700 (PDT) DKIM-Signature: v=1; a=rsa-sha256; c=relaxed/relaxed; d=iol.unh.edu; s=unh-iol; t=1751302965; x=1751907765; darn=dpdk.org; h=references:in-reply-to:cc:to:from:subject:message-id:date:from:to :cc:subject:date:message-id:reply-to; bh=ctskuUVzAoNQtZVKMUyKsz0ldvDiCMxT23WaUoPXG0o=; b=FwB3UV9Ao7WxUj9jZ0AEbreHszC3uPdqNVkqfGQm1dnUFBM6uMjeK2pg/d1fl1KDbD LWDfxblXELs8g9gaz9Q4k8iKZQGNd9JNvyZrK/iJPGADSYQS7V+CfN1Lj6XXKJKbSrBN cfQdOMmYs3YLP9fbEShNnDpEhzEyE6U5555tE= X-Google-DKIM-Signature: v=1; a=rsa-sha256; c=relaxed/relaxed; d=1e100.net; s=20230601; t=1751302965; x=1751907765; h=references:in-reply-to:cc:to:from:subject:message-id:date :x-gm-message-state:from:to:cc:subject:date:message-id:reply-to; bh=ctskuUVzAoNQtZVKMUyKsz0ldvDiCMxT23WaUoPXG0o=; b=TBFN6vUsJ6CDlL4BtzyhgDfDXo5oKxhaY4K61iYty7ni+W9C/OaENWNi690A+FA45u f+2idrtUtPjNEOfF31NDS001mAVDM183D9dOua/oXATkZ2ekbMT4NXOUnfudOZvRTCLa cY8KM+QZal1QDtcu/VBMqSY2xOgevIQlmWn2MOTeSnyFZgUesP2yQJQtfW94Duqtm/tM x8lTLk6vAkKvWyQASr1Sc/VDwY5tvpdqSwNH0L99Ld6YVUXqeAG+OgZ8fN1iMxaILqIF BEue/PyzazVPKa+UzFmviqZ0oiOg8Xk6Qn7Ztnn3UK+06QMngZ3Nf3K29iEXf5jRsBhC Z6sQ== X-Gm-Message-State: AOJu0Yx2pOEBB9Xa/666OkSXutX5otUg7mYm7wDcelh8IC4Z37Grw3QZ IeZBVEl3qunPd2XB9OGNO6ab0MNH5DtGgChJyYuSS8/7O9tR7TgvUZMfT8QC61SuBrheOWgQ5az U8tly2f/3nl9RaLV/aZLtmhBd6ByVACSHJGFq0cL6n9Vw X-Gm-Gg: ASbGncsGx37i5Lt7f3nVJQEUme+0YU8zu7RoAc0htRAyj/2vmTtFi8sKlyW0gR24O1I RJz6anb4DpU7cbL77ufFlQb2Ro9LvH4f+GDP0RlCqB498KXdPB5E/iJ6daacxEVOYV1R13CcMXI s20rwJ9yWiczPbHvymIh3TZYz28DfFOuzzWCAkJzz/jgXwfU1km07jrPN60r6EVWW23bbTW7mQO /fWcePLWK3IuOkd0bmdODnb5S1vsVKzk6vGmnNO6zqr13F4jruuAp+vRwbHRb8SgadV1nXIJsrs KAvvf5zu7wi0i5NnpZg8E6JwavtYXGUDn6sRmSI95JaEb/O0zOfCar77SEIOsPR/7IRvXg== X-Google-Smtp-Source: AGHT+IHdsGTf5mMG8cgqcj7dESyDUdjGGSH2priILqFxLbaeXzfZ+HPvsT3xC5TXXp8e+KGT+ku2MM7W9fsH X-Received: by 2002:a17:90b:3f8b:b0:302:fc48:4f0a with SMTP id 98e67ed59e1d1-319399cd071mr571551a91.0.1751302964260; Mon, 30 Jun 2025 10:02:44 -0700 (PDT) Received: from postal.iol.unh.edu (postal.iol.unh.edu. [132.177.123.84]) by smtp-relay.gmail.com with ESMTPS id 98e67ed59e1d1-318c14c5601sm285217a91.15.2025.06.30.10.02.44 (version=TLS1_2 cipher=ECDHE-ECDSA-AES128-GCM-SHA256 bits=128/128); Mon, 30 Jun 2025 10:02:44 -0700 (PDT) X-Relaying-Domain: iol.unh.edu Date: Mon, 30 Jun 2025 10:02:44 -0700 (PDT) Message-ID: <6862c334.170a0220.170e91.f175SMTPIN_ADDED_MISSING@mx.google.com> Received: from [172.21.0.5] (unknown [172.18.0.240]) by postal.iol.unh.edu (Postfix) with ESMTP id 72C0D604D420; Mon, 30 Jun 2025 13:02:43 -0400 (EDT) Subject: |SUCCESS| pw154860 [PATCH] [v2] test/argparse: change initialization From: dpdklab@iol.unh.edu To: Test Report Cc: dpdk-test-reports@iol.unh.edu In-Reply-To: <20250630145934.56969-1-stephen@networkplumber.org> References: <20250630145934.56969-1-stephen@networkplumber.org> Content-Type: text/plain X-BeenThere: test-report@dpdk.org X-Mailman-Version: 2.1.29 Precedence: list List-Id: automatic DPDK test reports List-Unsubscribe: , List-Archive: List-Post: List-Help: List-Subscribe: , Errors-To: test-report-bounces@dpdk.org Test-Label: iol-compile-amd64-testing Test-Status: SUCCESS http://dpdk.org/patch/154860 _Testing PASS_ Submitter: Stephen Hemminger Date: Monday, June 30 2025 14:58:49 DPDK git baseline: Repo:dpdk Branch: master CommitID:20460dcffd08a4680f881c39916ae783ee830374 154860 --> testing pass Upstream job id: Windows-Compile-DPDK-Native#29452 Test environment and result as below: +---------------------+-------------------+--------------------+-------------------------+ | Environment | dpdk_msvc_compile | dpdk_meson_compile | dpdk_llvm_clang_compile | +=====================+===================+====================+=========================+ | Windows Server 2022 | PASS | SKIPPED | PASS | +---------------------+-------------------+--------------------+-------------------------+ | FreeBSD 14.2 | SKIPPED | PASS | SKIPPED | +---------------------+-------------------+--------------------+-------------------------+ | Ubuntu 20.04 | SKIPPED | PASS | SKIPPED | +---------------------+-------------------+--------------------+-------------------------+ Windows Server 2022 Kernel: 10.0.20348.2031 Compiler: clang 15.0.7, gcc 14.1.0 (MinGW), and MSVC VS 19.39.33521 FreeBSD 14.2 Kernel: 14.2-RELEASE Compiler: clang 18.1.6 Ubuntu 20.04 Kernel: 4.19 Compiler: gcc gcc (Ubuntu 9.4.0-1ubuntu1~20.04.2) 9.4.0 To view detailed results, visit: https://lab.dpdk.org/results/dashboard/patchsets/33545/ UNH-IOL DPDK Community Lab To manage your email subscriptions, visit: https://lab.dpdk.org/results/dashboard/preferences/subscriptions/