From mboxrd@z Thu Jan 1 00:00:00 1970 Return-Path: Received: from mails.dpdk.org (mails.dpdk.org [217.70.189.124]) by inbox.dpdk.org (Postfix) with ESMTP id BFE6546AA0 for ; Mon, 30 Jun 2025 19:15:54 +0200 (CEST) Received: from mails.dpdk.org (localhost [127.0.0.1]) by mails.dpdk.org (Postfix) with ESMTP id 9BA5F4025D; Mon, 30 Jun 2025 19:15:54 +0200 (CEST) Received: from mail-qk1-f227.google.com (mail-qk1-f227.google.com [209.85.222.227]) by mails.dpdk.org (Postfix) with ESMTP id 22C654025D for ; Mon, 30 Jun 2025 19:15:53 +0200 (CEST) Received: by mail-qk1-f227.google.com with SMTP id af79cd13be357-7d3efcb9bd6so464679185a.1 for ; Mon, 30 Jun 2025 10:15:53 -0700 (PDT) DKIM-Signature: v=1; a=rsa-sha256; c=relaxed/relaxed; d=iol.unh.edu; s=unh-iol; t=1751303752; x=1751908552; darn=dpdk.org; h=references:in-reply-to:cc:to:from:subject:message-id:date:from:to :cc:subject:date:message-id:reply-to; bh=TUaXavhs+G0j5ywa0SO+QdYg+JgWyFo/Kb+EwqupGXI=; b=UCMEfEzjqhvTZXLN5OS3wo8516C3fqRYaTOIL4GupPhHDeY5H7memUhT9cfF6s/uCy BGJRpuSaknExMPfyIglaOItiRC+P+fbMCUcESBH1Jr3I9+LvpwuLsJt8eA0uwW6DtkQF KoacySfPx2fo0Rmze/TT19x+z3U4XSoK4CHKI= X-Google-DKIM-Signature: v=1; a=rsa-sha256; c=relaxed/relaxed; d=1e100.net; s=20230601; t=1751303752; x=1751908552; h=references:in-reply-to:cc:to:from:subject:message-id:date :x-gm-message-state:from:to:cc:subject:date:message-id:reply-to; bh=TUaXavhs+G0j5ywa0SO+QdYg+JgWyFo/Kb+EwqupGXI=; b=SrpjE2/rA/x9awEUKy8tkV15A9/N/UU11zWzsSDnjvYs9rd8qMrd9EHCcdnmP8j72h fqBBeIvNQq1RwVTY3UNTTow9Io8vYM57mb7tJVbAJJt0d3DE75KnesC7migVleMWh36c C+VR3FcgS7m3Vs0ZC+PAms8ehbV45CSwUIIcL3ByLxj0FDA9EueM+W3quusUvJysT0EF lAnIO+aGsWdUmXjJJQpNMSJdDp9zsuBbiL0S0ibFI69K6sdRwjOyKjE4HMjDk3rkwi8h LdLnu2g72WFPy/izMWpg74DY6OJ4eIRcKk9sEvrFXf4j5g8AZtgZcsL9CVef/FE5F4yc Vq9g== X-Gm-Message-State: AOJu0YwXDIKAM4OJBKV06RoCs8vzr9A2u8F3shYNJNuLhSZu124wmSTe WtTNYituNKpN39zIj7PcrnMvyWBrF+pJLNZ9fYBN1FIZhROccFt/Hwdaj6XAZ1tcCK0KQu4gZO9 8VczCykpuU+p8BmAFz2cmqBRhkkDrcYpp5o6q+Mgm+XUEScz80+GB9ARj/El+ X-Gm-Gg: ASbGnctL/oWjIAeTKsC5XP2sb+K3N5IIzn9kVJpHZUm7j2cQ/gs4HyrV8FLVAvV45ab T++kAuvr55dGxyj4ER/8TEClNuEjRdhplezxUns3Dsr2k6QsPxlLsYF/bJz/qozWa+Em72JRhbS 20pP8UJy9qlJ/YNLxqYr3CAkCOAz2gzKC6gNKzuF3Z17NCNYgQVbVkzbem+oIeHG7QgYUVgilJF jXbNUTbvh4GKpmGx4MBmVFHu6OCcXTYWRnXczB55CkL0mC+d/DSmetbhGspIjV/eeeoQtH/jvZg z7kI7G7h2mo2p/l11aaP1FP6ZTleGLhPLezCczKRuUqWpBU= X-Google-Smtp-Source: AGHT+IH5uhWP98OcUmc3KjFSJCTNrbwxQHDQjeKt/g8JCfJXFki20KsvUMbe+snKHYFute90SHb6fl2NB+uq X-Received: by 2002:a05:620a:4492:b0:7d4:6411:a99b with SMTP id af79cd13be357-7d46411bdb8mr224926385a.15.1751303752162; Mon, 30 Jun 2025 10:15:52 -0700 (PDT) Received: from postal.iol.unh.edu (postal.iol.unh.edu. [2606:4100:3880:1234::84]) by smtp-relay.gmail.com with ESMTPS id 6a1803df08f44-6fd772a2617sm5420776d6.67.2025.06.30.10.15.52 (version=TLS1_2 cipher=ECDHE-ECDSA-AES128-GCM-SHA256 bits=128/128); Mon, 30 Jun 2025 10:15:52 -0700 (PDT) X-Relaying-Domain: iol.unh.edu Date: Mon, 30 Jun 2025 10:15:52 -0700 (PDT) Message-ID: <6862c648.d40a0220.2dd8e3.d03fSMTPIN_ADDED_MISSING@mx.google.com> Received: from [172.21.0.5] (unknown [172.18.0.240]) by postal.iol.unh.edu (Postfix) with ESMTP id E754A604D420; Mon, 30 Jun 2025 13:15:51 -0400 (EDT) Subject: |SUCCESS| pw154850-154856 [PATCH] [7/7] net/ena: upgrade driver vers From: dpdklab@iol.unh.edu To: Test Report Cc: dpdk-test-reports@iol.unh.edu In-Reply-To: <20250630111624.3677-1-shaibran@amazon.com> References: <20250630111624.3677-1-shaibran@amazon.com> Content-Type: text/plain X-BeenThere: test-report@dpdk.org X-Mailman-Version: 2.1.29 Precedence: list List-Id: automatic DPDK test reports List-Unsubscribe: , List-Archive: List-Post: List-Help: List-Subscribe: , Errors-To: test-report-bounces@dpdk.org Test-Label: iol-unit-amd64-testing Test-Status: SUCCESS http://dpdk.org/patch/154856 _Testing PASS_ Submitter: Brandes, Shai Date: Monday, June 30 2025 11:16:24 DPDK git baseline: Repo:dpdk Branch: master CommitID:798e267824a5b9018fff6e0dc37e9a9f1f73e8fb 154850-154856 --> testing pass Upstream job id: Generic-Unit-Test-DPDK#351115 Test environment and result as below: +-------------------------------+----------------+ | Environment | dpdk_unit_test | +===============================+================+ | CentOS Stream 10 | PASS | +-------------------------------+----------------+ | Fedora Linux 40 | PASS | +-------------------------------+----------------+ | Debian GNU/Linux 12 | PASS | +-------------------------------+----------------+ | CentOS Stream 9 | PASS | +-------------------------------+----------------+ | Red Hat Enterprise Linux 9.5 | PASS | +-------------------------------+----------------+ | Ubuntu 20.04 | PASS | +-------------------------------+----------------+ | Fedora Linux 41 | PASS | +-------------------------------+----------------+ | Red Hat Enterprise Linux 8.10 | PASS | +-------------------------------+----------------+ | Ubuntu 22.04 | PASS | +-------------------------------+----------------+ | Ubuntu 24.04 | PASS | +-------------------------------+----------------+ | Windows Server 2022 | PASS | +-------------------------------+----------------+ CentOS Stream 10 Kernel: 5.15 Compiler: gcc gcc (GCC) 14.2.1 20250110 (Red Hat 14.2.1-8) Fedora Linux 40 Kernel: 5.15 Compiler: gcc gcc (GCC) 14.2.1 20240912 (Red Hat 14.2.1-3) Debian GNU/Linux 12 Kernel: 5.15 Compiler: gcc gcc (Debian 12.2.0-14+deb12u1) 12.2.0 CentOS Stream 9 Kernel: 5.15 Compiler: gcc gcc (GCC) 11.5.0 20240719 (Red Hat 11.5.0-7) Red Hat Enterprise Linux 9.5 Kernel: 5.15 Compiler: gcc gcc (GCC) 11.5.0 20240719 (Red Hat 11.5.0-2) Ubuntu 20.04 Kernel: 5.15 Compiler: gcc gcc (Ubuntu 9.4.0-1ubuntu1~20.04.2) 9.4.0 Fedora Linux 41 Kernel: 5.15 Compiler: clang gcc (GCC) 14.3.1 20250523 (Red Hat 14.3.1-1) Red Hat Enterprise Linux 8.10 Kernel: 5.15 Compiler: gcc gcc (GCC) 8.5.0 20210514 (Red Hat 8.5.0-22) Ubuntu 22.04 Kernel: 5.15 Compiler: gcc gcc (Ubuntu 11.4.0-1ubuntu1~22.04) 11.4.0 Ubuntu 24.04 Kernel: 5.15 Compiler: gcc gcc (Ubuntu 13.3.0-6ubuntu2~24.04) 13.3.0 Windows Server 2022 Kernel: 10.0.20348.2031 Compiler: clang 15.0.7, gcc 14.1.0 (MinGW), and MSVC VS 19.39.33521 To view detailed results, visit: https://lab.dpdk.org/results/dashboard/patchsets/33543/ UNH-IOL DPDK Community Lab To manage your email subscriptions, visit: https://lab.dpdk.org/results/dashboard/preferences/subscriptions/