From mboxrd@z Thu Jan 1 00:00:00 1970 Return-Path: Received: from mails.dpdk.org (mails.dpdk.org [217.70.189.124]) by inbox.dpdk.org (Postfix) with ESMTP id BD3CE46AA0 for ; Mon, 30 Jun 2025 19:16:55 +0200 (CEST) Received: from mails.dpdk.org (localhost [127.0.0.1]) by mails.dpdk.org (Postfix) with ESMTP id B78D74025D; Mon, 30 Jun 2025 19:16:55 +0200 (CEST) Received: from mail-yw1-f227.google.com (mail-yw1-f227.google.com [209.85.128.227]) by mails.dpdk.org (Postfix) with ESMTP id 0B1FA4025D for ; Mon, 30 Jun 2025 19:16:54 +0200 (CEST) Received: by mail-yw1-f227.google.com with SMTP id 00721157ae682-70e77831d68so25325297b3.2 for ; Mon, 30 Jun 2025 10:16:53 -0700 (PDT) DKIM-Signature: v=1; a=rsa-sha256; c=relaxed/relaxed; d=iol.unh.edu; s=unh-iol; t=1751303813; x=1751908613; darn=dpdk.org; h=references:in-reply-to:cc:to:from:subject:message-id:date:from:to :cc:subject:date:message-id:reply-to; bh=5A1o7eLOIEgm9BWFam5zgitOibdwKSB+UkFeTNverQc=; b=bbnvQBf/Z5avAj253miNleqdrSOZt4wXKIYNAuai4Y7LUfp6lrG/SgSZ8FOyZI2ZBO lwM2e2vaBw3m9floKCEUmdjr8idmCtwReZPbB/+4oSqn1WUOfHLZBBwn1IaOJQpErix3 YY9xTCrg45FCqHCnPy1Tq6qpFWBZamcxMkWJU= X-Google-DKIM-Signature: v=1; a=rsa-sha256; c=relaxed/relaxed; d=1e100.net; s=20230601; t=1751303813; x=1751908613; h=references:in-reply-to:cc:to:from:subject:message-id:date :x-gm-message-state:from:to:cc:subject:date:message-id:reply-to; bh=5A1o7eLOIEgm9BWFam5zgitOibdwKSB+UkFeTNverQc=; b=QEfGKxk++PGb4SKgySodhInmcsfxtX9/HEa8rNLL82BBYYoa/a8R+vGoQjbx2nHDVe dqxr47sHY/4EgqsT0+7YO0RtykFcZLljtdz6wzrdyZajy2FKZOH19yS1UC+ZeJ6c0BBM w+6ttXgM3cEXpJLq9QGkr5VDdStH70mnVYaGb7wdmtUQlx4nqHfl8tnf0+x4Oc8nS8Yv u6MD+vGg4uHxFQnr6FIyM+52SwDapYSxNKUXInNFjU3FxWbVUyV69o5jC9LNY1/FV0iX JrlHStDOl/0zorvGFUu4vqDAJ4GyeUMIcpOpozXYKq7xjldnTmk8qG42a97v59iiv6WV ckAg== X-Gm-Message-State: AOJu0Yy30cshqEcGO+T+1KO2kh8hE3RQ21tmf0QnGkc0tPFSogphobog 1etu9XY9koMo1PT9yqhRce/w6xblDSac1wRyIGs7RWNkzcYp9irInccV0QKESTnNkCVRsnXktju AHM+YkYCX+rP2iIenNUbb1a/TT9E6AzxiHxHX1k9mF7OI X-Gm-Gg: ASbGncsegAOK36NCFJyxtAEdaL4tEKowceW4/RoDZDkHP4lIXbX2s2s7wUROUVfxSv2 ZX3Rr+422KhBK2sbTHg21xLXlHDHIvJQSj9zCqPnfnAwiFHdl3zQwcDN/TChJoHnC8kaun2BFvD JD/mCwrEIG/Da5CgK9cyegFHdKK7nx+HsZLJtjONJp62uwdJ06AnzYtU5OEsLTzmQ1TYq980ocE zMv6CUfMAn2RjgzxF2S9gZZ9slG66dYOZAUIHYC+YMf4dVMck/MraLHq8W5EhGfjt1OQpcNLbcp NhYlErduWd2xehsfu6kefSQT1Y1bLFAqykysnFPtWvHP6ZUZhaVrFjKlyPWC2x7ftD9c8w== X-Google-Smtp-Source: AGHT+IFrELjhAddLLquYoH9ra/hCQAsV17SzOof/bfJLqa9tnjkACrSlqY/QBdnYibAY3PB3jPDeQWgb6q4g X-Received: by 2002:a05:690c:608a:b0:70d:ff2a:d69a with SMTP id 00721157ae682-7151719a2c3mr222977397b3.27.1751303813362; Mon, 30 Jun 2025 10:16:53 -0700 (PDT) Received: from postal.iol.unh.edu (postal.iol.unh.edu. [132.177.123.84]) by smtp-relay.gmail.com with ESMTPS id 00721157ae682-71515a6b2absm2852897b3.0.2025.06.30.10.16.53 (version=TLS1_2 cipher=ECDHE-ECDSA-AES128-GCM-SHA256 bits=128/128); Mon, 30 Jun 2025 10:16:53 -0700 (PDT) X-Relaying-Domain: iol.unh.edu Date: Mon, 30 Jun 2025 10:16:53 -0700 (PDT) Message-ID: <6862c685.050a0220.315b33.1958SMTPIN_ADDED_MISSING@mx.google.com> Received: from [172.21.0.5] (unknown [172.18.0.240]) by postal.iol.unh.edu (Postfix) with ESMTP id 03568604D420; Mon, 30 Jun 2025 13:16:53 -0400 (EDT) Subject: |SUCCESS| pw154848 [PATCH] node: fix C++ compatibility errors (optio From: dpdklab@iol.unh.edu To: Test Report Cc: dpdk-test-reports@iol.unh.edu In-Reply-To: <20250630104939.2265866-2-bruce.richardson@intel.com> References: <20250630104939.2265866-2-bruce.richardson@intel.com> Content-Type: text/plain X-BeenThere: test-report@dpdk.org X-Mailman-Version: 2.1.29 Precedence: list List-Id: automatic DPDK test reports List-Unsubscribe: , List-Archive: List-Post: List-Help: List-Subscribe: , Errors-To: test-report-bounces@dpdk.org Test-Label: iol-unit-arm64-testing Test-Status: SUCCESS http://dpdk.org/patch/154848 _Testing PASS_ Submitter: Bruce Richardson Date: Monday, June 30 2025 10:49:40 DPDK git baseline: Repo:dpdk Branch: master CommitID:20460dcffd08a4680f881c39916ae783ee830374 154848 --> testing pass Upstream job id: Generic-Unit-Test-DPDK#351093 Test environment and result as below: +------------------------------+----------------+--------------+---------------------------+------------------------------+ | Environment | dpdk_unit_test | lpm_autotest | cryptodev_sw_zuc_autotest | cryptodev_sw_snow3g_autotest | +==============================+================+==============+===========================+==============================+ | CentOS Stream 9 | PASS | SKIPPED | SKIPPED | SKIPPED | +------------------------------+----------------+--------------+---------------------------+------------------------------+ | Debian GNU/Linux 12 | PASS | SKIPPED | SKIPPED | SKIPPED | +------------------------------+----------------+--------------+---------------------------+------------------------------+ | CentOS Stream 10 | PASS | SKIPPED | SKIPPED | SKIPPED | +------------------------------+----------------+--------------+---------------------------+------------------------------+ | Fedora Linux 40 | PASS | SKIPPED | SKIPPED | SKIPPED | +------------------------------+----------------+--------------+---------------------------+------------------------------+ | Fedora Linux 41 | PASS | SKIPPED | SKIPPED | SKIPPED | +------------------------------+----------------+--------------+---------------------------+------------------------------+ | Red Hat Enterprise Linux 9.5 | PASS | SKIPPED | SKIPPED | SKIPPED | +------------------------------+----------------+--------------+---------------------------+------------------------------+ | Ubuntu 20.04 | PASS | PASS | SKIPPED | SKIPPED | +------------------------------+----------------+--------------+---------------------------+------------------------------+ | Ubuntu 22.04 | PASS | SKIPPED | SKIPPED | SKIPPED | +------------------------------+----------------+--------------+---------------------------+------------------------------+ | Ubuntu 24.04 | PASS | SKIPPED | SKIPPED | SKIPPED | +------------------------------+----------------+--------------+---------------------------+------------------------------+ | Debian 12 (arm) | SKIPPED | SKIPPED | PASS | PASS | +------------------------------+----------------+--------------+---------------------------+------------------------------+ CentOS Stream 9 Kernel: 5.4 Compiler: gcc gcc (GCC) 11.5.0 20240719 (Red Hat 11.5.0-7) Debian GNU/Linux 12 Kernel: 5.4 Compiler: gcc gcc (Debian 12.2.0-14+deb12u1) 12.2.0 CentOS Stream 10 Kernel: 5.4 Compiler: gcc gcc (GCC) 14.2.1 20250110 (Red Hat 14.2.1-8) Fedora Linux 40 Kernel: 5.4 Compiler: clang gcc (GCC) 14.2.1 20240912 (Red Hat 14.2.1-3) Fedora Linux 41 Kernel: 5.4 Compiler: clang gcc (GCC) 14.3.1 20250523 (Red Hat 14.3.1-1) Red Hat Enterprise Linux 9.5 Kernel: 5.4 Compiler: gcc gcc (GCC) 11.5.0 20240719 (Red Hat 11.5.0-2) Ubuntu 20.04 Kernel: 5.4 Compiler: gcc gcc (Ubuntu 9.4.0-1ubuntu1~20.04.2) 9.4.0 Ubuntu 22.04 Kernel: 5.4 Compiler: gcc gcc (Ubuntu 11.4.0-1ubuntu1~22.04) 11.4.0 Ubuntu 24.04 Kernel: 5.4 Compiler: gcc gcc (Ubuntu 13.3.0-6ubuntu2~24.04) 13.3.0 Debian 12 (arm) Kernel: Depends on container host Compiler: gcc (Debian 12.2.0-14) 12.2.0 To view detailed results, visit: https://lab.dpdk.org/results/dashboard/patchsets/33541/ UNH-IOL DPDK Community Lab To manage your email subscriptions, visit: https://lab.dpdk.org/results/dashboard/preferences/subscriptions/