From mboxrd@z Thu Jan 1 00:00:00 1970 Return-Path: Received: from mails.dpdk.org (mails.dpdk.org [217.70.189.124]) by inbox.dpdk.org (Postfix) with ESMTP id CE37746AA0 for ; Mon, 30 Jun 2025 19:17:22 +0200 (CEST) Received: from mails.dpdk.org (localhost [127.0.0.1]) by mails.dpdk.org (Postfix) with ESMTP id C6BE54025D; Mon, 30 Jun 2025 19:17:22 +0200 (CEST) Received: from mail-pl1-f226.google.com (mail-pl1-f226.google.com [209.85.214.226]) by mails.dpdk.org (Postfix) with ESMTP id 7FC284025D for ; Mon, 30 Jun 2025 19:17:21 +0200 (CEST) Received: by mail-pl1-f226.google.com with SMTP id d9443c01a7336-23694cec0feso45624625ad.2 for ; Mon, 30 Jun 2025 10:17:21 -0700 (PDT) DKIM-Signature: v=1; a=rsa-sha256; c=relaxed/relaxed; d=iol.unh.edu; s=unh-iol; t=1751303840; x=1751908640; darn=dpdk.org; h=references:in-reply-to:cc:to:from:subject:message-id:date:from:to :cc:subject:date:message-id:reply-to; bh=rC2heD5a7FKDTBfoe114hknGxE9DWKJKeJAQcEBEWXw=; b=LyOaNaqebUW81pnMzC8Om/Gn9B6sXnGxagnrFa3UV8O0OiuSgbtzRgmCqPL1kBskYf MvhUtcA8GXnYJoXcrmEx/FcanqtRPSN2YUR8YEcV8qB6nDuX3jYiC44xIL8G5wZYNlIy mh/0UhImj5ZuJtOhvMm7IzXt4My3KjHjMUK4A= X-Google-DKIM-Signature: v=1; a=rsa-sha256; c=relaxed/relaxed; d=1e100.net; s=20230601; t=1751303840; x=1751908640; h=references:in-reply-to:cc:to:from:subject:message-id:date :x-gm-message-state:from:to:cc:subject:date:message-id:reply-to; bh=rC2heD5a7FKDTBfoe114hknGxE9DWKJKeJAQcEBEWXw=; b=JH/sHRHrZitVbfZ3nJuxrVGCJ7JQJRczyeNCc0s934FIob7G/zebJsgrJaq4Y9eSGv RNCa3HoAWIkhtmVL+gZMXIhPS59inJcWglmBU6Qu+2d9GEkH/Ah8LJRj0HkYeyXlSLQ5 7FXGEWqThK4/CXmwn5l1pitPvpgOsItHAZWeBXr74SWFczfAvO8t0zAOL+Ip3AAZ6LD5 4n22XUzkyujNVZRcl0gHFV+DubD1uprOtid6VUF0uSoRAMgTv1cx174p7pxcZ784VBhw 35xxvvp3RE7pUGSLwfhrwZxHZXFunWat3luZkX4kSaH2W5zow1XmJsIVuS8H4ZQ7Kmk7 5QzQ== X-Gm-Message-State: AOJu0YxpW1sjTLp97p8/dF0ruCBtkPUX3404I1ZtFD1wIxwpI46pzDYj ij2kKnsQwkZes5MumUaXuew3U4hDDGx1do7C1/qJ0D6yV9vMZev0x3ReKClxOTKiyyRvAntS0E1 VBQCWciKBHe9h7149eE0aMztC2IfFXJlvD5tNICu+eXkGjbJR7ov8u4trtxiU X-Gm-Gg: ASbGncvDixYe3Sde1dqVCsgJMV3sXye+2iwRt3EYRDpBzrKoKxJbTCho+GO/nWMSePD 1ArMsDu2OMVuTj+ooghZbLLKo7fOnN7koe23JYUPvdFHJLAqeDvNgzzD9NEq1H+yz/zm1bIxMmA rb9Vxq26ft9Ux4JUTMiZw/1h+nQ3ijzWGmzUROj3ESRvaqoP+jEvvnOFxXNHGKyQkdZRcOJjmsd l3jF6pD9alm3i2dyhNOMOyB3OYILrIgPAlVWNral+G/egBCeXOgA1vwj+GThtf+5F0csGcVALZ4 MiisMhr9Nris2VjS7A0FK5HGbBk1NYmg3je6SZfkykrq9Co= X-Google-Smtp-Source: AGHT+IERtCRFym6H3VrAv4uM6XabHJLsM0CF42H98U7eMuVPsw1I9NONQt1qnfTdyM3nmhMQNv4fy1OdxYmG X-Received: by 2002:a17:903:1a70:b0:236:6f5f:caaf with SMTP id d9443c01a7336-23ac40f4e43mr217387275ad.15.1751303840195; Mon, 30 Jun 2025 10:17:20 -0700 (PDT) Received: from postal.iol.unh.edu (postal.iol.unh.edu. [2606:4100:3880:1234::84]) by smtp-relay.gmail.com with ESMTPS id d9443c01a7336-23acb2fa59asm4461255ad.55.2025.06.30.10.17.20 (version=TLS1_2 cipher=ECDHE-ECDSA-AES128-GCM-SHA256 bits=128/128); Mon, 30 Jun 2025 10:17:20 -0700 (PDT) X-Relaying-Domain: iol.unh.edu Date: Mon, 30 Jun 2025 10:17:20 -0700 (PDT) Message-ID: <6862c6a0.170a0220.2c6357.891eSMTPIN_ADDED_MISSING@mx.google.com> Received: from [172.21.0.6] (unknown [172.18.0.240]) by postal.iol.unh.edu (Postfix) with ESMTP id A8393604D420; Mon, 30 Jun 2025 13:17:19 -0400 (EDT) Subject: |WARNING| pw154849 [PATCH] node: fix C++ compatibility errors (optio From: dpdklab@iol.unh.edu To: Test Report Cc: dpdk-test-reports@iol.unh.edu In-Reply-To: <20250630105025.2265901-1-bruce.richardson@intel.com> References: <20250630105025.2265901-1-bruce.richardson@intel.com> Content-Type: text/plain X-BeenThere: test-report@dpdk.org X-Mailman-Version: 2.1.29 Precedence: list List-Id: automatic DPDK test reports List-Unsubscribe: , List-Archive: List-Post: List-Help: List-Subscribe: , Errors-To: test-report-bounces@dpdk.org Test-Label: iol-compile-amd64-testing Test-Status: WARNING http://dpdk.org/patch/154849 _Testing issues_ Submitter: Bruce Richardson Date: Monday, June 30 2025 10:50:14 DPDK git baseline: Repo:dpdk Branch: master CommitID:20460dcffd08a4680f881c39916ae783ee830374 154849 --> testing issues Upstream job id: Generic-DPDK-Compile-Meson#403703 Test environment and result as below: +-------------------------------+--------------------+-------------------+------------------+-------------------+-------------------------+----------------------+ | Environment | dpdk_meson_compile | dpdk_compile_spdk | dpdk_compile_ovs | dpdk_msvc_compile | dpdk_llvm_clang_compile | dpdk_mingw64_compile | +===============================+====================+===================+==================+===================+=========================+======================+ | CentOS Stream 10 | PASS | SKIPPED | SKIPPED | SKIPPED | SKIPPED | SKIPPED | +-------------------------------+--------------------+-------------------+------------------+-------------------+-------------------------+----------------------+ | Debian GNU/Linux 12 | PASS | PASS | SKIPPED | SKIPPED | SKIPPED | SKIPPED | +-------------------------------+--------------------+-------------------+------------------+-------------------+-------------------------+----------------------+ | Fedora Linux 40 | PASS | PASS | SKIPPED | SKIPPED | SKIPPED | SKIPPED | +-------------------------------+--------------------+-------------------+------------------+-------------------+-------------------------+----------------------+ | Fedora Linux 41 | PEND | PEND | PEND | SKIPPED | SKIPPED | SKIPPED | +-------------------------------+--------------------+-------------------+------------------+-------------------+-------------------------+----------------------+ | openSUSE Leap 15.6 | PEND | SKIPPED | SKIPPED | SKIPPED | SKIPPED | SKIPPED | +-------------------------------+--------------------+-------------------+------------------+-------------------+-------------------------+----------------------+ | Ubuntu 20.04 | PASS | SKIPPED | SKIPPED | SKIPPED | SKIPPED | SKIPPED | +-------------------------------+--------------------+-------------------+------------------+-------------------+-------------------------+----------------------+ | Red Hat Enterprise Linux 8.10 | PASS | SKIPPED | SKIPPED | SKIPPED | SKIPPED | SKIPPED | +-------------------------------+--------------------+-------------------+------------------+-------------------+-------------------------+----------------------+ | Ubuntu 22.04 | PEND | PEND | SKIPPED | SKIPPED | SKIPPED | SKIPPED | +-------------------------------+--------------------+-------------------+------------------+-------------------+-------------------------+----------------------+ | Red Hat Enterprise Linux 9.5 | PASS | SKIPPED | SKIPPED | SKIPPED | SKIPPED | SKIPPED | +-------------------------------+--------------------+-------------------+------------------+-------------------+-------------------------+----------------------+ | Ubuntu 24.04 | PEND | PEND | PEND | SKIPPED | SKIPPED | SKIPPED | +-------------------------------+--------------------+-------------------+------------------+-------------------+-------------------------+----------------------+ | Alpine Linux 3.22.0 | PEND | SKIPPED | SKIPPED | SKIPPED | SKIPPED | SKIPPED | +-------------------------------+--------------------+-------------------+------------------+-------------------+-------------------------+----------------------+ | FreeBSD 14.2 | PASS | SKIPPED | SKIPPED | SKIPPED | SKIPPED | SKIPPED | +-------------------------------+--------------------+-------------------+------------------+-------------------+-------------------------+----------------------+ | CentOS Stream 9 | PEND | PEND | SKIPPED | SKIPPED | SKIPPED | SKIPPED | +-------------------------------+--------------------+-------------------+------------------+-------------------+-------------------------+----------------------+ | Windows Server 2022 | SKIPPED | SKIPPED | SKIPPED | PASS | PASS | PASS | +-------------------------------+--------------------+-------------------+------------------+-------------------+-------------------------+----------------------+ CentOS Stream 10 Kernel: 5.15 Compiler: gcc gcc (GCC) 14.2.1 20250110 (Red Hat 14.2.1-8) Debian GNU/Linux 12 Kernel: 5.15 Compiler: gcc gcc (Debian 12.2.0-14+deb12u1) 12.2.0 Fedora Linux 40 Kernel: 5.15 Compiler: clang gcc (GCC) 14.2.1 20240912 (Red Hat 14.2.1-3) Fedora Linux 41 Kernel: 5.15 Compiler: gcc gcc (GCC) 14.3.1 20250523 (Red Hat 14.3.1-1) openSUSE Leap 15.6 Kernel: 5.15 Compiler: gcc gcc (SUSE Linux) 7.5.0 Ubuntu 20.04 Kernel: 5.15 Compiler: gcc gcc (Ubuntu 9.4.0-1ubuntu1~20.04.2) 9.4.0 Red Hat Enterprise Linux 8.10 Kernel: 5.15 Compiler: gcc gcc (GCC) 8.5.0 20210514 (Red Hat 8.5.0-22) Ubuntu 22.04 Kernel: 5.15 Compiler: gcc gcc (Ubuntu 11.4.0-1ubuntu1~22.04) 11.4.0 Red Hat Enterprise Linux 9.5 Kernel: 5.15 Compiler: gcc gcc (GCC) 11.5.0 20240719 (Red Hat 11.5.0-2) Ubuntu 24.04 Kernel: 5.15 Compiler: gcc gcc (Ubuntu 13.3.0-6ubuntu2~24.04) 13.3.0 Alpine Linux 3.22.0 Kernel: 5.15 Compiler: gcc gcc (Alpine 14.2.0) 14.2.0 FreeBSD 14.2 Kernel: 14.2-RELEASE Compiler: clang 18.1.6 CentOS Stream 9 Kernel: 5.15 Compiler: gcc gcc (GCC) 11.5.0 20240719 (Red Hat 11.5.0-7) Windows Server 2022 Kernel: 10.0.20348.2031 Compiler: clang 15.0.7, gcc 14.1.0 (MinGW), and MSVC VS 19.39.33521 To view detailed results, visit: https://lab.dpdk.org/results/dashboard/patchsets/33542/ UNH-IOL DPDK Community Lab To manage your email subscriptions, visit: https://lab.dpdk.org/results/dashboard/preferences/subscriptions/