From mboxrd@z Thu Jan 1 00:00:00 1970 Return-Path: Received: from mails.dpdk.org (mails.dpdk.org [217.70.189.124]) by inbox.dpdk.org (Postfix) with ESMTP id DB70246AA0 for ; Mon, 30 Jun 2025 19:17:32 +0200 (CEST) Received: from mails.dpdk.org (localhost [127.0.0.1]) by mails.dpdk.org (Postfix) with ESMTP id D665F4025D; Mon, 30 Jun 2025 19:17:32 +0200 (CEST) Received: from mail-il1-f228.google.com (mail-il1-f228.google.com [209.85.166.228]) by mails.dpdk.org (Postfix) with ESMTP id B8FD34025D for ; Mon, 30 Jun 2025 19:17:30 +0200 (CEST) Received: by mail-il1-f228.google.com with SMTP id e9e14a558f8ab-3df30d542caso11671845ab.1 for ; Mon, 30 Jun 2025 10:17:30 -0700 (PDT) DKIM-Signature: v=1; a=rsa-sha256; c=relaxed/relaxed; d=iol.unh.edu; s=unh-iol; t=1751303850; x=1751908650; darn=dpdk.org; h=references:in-reply-to:cc:to:from:subject:message-id:date:from:to :cc:subject:date:message-id:reply-to; bh=lLeBpkppFsGJuK6DREP4WpdqnF9ow7SGbpp0vEw/JWo=; b=Dr8VkJ8+ryat1hHWe7L3pJcUvBUbDzWcAONDTjX2hlrMpPJhdF4zhfIJMJg5YyiCzb xC4EH6Eoy1wtX/2L6za+Z3YY8UmdYFqL+cznCxt7JAOXfBHzkKLx4clPqJmf2puxhkyD /tSKzHeDOu8DBlcpu3uG2rTK8faA1oteSTFcc= X-Google-DKIM-Signature: v=1; a=rsa-sha256; c=relaxed/relaxed; d=1e100.net; s=20230601; t=1751303850; x=1751908650; h=references:in-reply-to:cc:to:from:subject:message-id:date :x-gm-message-state:from:to:cc:subject:date:message-id:reply-to; bh=lLeBpkppFsGJuK6DREP4WpdqnF9ow7SGbpp0vEw/JWo=; b=X9A5U9sbR0zy2F4UWYgPadyIj2CMZ+Y/SzAbdbxVxjNMekQSv1sJ7Wxgm5JnYtiRGm Oo0RRKfTicpwcdqouhJyV2lss5t3VGcZtps2KZxAv1fb3ek2J8HSei3ip9WnVQ51Jj0U RXOefJMjgVAPtzGhA7vQkI0Cx/Np2bHpSUv3w2xjcAWqN2vHPXbB6ki9P+E33f2xFEmW ptv9pSOV27MzVuDV3J2bi1CjYljm8Yhbtv29Vq6ZWPGUdSs0ESbvvqIPU4WkxpO7dliL CubgEJX6LfY1qiUWQC/oZtcHgNXOPTqW5FQ8DXL0KCQuo7zgo/wB5A3dA6O/mLuLzUm6 IpcQ== X-Gm-Message-State: AOJu0YzeS+JLdvQasGgVMIxgAa/N81ZtHkm6LAyRjsJwzsiZUELAMpET 8FSoDhUNjqC/cY+Vs9b3tpcZhCN1p2jy/qPTSkSjaYf2tup6Bb8BQjYkFLzQ2pvDt7/lDAol6bp plQh53r/FQCaKxmqPBhaW9Pc9g8MS/RYXE7iJVN+UTGnZ X-Gm-Gg: ASbGncu18tGCab/wpysiRRt085pwodckBapoV2VCViX1wqgkOoZXk7zBdhK5qfF3q99 3T4xku5Hrh2xIyRDD7fg9H6Yw+ztRikr/zvsqDYga+QkoIdBFh0qInNMtNb7uH7wIe03uQQgHEW XyW5IF2i/clIw1vuP+no6BMXzkEgQ9NaBTf37rZOB9RsEJVbuys8UrT5cgdl4lUPARFdSqkDZN1 tzRdxKXJC2y8n9+/sPsejUppFGKz5X0SgGAScOGIiL1tx6WzMjDe8zBOblZcg7HfWL8qc3sip/i 9d/J1oGwEYgldN+j6Vb9CQPQu7EpE8DJnwH42I8kNPlUBdSGQgc385FyWY3OGFV2lKyAZA== X-Google-Smtp-Source: AGHT+IHr3NNHk52Qws6csrLIvJQG+yPhKQzXtqaMqzFPUTGKMmMUQPORV5WGxfi4J0CG8HIVNLqbRY+7tKZR X-Received: by 2002:a05:6e02:2409:b0:3dd:f4d5:1c1a with SMTP id e9e14a558f8ab-3df4abad659mr162420045ab.17.1751303850054; Mon, 30 Jun 2025 10:17:30 -0700 (PDT) Received: from postal.iol.unh.edu (postal.iol.unh.edu. [132.177.123.84]) by smtp-relay.gmail.com with ESMTPS id e9e14a558f8ab-3df4a0c61eesm4665925ab.58.2025.06.30.10.17.29 (version=TLS1_2 cipher=ECDHE-ECDSA-AES128-GCM-SHA256 bits=128/128); Mon, 30 Jun 2025 10:17:30 -0700 (PDT) X-Relaying-Domain: iol.unh.edu Date: Mon, 30 Jun 2025 10:17:30 -0700 (PDT) Message-ID: <6862c6aa.050a0220.3703e.8814SMTPIN_ADDED_MISSING@mx.google.com> Received: from [172.21.0.5] (unknown [172.18.0.240]) by postal.iol.unh.edu (Postfix) with ESMTP id 8E504604D420; Mon, 30 Jun 2025 13:17:29 -0400 (EDT) Subject: |SUCCESS| pw154860 [PATCH] [v2] test/argparse: change initialization From: dpdklab@iol.unh.edu To: Test Report Cc: dpdk-test-reports@iol.unh.edu In-Reply-To: <20250630145934.56969-1-stephen@networkplumber.org> References: <20250630145934.56969-1-stephen@networkplumber.org> Content-Type: text/plain X-BeenThere: test-report@dpdk.org X-Mailman-Version: 2.1.29 Precedence: list List-Id: automatic DPDK test reports List-Unsubscribe: , List-Archive: List-Post: List-Help: List-Subscribe: , Errors-To: test-report-bounces@dpdk.org Test-Label: iol-compile-amd64-testing Test-Status: SUCCESS http://dpdk.org/patch/154860 _Testing PASS_ Submitter: Stephen Hemminger Date: Monday, June 30 2025 14:58:49 DPDK git baseline: Repo:dpdk Branch: master CommitID:20460dcffd08a4680f881c39916ae783ee830374 154860 --> testing pass Upstream job id: Windows-Compile-DPDK-Native#29453 Test environment and result as below: +---------------------+-------------------+--------------------+-------------------------+----------------------+ | Environment | dpdk_msvc_compile | dpdk_meson_compile | dpdk_llvm_clang_compile | dpdk_mingw64_compile | +=====================+===================+====================+=========================+======================+ | Windows Server 2022 | PASS | SKIPPED | PASS | PASS | +---------------------+-------------------+--------------------+-------------------------+----------------------+ | FreeBSD 14.2 | SKIPPED | PASS | SKIPPED | SKIPPED | +---------------------+-------------------+--------------------+-------------------------+----------------------+ | Ubuntu 20.04 | SKIPPED | PASS | SKIPPED | SKIPPED | +---------------------+-------------------+--------------------+-------------------------+----------------------+ Windows Server 2022 Kernel: 10.0.20348.2031 Compiler: clang 15.0.7, gcc 14.1.0 (MinGW), and MSVC VS 19.39.33521 FreeBSD 14.2 Kernel: 14.2-RELEASE Compiler: clang 18.1.6 Ubuntu 20.04 Kernel: 4.19 Compiler: gcc gcc (Ubuntu 9.4.0-1ubuntu1~20.04.2) 9.4.0 To view detailed results, visit: https://lab.dpdk.org/results/dashboard/patchsets/33545/ UNH-IOL DPDK Community Lab To manage your email subscriptions, visit: https://lab.dpdk.org/results/dashboard/preferences/subscriptions/