From mboxrd@z Thu Jan 1 00:00:00 1970 Return-Path: Received: from mails.dpdk.org (mails.dpdk.org [217.70.189.124]) by inbox.dpdk.org (Postfix) with ESMTP id 9485746AA0 for ; Mon, 30 Jun 2025 19:24:35 +0200 (CEST) Received: from mails.dpdk.org (localhost [127.0.0.1]) by mails.dpdk.org (Postfix) with ESMTP id 8D6B74025D; Mon, 30 Jun 2025 19:24:35 +0200 (CEST) Received: from mail-oa1-f100.google.com (mail-oa1-f100.google.com [209.85.160.100]) by mails.dpdk.org (Postfix) with ESMTP id A6F8A4025D for ; Mon, 30 Jun 2025 19:24:34 +0200 (CEST) Received: by mail-oa1-f100.google.com with SMTP id 586e51a60fabf-2ea35edc691so1085902fac.2 for ; Mon, 30 Jun 2025 10:24:34 -0700 (PDT) DKIM-Signature: v=1; a=rsa-sha256; c=relaxed/relaxed; d=iol.unh.edu; s=unh-iol; t=1751304274; x=1751909074; darn=dpdk.org; h=references:in-reply-to:cc:to:from:subject:message-id:date:from:to :cc:subject:date:message-id:reply-to; bh=M+0STn+c+0Z3Ca+CW5N9zTdqGVfjs/ag1OyFjATEU2A=; b=Zo6XCTz/r3ZQKi2fE5OnpAz42cop3eIyUNLNc/AK2FH3GTIA8kt9NXQHZLnsGwqoBZ RRRDndS4SR9eXdDx3P3YaRD+qoZPYuTSQnODcAHHG4Ngjfcps6rjMhI0QBq9SqMmjeHe 4s3M8PrWtF25SuJjEZqzyZ5ytQEqziR7OaI98= X-Google-DKIM-Signature: v=1; a=rsa-sha256; c=relaxed/relaxed; d=1e100.net; s=20230601; t=1751304274; x=1751909074; h=references:in-reply-to:cc:to:from:subject:message-id:date :x-gm-message-state:from:to:cc:subject:date:message-id:reply-to; bh=M+0STn+c+0Z3Ca+CW5N9zTdqGVfjs/ag1OyFjATEU2A=; b=G/0I1oLq+gCuoudQ8iJv3jhahy0S9SDqM0W+rKFNp7tFBDKgn/O2C10PT1XBagDUE7 mu81GPABSHpy5k9nP47kKjWQOFoCrkemXS7wUu7LKQLt3hZflM8fuvtMipssMxVlKvv6 Gfj1AP1IryWPJjsLYowZ3qxSbZml2F+hW5jPeBPO+BSZsL7lWitFh34PHUBwzw9VqMb+ O6vY8kcuha9tlTLkbvJb6jLdG3NAU4/ofgVMF7+vrm+jMCjC1elphD4htuhcV01qRk6L pmCNV7g+VaKveVhII8hNbmqxX4EpNOetDrBk559PqrpQkEa3sSt5OstqhGM0u6rNpH+x dbZg== X-Gm-Message-State: AOJu0YwoSjBP6b8u+FY41MsuCJOyAFoRbKARFWFOnCpMGJCt9yxepPir rDOkeCoKu+IjAAyWPKoPED2l69eAmYLn59BtCJHXLcWUo3ICq9MUIjqGBsty5pjaSprzrr89QWZ tZStNBecZpP9Ecu55//WwuCFEyKhaa9Q10JmbtGr9zvWEciK8inDY/u7wrQ2J X-Gm-Gg: ASbGncsoMfsq7mJ0q3ySWQuXxy6GRJvzx4FCSiIvMqC1lMGLcJL23jLjkRAJFyIkoKO 6QkJ1JMSWhSmTeBCn/skFj7B5twGv5uR0m13JHq9tMka+Jh5lT7JNUNAV0sf+7ns3uAWXehgmjq LvS/RPhfC2Wumk3k7sv8kfJx5e4Rc8X/Pyd4v3jK9pqKrcWYlH4uvDOXxrz0ogbNiLXGaT4hax3 YnYMubv5LYAUZmliTjmkqpmEMkVU1pDjx8/2+526mjh9x41Xa2Uy7qsLVW6jYcAkUHTbn/r10PX jOesn+UzwlsMNTb/ceCVJxB/jSiNQT//5Uj0Cxm+Ekcc2tA= X-Google-Smtp-Source: AGHT+IHm8z+45yTiBfOYwmPVS67YyuLo5tfjgkyhzqv6ZylKVyK9O84D6rDymGMoMdX8ZrUjFwWFypGaiBiF X-Received: by 2002:a05:6871:73a4:b0:2d5:c61f:c2db with SMTP id 586e51a60fabf-2efed747d8fmr9022666fac.34.1751304273900; Mon, 30 Jun 2025 10:24:33 -0700 (PDT) Received: from postal.iol.unh.edu (postal.iol.unh.edu. [2606:4100:3880:1234::84]) by smtp-relay.gmail.com with ESMTPS id 586e51a60fabf-2efd4f9bd39sm539352fac.19.2025.06.30.10.24.33 (version=TLS1_2 cipher=ECDHE-ECDSA-AES128-GCM-SHA256 bits=128/128); Mon, 30 Jun 2025 10:24:33 -0700 (PDT) X-Relaying-Domain: iol.unh.edu Date: Mon, 30 Jun 2025 10:24:33 -0700 (PDT) Message-ID: <6862c851.050a0220.22ee54.c69cSMTPIN_ADDED_MISSING@mx.google.com> Received: from [172.21.0.5] (unknown [172.18.0.240]) by postal.iol.unh.edu (Postfix) with ESMTP id 8108A604D420; Mon, 30 Jun 2025 13:24:33 -0400 (EDT) Subject: |SUCCESS| pw154848 [PATCH] node: fix C++ compatibility errors (optio From: dpdklab@iol.unh.edu To: Test Report Cc: dpdk-test-reports@iol.unh.edu In-Reply-To: <20250630104939.2265866-2-bruce.richardson@intel.com> References: <20250630104939.2265866-2-bruce.richardson@intel.com> Content-Type: text/plain X-BeenThere: test-report@dpdk.org X-Mailman-Version: 2.1.29 Precedence: list List-Id: automatic DPDK test reports List-Unsubscribe: , List-Archive: List-Post: List-Help: List-Subscribe: , Errors-To: test-report-bounces@dpdk.org Test-Label: iol-abi-testing Test-Status: SUCCESS http://dpdk.org/patch/154848 _Testing PASS_ Submitter: Bruce Richardson Date: Monday, June 30 2025 10:49:40 DPDK git baseline: Repo:dpdk Branch: master CommitID:20460dcffd08a4680f881c39916ae783ee830374 154848 --> testing pass Upstream job id: Generic-DPDK-Compile-ABI#132410 Test environment and result as below: +-------------------------------+----------+ | Environment | abi_test | +===============================+==========+ | CentOS Stream 9 | PASS | +-------------------------------+----------+ | Debian GNU/Linux 12 | PASS | +-------------------------------+----------+ | CentOS Stream 10 | PASS | +-------------------------------+----------+ | Fedora Linux 40 | PASS | +-------------------------------+----------+ | Red Hat Enterprise Linux 9.5 | PASS | +-------------------------------+----------+ | Fedora Linux 41 | PASS | +-------------------------------+----------+ | openSUSE Leap 15.6 | PASS | +-------------------------------+----------+ | Red Hat Enterprise Linux 8.10 | PASS | +-------------------------------+----------+ | Ubuntu 22.04 | PASS | +-------------------------------+----------+ | Ubuntu 24.04 | PASS | +-------------------------------+----------+ CentOS Stream 9 Kernel: 5.15 Compiler: gcc gcc (GCC) 11.5.0 20240719 (Red Hat 11.5.0-7) Debian GNU/Linux 12 Kernel: 5.15 Compiler: gcc gcc (Debian 12.2.0-14+deb12u1) 12.2.0 CentOS Stream 10 Kernel: 5.15 Compiler: gcc gcc (GCC) 14.2.1 20250110 (Red Hat 14.2.1-8) Fedora Linux 40 Kernel: 5.15 Compiler: clang gcc (GCC) 14.2.1 20240912 (Red Hat 14.2.1-3) Red Hat Enterprise Linux 9.5 Kernel: 5.15 Compiler: gcc gcc (GCC) 11.5.0 20240719 (Red Hat 11.5.0-2) Fedora Linux 41 Kernel: 5.15 Compiler: clang gcc (GCC) 14.3.1 20250523 (Red Hat 14.3.1-1) openSUSE Leap 15.6 Kernel: 5.15 Compiler: gcc gcc (SUSE Linux) 7.5.0 Red Hat Enterprise Linux 8.10 Kernel: 5.15 Compiler: gcc gcc (GCC) 8.5.0 20210514 (Red Hat 8.5.0-22) Ubuntu 22.04 Kernel: 5.15 Compiler: gcc gcc (Ubuntu 11.4.0-1ubuntu1~22.04) 11.4.0 Ubuntu 24.04 Kernel: 5.15 Compiler: gcc gcc (Ubuntu 13.3.0-6ubuntu2~24.04) 13.3.0 To view detailed results, visit: https://lab.dpdk.org/results/dashboard/patchsets/33541/ UNH-IOL DPDK Community Lab To manage your email subscriptions, visit: https://lab.dpdk.org/results/dashboard/preferences/subscriptions/