From mboxrd@z Thu Jan 1 00:00:00 1970 Return-Path: Received: from mails.dpdk.org (mails.dpdk.org [217.70.189.124]) by inbox.dpdk.org (Postfix) with ESMTP id DEFA346AA0 for ; Mon, 30 Jun 2025 19:43:18 +0200 (CEST) Received: from mails.dpdk.org (localhost [127.0.0.1]) by mails.dpdk.org (Postfix) with ESMTP id BCD034025D; Mon, 30 Jun 2025 19:43:18 +0200 (CEST) Received: from mail-il1-f225.google.com (mail-il1-f225.google.com [209.85.166.225]) by mails.dpdk.org (Postfix) with ESMTP id 6FC924025D for ; Mon, 30 Jun 2025 19:43:17 +0200 (CEST) Received: by mail-il1-f225.google.com with SMTP id e9e14a558f8ab-3ddd2710d14so23544715ab.2 for ; Mon, 30 Jun 2025 10:43:17 -0700 (PDT) DKIM-Signature: v=1; a=rsa-sha256; c=relaxed/relaxed; d=iol.unh.edu; s=unh-iol; t=1751305397; x=1751910197; darn=dpdk.org; h=references:in-reply-to:cc:to:from:subject:message-id:date:from:to :cc:subject:date:message-id:reply-to; bh=UbJyWawkW8isvdzV6aXSMicECoJ6aiWBWfrwYRNVnV4=; b=jvJ558jYXbbBzftrSh2gMn5FpbC316nr8moVnmKBijW52YhupYMVwGpnaGIkJsA+77 DT7DdZbsLSXgZFp0SUqVgQHFIKZLfHn/awW+ttTyaj3Y/t3tV4MULKG+G+T6H51Vnv4g pJ9Z3E+reTcK4mMAmcikBjPvnJ0TYdk+sjjKA= X-Google-DKIM-Signature: v=1; a=rsa-sha256; c=relaxed/relaxed; d=1e100.net; s=20230601; t=1751305397; x=1751910197; h=references:in-reply-to:cc:to:from:subject:message-id:date :x-gm-message-state:from:to:cc:subject:date:message-id:reply-to; bh=UbJyWawkW8isvdzV6aXSMicECoJ6aiWBWfrwYRNVnV4=; b=mE+vw1OecgrXwbB8VAmp+mPXdH9fSsyw+MutUrfJbkXkTL9E3ppeM4uj5YopNcgzrw TiRSl4NnTc7wNIKvc8OOfpygux1U7m7TpUIhiNFC/Bcg9DzEg70QO2+a3TYTELu8BUQc 29exSw1lUk3qwbHrR3Y/fB/cp9RYdxu1fFugP0hWb6HNRY3sdk8WUajr6h0VuxnUP1XW mikYdirR7Tb17TWOtygjLDVnuHz/kEL6Y/bgltaASUI6upfLpvzB76safB7YufXA43lP U1vd5pM+I3XaIWq00ub3mqjrLbKvKT+nmrzs7h9CYJqAtJv5c3zq7sUh+N0yEPG9npDE tNEA== X-Gm-Message-State: AOJu0Yzmd64z+qWlZSn+DI9eF1qpjQI2WbMXoPEj6Jq2F3EWcBc+XTgx oOOL/1gfu2uym4lz8ICotxYE/C5Nzc6fvRX5zOP/SFuT6rIgdRBXcKBLZOdq68LTVu5+yTjZS2/ rr8wx7Ub73ETxg292dlWVoHauYRMOfHzkxiC1gCjdkxc4 X-Gm-Gg: ASbGncv+NWffAkQ6OT9Y9dMezUh+p7oKX62QuRtXCbW9nhO0GK4punwXefrHt6lFbjD wQ79LuzO+l85Hh23MDCOQ19r7/Rh6GskG0soAEqIYEbleYwxxrJC4TPRXo6cWdN/JBChZSNKDog lgST3tlmQYjXh3fJ+tUnOvGoHfRDomE3Lx5vblw+NpYBTROWDiE6P2hcVvuLvYJ/tVKU0Bb9Xgu nKVsUzTQxcssOsxbOFiUOIYE5jL6gOBLGo6n9q/3quC5RtEsAFifIXOtkJIyto3IWO/tKBJNAFi A9ysrXoPZrNssuH926kJjNJDpAk228vxZpeG8uJdQ5Nhkx5MTf7FXKVI+sj2XHnk+myInA== X-Google-Smtp-Source: AGHT+IFhsXvSejCNDpedtIbenGrZlpfF511ztpcsm9IBqjst+XNUmeGoF7I87G/jcIC0CVGrbWr/20ad0sq3 X-Received: by 2002:a05:6e02:3708:b0:3da:71c7:5c7f with SMTP id e9e14a558f8ab-3df4ab9bd2bmr179500705ab.15.1751305396634; Mon, 30 Jun 2025 10:43:16 -0700 (PDT) Received: from postal.iol.unh.edu (postal.iol.unh.edu. [132.177.123.84]) by smtp-relay.gmail.com with ESMTPS id e9e14a558f8ab-3df4a037ad8sm5002335ab.25.2025.06.30.10.43.16 (version=TLS1_2 cipher=ECDHE-ECDSA-AES128-GCM-SHA256 bits=128/128); Mon, 30 Jun 2025 10:43:16 -0700 (PDT) X-Relaying-Domain: iol.unh.edu Date: Mon, 30 Jun 2025 10:43:16 -0700 (PDT) Message-ID: <6862ccb4.920a0220.8c28b.ce68SMTPIN_ADDED_MISSING@mx.google.com> Received: from [172.21.0.6] (unknown [172.18.0.240]) by postal.iol.unh.edu (Postfix) with ESMTP id 20BDC604D420; Mon, 30 Jun 2025 13:43:16 -0400 (EDT) Subject: |WARNING| pw154849 [PATCH] node: fix C++ compatibility errors (optio From: dpdklab@iol.unh.edu To: Test Report Cc: dpdk-test-reports@iol.unh.edu In-Reply-To: <20250630105025.2265901-1-bruce.richardson@intel.com> References: <20250630105025.2265901-1-bruce.richardson@intel.com> Content-Type: text/plain X-BeenThere: test-report@dpdk.org X-Mailman-Version: 2.1.29 Precedence: list List-Id: automatic DPDK test reports List-Unsubscribe: , List-Archive: List-Post: List-Help: List-Subscribe: , Errors-To: test-report-bounces@dpdk.org Test-Label: iol-compile-amd64-testing Test-Status: WARNING http://dpdk.org/patch/154849 _Testing issues_ Submitter: Bruce Richardson Date: Monday, June 30 2025 10:50:14 DPDK git baseline: Repo:dpdk Branch: master CommitID:20460dcffd08a4680f881c39916ae783ee830374 154849 --> testing issues Upstream job id: Generic-DPDK-Compile-Meson#403712 Test environment and result as below: +-------------------------------+--------------------+-------------------+------------------+-------------------+-------------------------+----------------------+ | Environment | dpdk_meson_compile | dpdk_compile_spdk | dpdk_compile_ovs | dpdk_msvc_compile | dpdk_llvm_clang_compile | dpdk_mingw64_compile | +===============================+====================+===================+==================+===================+=========================+======================+ | CentOS Stream 10 | PASS | SKIPPED | SKIPPED | SKIPPED | SKIPPED | SKIPPED | +-------------------------------+--------------------+-------------------+------------------+-------------------+-------------------------+----------------------+ | Debian GNU/Linux 12 | PASS | PASS | SKIPPED | SKIPPED | SKIPPED | SKIPPED | +-------------------------------+--------------------+-------------------+------------------+-------------------+-------------------------+----------------------+ | Fedora Linux 40 | PASS | PASS | SKIPPED | SKIPPED | SKIPPED | SKIPPED | +-------------------------------+--------------------+-------------------+------------------+-------------------+-------------------------+----------------------+ | Fedora Linux 41 | PASS | WARN | PASS | SKIPPED | SKIPPED | SKIPPED | +-------------------------------+--------------------+-------------------+------------------+-------------------+-------------------------+----------------------+ | openSUSE Leap 15.6 | PASS | SKIPPED | SKIPPED | SKIPPED | SKIPPED | SKIPPED | +-------------------------------+--------------------+-------------------+------------------+-------------------+-------------------------+----------------------+ | Ubuntu 20.04 | PASS | SKIPPED | SKIPPED | SKIPPED | SKIPPED | SKIPPED | +-------------------------------+--------------------+-------------------+------------------+-------------------+-------------------------+----------------------+ | Red Hat Enterprise Linux 8.10 | PASS | SKIPPED | SKIPPED | SKIPPED | SKIPPED | SKIPPED | +-------------------------------+--------------------+-------------------+------------------+-------------------+-------------------------+----------------------+ | Ubuntu 22.04 | PASS | PASS | SKIPPED | SKIPPED | SKIPPED | SKIPPED | +-------------------------------+--------------------+-------------------+------------------+-------------------+-------------------------+----------------------+ | Red Hat Enterprise Linux 9.5 | PASS | SKIPPED | SKIPPED | SKIPPED | SKIPPED | SKIPPED | +-------------------------------+--------------------+-------------------+------------------+-------------------+-------------------------+----------------------+ | Ubuntu 24.04 | PASS | PASS | PASS | SKIPPED | SKIPPED | SKIPPED | +-------------------------------+--------------------+-------------------+------------------+-------------------+-------------------------+----------------------+ | Alpine Linux 3.22.0 | PASS | SKIPPED | SKIPPED | SKIPPED | SKIPPED | SKIPPED | +-------------------------------+--------------------+-------------------+------------------+-------------------+-------------------------+----------------------+ | FreeBSD 14.2 | PASS | SKIPPED | SKIPPED | SKIPPED | SKIPPED | SKIPPED | +-------------------------------+--------------------+-------------------+------------------+-------------------+-------------------------+----------------------+ | CentOS Stream 9 | PASS | PASS | SKIPPED | SKIPPED | SKIPPED | SKIPPED | +-------------------------------+--------------------+-------------------+------------------+-------------------+-------------------------+----------------------+ | Windows Server 2022 | SKIPPED | SKIPPED | SKIPPED | PASS | PASS | PASS | +-------------------------------+--------------------+-------------------+------------------+-------------------+-------------------------+----------------------+ ==== 20 line log output for Fedora Linux 41 (dpdk_compile_spdk): ==== --- Failed to get log output --- ==== End log output ==== CentOS Stream 10 Kernel: 5.15 Compiler: gcc gcc (GCC) 14.2.1 20250110 (Red Hat 14.2.1-8) Debian GNU/Linux 12 Kernel: 5.15 Compiler: gcc gcc (Debian 12.2.0-14+deb12u1) 12.2.0 Fedora Linux 40 Kernel: 5.15 Compiler: clang gcc (GCC) 14.2.1 20240912 (Red Hat 14.2.1-3) Fedora Linux 41 Kernel: 5.15 Compiler: gcc gcc (GCC) 14.3.1 20250523 (Red Hat 14.3.1-1) openSUSE Leap 15.6 Kernel: 5.15 Compiler: gcc gcc (SUSE Linux) 7.5.0 Ubuntu 20.04 Kernel: 5.15 Compiler: gcc gcc (Ubuntu 9.4.0-1ubuntu1~20.04.2) 9.4.0 Red Hat Enterprise Linux 8.10 Kernel: 5.15 Compiler: gcc gcc (GCC) 8.5.0 20210514 (Red Hat 8.5.0-22) Ubuntu 22.04 Kernel: 5.15 Compiler: gcc gcc (Ubuntu 11.4.0-1ubuntu1~22.04) 11.4.0 Red Hat Enterprise Linux 9.5 Kernel: 5.15 Compiler: gcc gcc (GCC) 11.5.0 20240719 (Red Hat 11.5.0-2) Ubuntu 24.04 Kernel: 5.15 Compiler: gcc gcc (Ubuntu 13.3.0-6ubuntu2~24.04) 13.3.0 Alpine Linux 3.22.0 Kernel: 5.15 Compiler: gcc gcc (Alpine 14.2.0) 14.2.0 FreeBSD 14.2 Kernel: 14.2-RELEASE Compiler: clang 18.1.6 CentOS Stream 9 Kernel: 5.15 Compiler: gcc gcc (GCC) 11.5.0 20240719 (Red Hat 11.5.0-7) Windows Server 2022 Kernel: 10.0.20348.2031 Compiler: clang 15.0.7, gcc 14.1.0 (MinGW), and MSVC VS 19.39.33521 To view detailed results, visit: https://lab.dpdk.org/results/dashboard/patchsets/33542/ UNH-IOL DPDK Community Lab To manage your email subscriptions, visit: https://lab.dpdk.org/results/dashboard/preferences/subscriptions/