From mboxrd@z Thu Jan 1 00:00:00 1970 Return-Path: Received: from mails.dpdk.org (mails.dpdk.org [217.70.189.124]) by inbox.dpdk.org (Postfix) with ESMTP id 849B146AA0 for ; Mon, 30 Jun 2025 19:49:42 +0200 (CEST) Received: from mails.dpdk.org (localhost [127.0.0.1]) by mails.dpdk.org (Postfix) with ESMTP id 640884025D; Mon, 30 Jun 2025 19:49:42 +0200 (CEST) Received: from mail-pl1-f227.google.com (mail-pl1-f227.google.com [209.85.214.227]) by mails.dpdk.org (Postfix) with ESMTP id EA1E74025D for ; Mon, 30 Jun 2025 19:49:40 +0200 (CEST) Received: by mail-pl1-f227.google.com with SMTP id d9443c01a7336-2349f096605so26079855ad.3 for ; Mon, 30 Jun 2025 10:49:40 -0700 (PDT) DKIM-Signature: v=1; a=rsa-sha256; c=relaxed/relaxed; d=iol.unh.edu; s=unh-iol; t=1751305780; x=1751910580; darn=dpdk.org; h=references:in-reply-to:cc:to:from:subject:message-id:date:from:to :cc:subject:date:message-id:reply-to; bh=AHmrSa2/0B7MFDrKNpDlfPyQGUs+QkQZf8qr2dlaP8M=; b=DHn89NSJPey5+1YCKwI/ZcTWCGfF5g2jLV3f8rj1O3dhdYB8W/z6g1ky0rXrb3ZstI tjKO71K7WYecvbW9ikHmybUUSWhQTfKfkOTSSsqqK9Ad1nKwrUzJ0YDjMUrnHUcB1nlg c8Ml+3R3GKQ3rfu2K5STNHzlsAtvJBebm15Wk= X-Google-DKIM-Signature: v=1; a=rsa-sha256; c=relaxed/relaxed; d=1e100.net; s=20230601; t=1751305780; x=1751910580; h=references:in-reply-to:cc:to:from:subject:message-id:date :x-gm-message-state:from:to:cc:subject:date:message-id:reply-to; bh=AHmrSa2/0B7MFDrKNpDlfPyQGUs+QkQZf8qr2dlaP8M=; b=rk5ezN6zy5HmvET+WaRf40SHYeza8h25E0LgJeUYjKhcUnYSKhN3rHEjbC8ehpQ3+o JyFXIX1VAc+EhgEabRlmL8qi+SHzHNBZpRM0+tmge2Q1VdIqHwmFFZjMBI5aPXR9zMXV xqvejMZzqGy5Qf5KeKAuulk9EXS9kafjVWxzcSyWPv/MN/Cp1nn6JtigAfMMR1mmaFYv d2Eh9Rmq4JqfxoSK1viXqTN4m4hzEbP66XZmD8Qi+pyN6B+T0G1pOHOf9cTAuQzQmaFr qgQSHXCkHz/jUaw8ewsOdfAJJwhJR0KsWC43ndPt9nlXpV8mJw6nFmfxGQjI8w8UKzJu VdYA== X-Gm-Message-State: AOJu0YwOWKpjbtAP030XEh4NzwMlEE5c1ca9HnryQheDE8J04im9k5TO axUHeA3XBhF1cbKVrj/zg6eXo+VghGBXtn/FZ+pkWaXm5OLpl6pyWRVjmKgi4lolvK/WCPDspWA I8CYvG83NCTSSsntMyOzgnV4A4m/O6bic6QRKyiZwe138 X-Gm-Gg: ASbGncvFnmMZ6f6VDvZrGNx1sBMOysrLzp1Sn42KiBXM6oY/EA/UF8Vd6lkFzbe5qLo sOlTG1r97u0yDMSFcg+7qScHdZ93zjL+CLtSWKR/c1sMSC5e9bNwmCGKmBe9qlwKiqpe4Absb1G fFxnlzKGJ3ixPJ2jEY+bMXwEaEYjj0J+cBLY0bSkkzdHg6yGWxhHDnSsQtqa2j+kBzn6+2hfBA1 sisiFSzTcBiDYySdqe2vJqD0bzEspLOMEDC9v2dClBM+po9lrZNQMKA+pqPp47QIqy0Mym6pyY3 eu/Mx1SncFtBy2ZsuxMJdWGg6zomkak5Igz+DeaA5Lj6WcnsGcV0wRx5FlUfZgxI2ZFfCw== X-Google-Smtp-Source: AGHT+IE6bjYwBphMGnwS8tFbdQ72Pn6FsJOhrNQtuq3E6ab8un4NgJGfnE5uwaiDVlvDSFZ7pWFVratO6joR X-Received: by 2002:a17:903:1a07:b0:234:8f5d:e3bd with SMTP id d9443c01a7336-23ac4656cc3mr177025275ad.39.1751305780142; Mon, 30 Jun 2025 10:49:40 -0700 (PDT) Received: from postal.iol.unh.edu (postal.iol.unh.edu. [132.177.123.84]) by smtp-relay.gmail.com with ESMTPS id d9443c01a7336-23acb34f097sm4358235ad.68.2025.06.30.10.49.40 (version=TLS1_2 cipher=ECDHE-ECDSA-AES128-GCM-SHA256 bits=128/128); Mon, 30 Jun 2025 10:49:40 -0700 (PDT) X-Relaying-Domain: iol.unh.edu Date: Mon, 30 Jun 2025 10:49:40 -0700 (PDT) Message-ID: <6862ce34.170a0220.1fd8f2.808cSMTPIN_ADDED_MISSING@mx.google.com> Received: from [172.21.0.5] (unknown [172.18.0.240]) by postal.iol.unh.edu (Postfix) with ESMTP id A3641604D420; Mon, 30 Jun 2025 13:49:39 -0400 (EDT) Subject: |SUCCESS| pw154861 [PATCH] [v2] eal: deprecate old coremask-based EA From: dpdklab@iol.unh.edu To: Test Report Cc: dpdk-test-reports@iol.unh.edu In-Reply-To: <20250630153752.2361112-1-bruce.richardson@intel.com> References: <20250630153752.2361112-1-bruce.richardson@intel.com> Content-Type: text/plain X-BeenThere: test-report@dpdk.org X-Mailman-Version: 2.1.29 Precedence: list List-Id: automatic DPDK test reports List-Unsubscribe: , List-Archive: List-Post: List-Help: List-Subscribe: , Errors-To: test-report-bounces@dpdk.org Test-Label: iol-compile-amd64-testing Test-Status: SUCCESS http://dpdk.org/patch/154861 _Testing PASS_ Submitter: Bruce Richardson Date: Monday, June 30 2025 15:37:34 DPDK git baseline: Repo:dpdk Branch: master CommitID:20460dcffd08a4680f881c39916ae783ee830374 154861 --> testing pass Upstream job id: Windows-Compile-DPDK-Native#29454 Test environment and result as below: +---------------------+--------------------+-------------------+-------------------------+ | Environment | dpdk_meson_compile | dpdk_msvc_compile | dpdk_llvm_clang_compile | +=====================+====================+===================+=========================+ | FreeBSD 14.2 | PASS | SKIPPED | SKIPPED | +---------------------+--------------------+-------------------+-------------------------+ | Ubuntu 20.04 | PASS | SKIPPED | SKIPPED | +---------------------+--------------------+-------------------+-------------------------+ | Windows Server 2022 | SKIPPED | PASS | PASS | +---------------------+--------------------+-------------------+-------------------------+ FreeBSD 14.2 Kernel: 14.2-RELEASE Compiler: clang 18.1.6 Ubuntu 20.04 Kernel: 4.19 Compiler: gcc gcc (Ubuntu 9.4.0-1ubuntu1~20.04.2) 9.4.0 Windows Server 2022 Kernel: 10.0.20348.2031 Compiler: clang 15.0.7, gcc 14.1.0 (MinGW), and MSVC VS 19.39.33521 To view detailed results, visit: https://lab.dpdk.org/results/dashboard/patchsets/33546/ UNH-IOL DPDK Community Lab To manage your email subscriptions, visit: https://lab.dpdk.org/results/dashboard/preferences/subscriptions/