From mboxrd@z Thu Jan 1 00:00:00 1970 Return-Path: Received: from mails.dpdk.org (mails.dpdk.org [217.70.189.124]) by inbox.dpdk.org (Postfix) with ESMTP id D5DC146AA1 for ; Mon, 30 Jun 2025 20:05:14 +0200 (CEST) Received: from mails.dpdk.org (localhost [127.0.0.1]) by mails.dpdk.org (Postfix) with ESMTP id AD7BE4025D; Mon, 30 Jun 2025 20:05:14 +0200 (CEST) Received: from mail-il1-f228.google.com (mail-il1-f228.google.com [209.85.166.228]) by mails.dpdk.org (Postfix) with ESMTP id 4EC134025D for ; Mon, 30 Jun 2025 20:05:13 +0200 (CEST) Received: by mail-il1-f228.google.com with SMTP id e9e14a558f8ab-3df2f20f4bbso13736595ab.0 for ; Mon, 30 Jun 2025 11:05:13 -0700 (PDT) DKIM-Signature: v=1; a=rsa-sha256; c=relaxed/relaxed; d=iol.unh.edu; s=unh-iol; t=1751306712; x=1751911512; darn=dpdk.org; h=references:in-reply-to:cc:to:from:subject:message-id:date:from:to :cc:subject:date:message-id:reply-to; bh=CbJXDL6rlXh0BjQgfG/rXsar6E3BIhQfV/cBdIOmcXI=; b=hNz65hQ57rffBq2WAuPTfkdW20mQHQnXIVKJzAWa4SBI4wVOIJAHsewSICdFHVPjnn z1OObdaOAwtEcdwHt6K8otppOfbDAq1zg7+RtoIX3Sn9w7kxFnl/HyYrPj2zTNd/vfEc U9mWRuGAhQdWplWi4hgy3xJK/RvEeVrL4Ebts= X-Google-DKIM-Signature: v=1; a=rsa-sha256; c=relaxed/relaxed; d=1e100.net; s=20230601; t=1751306712; x=1751911512; h=references:in-reply-to:cc:to:from:subject:message-id:date :x-gm-message-state:from:to:cc:subject:date:message-id:reply-to; bh=CbJXDL6rlXh0BjQgfG/rXsar6E3BIhQfV/cBdIOmcXI=; b=M7DPnMJVpwGAueNL53VJYFPg/QPd7wI+cpZF8MHgKgZJiRyqypOe6PQqT8UFnsfbdk 7unp6bpiepUYWJReSFJBd/V42zpVU+EncF/A7cj5v+3qDeJuY4wtWEc/grFizlKreLUU ZgZIo8TwW4uoYcrtiE35gDNkpwJvmcieGx5Vz21Vg7tI+ciuHl9Fe550OxyBbbUehj8A eRzEq+eDJ+Rg6GGygvvNsrFg8LEjxTBnDjqKG7kZ+eI55mqyK/zK1V0JR3LL6kN6Qr92 X1QwinWgOkF5Hry/Wi3KLdev6GVFovMv989kCsIAKAxA9F5AmAqycfxWHd7KGm4bo3zk ksog== X-Gm-Message-State: AOJu0YwPMcWcsMaVUp15r+cDfPKdXj+gBhmR9roRlbOGPlnLh2SstS+T sDK42JXh8VYP2UXdY+vqs1JGb/9relpCNwZbGM+cZhpRAC/S+ZnBiOOofPB57cbqGbtxnfcfLrD KHL74DwPktfPqOq+qbw+fWSq+SFbAwG9jFNOfXd37NpD8 X-Gm-Gg: ASbGncut+1Dkl4q4+ETGDQBuUG6+X/lGQivu1gQKqLj4pz+c/m8c9F+yo8ifm5EF3bn y6d62shKBjbsnIlUr/wnNOA3dkuZYqwpOXO8VCTI6LD2KoY58fvzz4vzQQLBvEiravvAldkib7E IODeChh+zwlJ8DwPgwaunW2ZzTnfEVI+w1iosxuqHJhefQ05f01nFRiClN50xXzAWcQe4s1VkVy xNm16ooswbbgp038DHrzVKlrLuQdGIw7kgNKlJDBoowVuWNRH6T2DIaIdwYo8cCrJLICYuR2IAD 0PTJLsSAc3IG+hutl9BFvGVfYUWXhfqhkpdOXySOCwxlUlkGMruVRZRvAj0KZj3VSCNKJQ== X-Google-Smtp-Source: AGHT+IFUh9keeNq1Ji5WwhhVa34e8J5KeO0eB4CJORJ2Mr76WXqOfgzJ5fSO00b86yVt71ww0V+AnQ8qzrAM X-Received: by 2002:a05:6e02:1909:b0:3de:11e3:8d38 with SMTP id e9e14a558f8ab-3df4acdb4dfmr144444755ab.22.1751306712505; Mon, 30 Jun 2025 11:05:12 -0700 (PDT) Received: from postal.iol.unh.edu (postal.iol.unh.edu. [132.177.123.84]) by smtp-relay.gmail.com with ESMTPS id e9e14a558f8ab-3df4a0bd11csm4693625ab.52.2025.06.30.11.05.12 (version=TLS1_2 cipher=ECDHE-ECDSA-AES128-GCM-SHA256 bits=128/128); Mon, 30 Jun 2025 11:05:12 -0700 (PDT) X-Relaying-Domain: iol.unh.edu Date: Mon, 30 Jun 2025 11:05:12 -0700 (PDT) Message-ID: <6862d1d8.050a0220.22fe84.9141SMTPIN_ADDED_MISSING@mx.google.com> Received: from [172.21.0.5] (unknown [172.18.0.240]) by postal.iol.unh.edu (Postfix) with ESMTP id 00BBC604D420; Mon, 30 Jun 2025 14:05:12 -0400 (EDT) Subject: |SUCCESS| pw154862 [PATCH] net/r8169: add missing newline at end of From: dpdklab@iol.unh.edu To: Test Report Cc: dpdk-test-reports@iol.unh.edu In-Reply-To: <20250630160533.126163-2-stephen@networkplumber.org> References: <20250630160533.126163-2-stephen@networkplumber.org> Content-Type: text/plain X-BeenThere: test-report@dpdk.org X-Mailman-Version: 2.1.29 Precedence: list List-Id: automatic DPDK test reports List-Unsubscribe: , List-Archive: List-Post: List-Help: List-Subscribe: , Errors-To: test-report-bounces@dpdk.org Test-Label: iol-compile-amd64-testing Test-Status: SUCCESS http://dpdk.org/patch/154862 _Testing PASS_ Submitter: Stephen Hemminger Date: Monday, June 30 2025 16:05:34 DPDK git baseline: Repo:dpdk Branch: master CommitID:83fd93a45061029c8a7850e15114e5932e7d045c 154862 --> testing pass Upstream job id: Windows-Compile-DPDK-VS#6209 Test environment and result as below: +---------------------+--------------------+-------------------+ | Environment | dpdk_meson_compile | dpdk_msvc_compile | +=====================+====================+===================+ | Ubuntu 20.04 | PASS | SKIPPED | +---------------------+--------------------+-------------------+ | FreeBSD 14.2 | PASS | SKIPPED | +---------------------+--------------------+-------------------+ | Windows Server 2022 | SKIPPED | PASS | +---------------------+--------------------+-------------------+ Ubuntu 20.04 Kernel: 4.19 Compiler: gcc gcc (Ubuntu 9.4.0-1ubuntu1~20.04.2) 9.4.0 FreeBSD 14.2 Kernel: 14.2-RELEASE Compiler: clang 18.1.6 Windows Server 2022 Kernel: 10.0.20348.2031 Compiler: clang 15.0.7, gcc 14.1.0 (MinGW), and MSVC VS 19.39.33521 To view detailed results, visit: https://lab.dpdk.org/results/dashboard/patchsets/33547/ UNH-IOL DPDK Community Lab To manage your email subscriptions, visit: https://lab.dpdk.org/results/dashboard/preferences/subscriptions/