From mboxrd@z Thu Jan 1 00:00:00 1970 Return-Path: Received: from mails.dpdk.org (mails.dpdk.org [217.70.189.124]) by inbox.dpdk.org (Postfix) with ESMTP id CFCD446AA1 for ; Mon, 30 Jun 2025 20:15:31 +0200 (CEST) Received: from mails.dpdk.org (localhost [127.0.0.1]) by mails.dpdk.org (Postfix) with ESMTP id A97C24025D; Mon, 30 Jun 2025 20:15:31 +0200 (CEST) Received: from mail-yb1-f226.google.com (mail-yb1-f226.google.com [209.85.219.226]) by mails.dpdk.org (Postfix) with ESMTP id DB4FF4025D for ; Mon, 30 Jun 2025 20:15:29 +0200 (CEST) Received: by mail-yb1-f226.google.com with SMTP id 3f1490d57ef6-e73e9e18556so4774062276.0 for ; Mon, 30 Jun 2025 11:15:29 -0700 (PDT) DKIM-Signature: v=1; a=rsa-sha256; c=relaxed/relaxed; d=iol.unh.edu; s=unh-iol; t=1751307329; x=1751912129; darn=dpdk.org; h=references:in-reply-to:cc:to:from:subject:message-id:date:from:to :cc:subject:date:message-id:reply-to; bh=w2E18bpO4eu9CBNcYaLlgyPjosTdFcOzzIsCtDIfpjs=; b=cFZqrsigC0McAMCvGl0S5hLLTMCFfy6PyUyuP3jbmtG+nUnHIMIyb9GtSEmq1oSOZk vGw5GDTUo6F/qijbFKot4PXxcWuaaz9CyGb3eUUhl2X42vmd+k1chM8p+dVt5IaOoV1T Zjsw3hScKvCWNQpU4zCnSLrxyOyzggt9DLgwY= X-Google-DKIM-Signature: v=1; a=rsa-sha256; c=relaxed/relaxed; d=1e100.net; s=20230601; t=1751307329; x=1751912129; h=references:in-reply-to:cc:to:from:subject:message-id:date :x-gm-message-state:from:to:cc:subject:date:message-id:reply-to; bh=w2E18bpO4eu9CBNcYaLlgyPjosTdFcOzzIsCtDIfpjs=; b=dQ+Hyi6NrwMJVn5YLhqyaFutPF6NUqQVrL0QG/wuktavF8g5VzGqrC1FzZN46EZVAy zp4GMRwt3bykWHAMgSGx+AbCNaTZMX3qNCuelwIb20MPaytEyvcPoXMr9smv8MZ9wRmn dThFt+H2HbUBrOebrMmZajUSyFy+kZYFevVnL/JEo5gkKbBDYThXiCVT89ckh/+amHG/ Pk9kqP67X2DdTs/Ncp7Yj4I84Sp1ktANQQy69XxjK/K2d0uo+B50+kfnry3rZSq3QVeM rCAPM7jcNhVQLT4qUF//s6lixX5Re+3eHp+Uig1DIXhSlKg8I9L9zrcgTCAFojW1Vj9d FkLQ== X-Gm-Message-State: AOJu0YwNJqM85qP2fi3soaaIEVowNFOX1rlMBpJIcRBNmwexRvupuXIy 1WSHlQpdioddDJx+TczkDP0cyFSPltqmra5x4YcKRaYTxon7yIq7+Edn4UgKea1VPxx/GGc1KCi K5t9lY9BnMGBq8F0AZUWCYfH1GY4DZdQwR3yrDAVskisHWnMpws6jwG0fRzDC X-Gm-Gg: ASbGnctkcWDxBhDdiE/7PaJNCeC2QwKsEXMb+SpAMju28yzOCif5n6tZzfXR0K4ocTl zZyuMynjV3F33smpdquhw0+5QhNZZ29X5unxPSfj1bFK7+9XUZxGr0ViaJqCupYbb+pSER5NhND Vy5ntS3/jota5ztr+KCwqg/MYEs+UGVAj+SkVzUZUhmVc3K25Feqjkf3ipaNAkMK018mbtqGMY7 FODY/phLzUkG2Umr9laVZctEwAKgbvRid7Cel9Nh97wBmcPkbyeKPAv06sjzobbnaMyV296smq8 5ddeimgKi3R96eY05tjco9nlZkbfqnlOXjS7g4jVRZN1fGk= X-Google-Smtp-Source: AGHT+IH1Z0wg6jlCld4JEA74gSpDApqXakrBwHWbF/DhZRmxf9cbX08nZejyV2TqV871uxxgBnFdCfq7a1dk X-Received: by 2002:a05:6902:260b:b0:e84:4722:1853 with SMTP id 3f1490d57ef6-e896efda1fcmr695230276.17.1751307329009; Mon, 30 Jun 2025 11:15:29 -0700 (PDT) Received: from postal.iol.unh.edu (postal.iol.unh.edu. [2606:4100:3880:1234::84]) by smtp-relay.gmail.com with ESMTPS id 3f1490d57ef6-e87a6bf79b8sm408910276.17.2025.06.30.11.15.28 (version=TLS1_2 cipher=ECDHE-ECDSA-AES128-GCM-SHA256 bits=128/128); Mon, 30 Jun 2025 11:15:29 -0700 (PDT) X-Relaying-Domain: iol.unh.edu Date: Mon, 30 Jun 2025 11:15:29 -0700 (PDT) Message-ID: <6862d441.250a0220.135218.6077SMTPIN_ADDED_MISSING@mx.google.com> Received: from [172.21.0.5] (unknown [172.18.0.240]) by postal.iol.unh.edu (Postfix) with ESMTP id A04C6604D420; Mon, 30 Jun 2025 14:15:28 -0400 (EDT) Subject: |SUCCESS| pw154861 [PATCH] [v2] eal: deprecate old coremask-based EA From: dpdklab@iol.unh.edu To: Test Report Cc: dpdk-test-reports@iol.unh.edu In-Reply-To: <20250630153752.2361112-1-bruce.richardson@intel.com> References: <20250630153752.2361112-1-bruce.richardson@intel.com> Content-Type: text/plain X-BeenThere: test-report@dpdk.org X-Mailman-Version: 2.1.29 Precedence: list List-Id: automatic DPDK test reports List-Unsubscribe: , List-Archive: List-Post: List-Help: List-Subscribe: , Errors-To: test-report-bounces@dpdk.org Test-Label: iol-compile-amd64-testing Test-Status: SUCCESS http://dpdk.org/patch/154861 _Testing PASS_ Submitter: Bruce Richardson Date: Monday, June 30 2025 15:37:34 DPDK git baseline: Repo:dpdk Branch: master CommitID:20460dcffd08a4680f881c39916ae783ee830374 154861 --> testing pass Upstream job id: Windows-Compile-DPDK-Native#29455 Test environment and result as below: +---------------------+--------------------+-------------------+-------------------------+----------------------+ | Environment | dpdk_meson_compile | dpdk_msvc_compile | dpdk_llvm_clang_compile | dpdk_mingw64_compile | +=====================+====================+===================+=========================+======================+ | FreeBSD 14.2 | PASS | SKIPPED | SKIPPED | SKIPPED | +---------------------+--------------------+-------------------+-------------------------+----------------------+ | Ubuntu 20.04 | PASS | SKIPPED | SKIPPED | SKIPPED | +---------------------+--------------------+-------------------+-------------------------+----------------------+ | Windows Server 2022 | SKIPPED | PASS | PASS | PASS | +---------------------+--------------------+-------------------+-------------------------+----------------------+ FreeBSD 14.2 Kernel: 14.2-RELEASE Compiler: clang 18.1.6 Ubuntu 20.04 Kernel: 4.19 Compiler: gcc gcc (Ubuntu 9.4.0-1ubuntu1~20.04.2) 9.4.0 Windows Server 2022 Kernel: 10.0.20348.2031 Compiler: clang 15.0.7, gcc 14.1.0 (MinGW), and MSVC VS 19.39.33521 To view detailed results, visit: https://lab.dpdk.org/results/dashboard/patchsets/33546/ UNH-IOL DPDK Community Lab To manage your email subscriptions, visit: https://lab.dpdk.org/results/dashboard/preferences/subscriptions/