From mboxrd@z Thu Jan 1 00:00:00 1970 Return-Path: Received: from mails.dpdk.org (mails.dpdk.org [217.70.189.124]) by inbox.dpdk.org (Postfix) with ESMTP id 56C6846AA1 for ; Mon, 30 Jun 2025 20:21:12 +0200 (CEST) Received: from mails.dpdk.org (localhost [127.0.0.1]) by mails.dpdk.org (Postfix) with ESMTP id 2E4804025D; Mon, 30 Jun 2025 20:21:12 +0200 (CEST) Received: from mail-il1-f228.google.com (mail-il1-f228.google.com [209.85.166.228]) by mails.dpdk.org (Postfix) with ESMTP id 624954025D for ; Mon, 30 Jun 2025 20:21:11 +0200 (CEST) Received: by mail-il1-f228.google.com with SMTP id e9e14a558f8ab-3df2d111fefso21023275ab.1 for ; Mon, 30 Jun 2025 11:21:11 -0700 (PDT) DKIM-Signature: v=1; a=rsa-sha256; c=relaxed/relaxed; d=iol.unh.edu; s=unh-iol; t=1751307670; x=1751912470; darn=dpdk.org; h=references:in-reply-to:cc:to:from:subject:message-id:date:from:to :cc:subject:date:message-id:reply-to; bh=kNi/W7YV2wjxjj398IuwwtSGiQaWD2Q2Gx0gNybVTIk=; b=i9M6flrNB6w1kCqz3hjTDbBFNo3qkQa55VSm0pOyMwwXsS9zPj+BeDe6AqYknDejw1 hblCNkHTfN+IKjfl81gDIjU2PKvOfbeaME774sVH57tYINYdgcHXaXDu0SJMoUScoIoi B+WoBGTWLzYroIfVIllCPUmvevW4Wm7/YUTqA= X-Google-DKIM-Signature: v=1; a=rsa-sha256; c=relaxed/relaxed; d=1e100.net; s=20230601; t=1751307670; x=1751912470; h=references:in-reply-to:cc:to:from:subject:message-id:date :x-gm-message-state:from:to:cc:subject:date:message-id:reply-to; bh=kNi/W7YV2wjxjj398IuwwtSGiQaWD2Q2Gx0gNybVTIk=; b=qNZeoE+b3k4xLKHia753dH3eU9Eyf9sQgYQ7ThvB/46SoadtJc7nFleuC8S1CnJSqO x/vAgBKzT7TVNO6MZr7KieA8M/lVlbQaKLRnFsQYDTgZ8LAQEXtoiaK72q8vNU751W81 6NXFlxjo3Y9isBHlzZZRoJnp3vyF0dqBPO3969IKznYflV70LB7iE2NW8TeLMk++D8Ex IziBZ3ykuema8IMcB2q56wsBn//mmX7m4L1VAfKQADxyLS6cMk/vJulOX1ihHnRxTdad sWbRevQudRUkXZ+xXJkJMZxnCiTvIQwXsK4zW7CBFe/vMvyFzcsR8qSm6bZL5Qq6lxhy LEYA== X-Gm-Message-State: AOJu0YwxfdajmdOTCc5xqbpfFASu6Q+wMJNoDq/CZGz7ZevfL5zpvlTE WIsSHAH3hsuGBt7Pa8JNjLkredOGR1p1SDHmOEi6r78xsYia4zmKeqJtfUitpKZeHohrGUAYy1r hiwj0i/vyPxTdnux+9GElW1SFEAKMokHrwoJzeKbTGfuw X-Gm-Gg: ASbGnctzdWYNZGdCpV3gOco5ozY4fnrePfaNlGy2WPPz02JbcTpJKAf69nO0ys9YzJ5 gB3ujrpLnQNfY6COy3BXGkpx1tXFa6PlNS/ZX78NqYecww33OF4zt84yttJpsm6/M4i+3hyfB61 PpAVfpft3K7+9pZ8IOGcbYC69dOPT6bw+8ldMYHHoMgp+SBtvgZQsdMKaXTuNzaHgyEb86KQMDm Jsc65ia0kVff3Nebf0gjj29GYMPR2c/nhFZt6RxG76fNVLePqM1SwTacW0E8rUoHhPN5cpyGh+k wQ8G+QbQ8RHDD63+ccVdaEuY4l8WlCsIq+f/BuL9wr8HJKQXKeFu/wRH3r3qN4A8IGyM6Q== X-Google-Smtp-Source: AGHT+IFj7mBhWb36DzgO59Spu96fBUw7hMWfVKna6V3nzlDALl/Do/Pb1JWYgW4iMa80o4j0M2BNEvpSjCdR X-Received: by 2002:a05:6e02:194d:b0:3dd:c40d:787e with SMTP id e9e14a558f8ab-3df4ab56738mr148991775ab.2.1751307670563; Mon, 30 Jun 2025 11:21:10 -0700 (PDT) Received: from postal.iol.unh.edu (postal.iol.unh.edu. [132.177.123.84]) by smtp-relay.gmail.com with ESMTPS id e9e14a558f8ab-3df49fff741sm4812435ab.1.2025.06.30.11.21.10 (version=TLS1_2 cipher=ECDHE-ECDSA-AES128-GCM-SHA256 bits=128/128); Mon, 30 Jun 2025 11:21:10 -0700 (PDT) X-Relaying-Domain: iol.unh.edu Date: Mon, 30 Jun 2025 11:21:10 -0700 (PDT) Message-ID: <6862d596.050a0220.13a320.9ed4SMTPIN_ADDED_MISSING@mx.google.com> Received: from [172.21.0.5] (unknown [172.18.0.240]) by postal.iol.unh.edu (Postfix) with ESMTP id 3AC8E6050A62; Mon, 30 Jun 2025 14:21:10 -0400 (EDT) Subject: |SUCCESS| pw154860 [PATCH] [v2] test/argparse: change initialization From: dpdklab@iol.unh.edu To: Test Report Cc: dpdk-test-reports@iol.unh.edu In-Reply-To: <20250630145934.56969-1-stephen@networkplumber.org> References: <20250630145934.56969-1-stephen@networkplumber.org> Content-Type: text/plain X-BeenThere: test-report@dpdk.org X-Mailman-Version: 2.1.29 Precedence: list List-Id: automatic DPDK test reports List-Unsubscribe: , List-Archive: List-Post: List-Help: List-Subscribe: , Errors-To: test-report-bounces@dpdk.org Test-Label: iol-unit-amd64-testing Test-Status: SUCCESS http://dpdk.org/patch/154860 _Testing PASS_ Submitter: Stephen Hemminger Date: Monday, June 30 2025 14:58:49 DPDK git baseline: Repo:dpdk Branch: master CommitID:20460dcffd08a4680f881c39916ae783ee830374 154860 --> testing pass Upstream job id: Generic-Unit-Test-DPDK#351134 Test environment and result as below: +-------------------------------+----------------+ | Environment | dpdk_unit_test | +===============================+================+ | Debian GNU/Linux 12 | PASS | +-------------------------------+----------------+ | CentOS Stream 10 | PASS | +-------------------------------+----------------+ | CentOS Stream 9 | PASS | +-------------------------------+----------------+ | Fedora Linux 40 | PASS | +-------------------------------+----------------+ | Fedora Linux 41 | PASS | +-------------------------------+----------------+ | Red Hat Enterprise Linux 9.5 | PASS | +-------------------------------+----------------+ | Red Hat Enterprise Linux 8.10 | PASS | +-------------------------------+----------------+ | Ubuntu 20.04 | PASS | +-------------------------------+----------------+ | Ubuntu 22.04 | PASS | +-------------------------------+----------------+ | Ubuntu 24.04 | PASS | +-------------------------------+----------------+ | Windows Server 2022 | PASS | +-------------------------------+----------------+ Debian GNU/Linux 12 Kernel: 5.15 Compiler: gcc gcc (Debian 12.2.0-14+deb12u1) 12.2.0 CentOS Stream 10 Kernel: 5.15 Compiler: gcc gcc (GCC) 14.2.1 20250110 (Red Hat 14.2.1-8) CentOS Stream 9 Kernel: 5.15 Compiler: gcc gcc (GCC) 11.5.0 20240719 (Red Hat 11.5.0-7) Fedora Linux 40 Kernel: 5.15 Compiler: clang gcc (GCC) 14.2.1 20240912 (Red Hat 14.2.1-3) Fedora Linux 41 Kernel: 5.15 Compiler: gcc gcc (GCC) 14.3.1 20250523 (Red Hat 14.3.1-1) Red Hat Enterprise Linux 9.5 Kernel: 5.15 Compiler: gcc gcc (GCC) 11.5.0 20240719 (Red Hat 11.5.0-2) Red Hat Enterprise Linux 8.10 Kernel: 5.15 Compiler: gcc gcc (GCC) 8.5.0 20210514 (Red Hat 8.5.0-22) Ubuntu 20.04 Kernel: 5.15 Compiler: gcc gcc (Ubuntu 9.4.0-1ubuntu1~20.04.2) 9.4.0 Ubuntu 22.04 Kernel: 5.15 Compiler: gcc gcc (Ubuntu 11.4.0-1ubuntu1~22.04) 11.4.0 Ubuntu 24.04 Kernel: 5.15 Compiler: gcc gcc (Ubuntu 13.3.0-6ubuntu2~24.04) 13.3.0 Windows Server 2022 Kernel: 10.0.20348.2031 Compiler: clang 15.0.7, gcc 14.1.0 (MinGW), and MSVC VS 19.39.33521 To view detailed results, visit: https://lab.dpdk.org/results/dashboard/patchsets/33545/ UNH-IOL DPDK Community Lab To manage your email subscriptions, visit: https://lab.dpdk.org/results/dashboard/preferences/subscriptions/