From mboxrd@z Thu Jan 1 00:00:00 1970 Return-Path: Received: from mails.dpdk.org (mails.dpdk.org [217.70.189.124]) by inbox.dpdk.org (Postfix) with ESMTP id 4036546AA1 for ; Mon, 30 Jun 2025 20:21:21 +0200 (CEST) Received: from mails.dpdk.org (localhost [127.0.0.1]) by mails.dpdk.org (Postfix) with ESMTP id 3B8834025D; Mon, 30 Jun 2025 20:21:21 +0200 (CEST) Received: from mail-oa1-f100.google.com (mail-oa1-f100.google.com [209.85.160.100]) by mails.dpdk.org (Postfix) with ESMTP id EBB204025D for ; Mon, 30 Jun 2025 20:21:19 +0200 (CEST) Received: by mail-oa1-f100.google.com with SMTP id 586e51a60fabf-2ea2fee5471so2681542fac.0 for ; Mon, 30 Jun 2025 11:21:19 -0700 (PDT) DKIM-Signature: v=1; a=rsa-sha256; c=relaxed/relaxed; d=iol.unh.edu; s=unh-iol; t=1751307679; x=1751912479; darn=dpdk.org; h=references:in-reply-to:cc:to:from:subject:message-id:date:from:to :cc:subject:date:message-id:reply-to; bh=2yQwyTftcSoeFU8QokpFfSyQhn0WO8NDzI4y0Us8EPE=; b=QwqKGsknGgbEBdwh+ku1bCUEMSirzRYKRv6KnvTsncqbGWxUnDE+hbokLKz67uROGT ZnbkCRwkFV1obk+fVxQXn5MyLjCh21bW240S5z912fMPx97WfkLqHBsGSJWt9heiyrwX nY/W7fKOdyVWYQwOs0gh4C2HvXc5JROKJwmjE= X-Google-DKIM-Signature: v=1; a=rsa-sha256; c=relaxed/relaxed; d=1e100.net; s=20230601; t=1751307679; x=1751912479; h=references:in-reply-to:cc:to:from:subject:message-id:date :x-gm-message-state:from:to:cc:subject:date:message-id:reply-to; bh=2yQwyTftcSoeFU8QokpFfSyQhn0WO8NDzI4y0Us8EPE=; b=t47V83BSvRYBC03PZnPIiP/RkuYXBhkaQcAoPGGJClnUHLa7OxmoQbn3a/GzP2FpyD PCRg2XJ2M9FcRzeRV/1icaTIsNctBa+//9aMdae8XXGkTz6GTDY2njbhfcRZvFnfchQO 8BuSrYbSoc/N6YPYkWiLbzfYxI1Ahrtk4IFDOi6AVUAz/GTVDCy2neSVrCW5GShp/s+5 9GKAmM3JhpGyG/2f1J+IVfbdXkUJx4aue4bAzrfPpcptpUblcFGvv0Bn6276wWuZmuuT gZYGJ4gFWiSun8MsI8/BVL/kEbU8aeKvHrsRLgXhEjHw9tmUTBH8Xorzvz2MjQsVit3U Ww9A== X-Gm-Message-State: AOJu0Yy+vWT6wWL+qJzgKmqsmeENUO8fyltHZHtoLgQH+YYKhkSqWgyQ 1m+nYeCft1jSM0crafmuWInLUIjWR9OAqG6CM7uhVA7/bEA82QW4pSy2oZF66u+F8RCv5MQvr3Q fwlDKjoJI5nDVKxGd0gYT+1J33N5/C6pwNmXyU7TYqjme X-Gm-Gg: ASbGncsHSfOAPKVlaRaRpjFGv2vi6rG/xi4bppAgbe6dAysR6fdRPtmmGDI1JwNn+JO HpXTVTy6IyPYjoMcxRKOw1dRjAfma6m5TIbbLQI4FTVkJvtg8G1c1/+YujmgqvQe8xn1c/lPrTe /detyvnqieQoJM6sTBJdGaswumsGIMjj++ZIupWfObir1L8H6lpA52xKxI8vR80INORchBiLoG2 IDEhSI1j1qRgminbnDe9FuxzuTrM8NBphjh20SPN04s6wnFa3ZddUPT+JS4jBAovEo0vpb4b48W ZHZ3KHOZ90EGrnKTxumME8cuPyfUUbSeHzhckxRMdwO/pUSmwZ22KK6Yyb7GvrdB9JLWrA== X-Google-Smtp-Source: AGHT+IEgORidqcfHD4HNVXIBb8ypXNiJ6Wuug6f4Bg3yfIauE7bYDtTHrAysuw/3AZlF3Gm5K7wQS7pIJajZ X-Received: by 2002:a05:6870:3281:b0:2e4:c5c8:707b with SMTP id 586e51a60fabf-2f3c022d078mr457195fac.6.1751307678989; Mon, 30 Jun 2025 11:21:18 -0700 (PDT) Received: from postal.iol.unh.edu (postal.iol.unh.edu. [132.177.123.84]) by smtp-relay.gmail.com with ESMTPS id 586e51a60fabf-2efd5054ca0sm586228fac.41.2025.06.30.11.21.18 (version=TLS1_2 cipher=ECDHE-ECDSA-AES128-GCM-SHA256 bits=128/128); Mon, 30 Jun 2025 11:21:18 -0700 (PDT) X-Relaying-Domain: iol.unh.edu Date: Mon, 30 Jun 2025 11:21:18 -0700 (PDT) Message-ID: <6862d59e.050a0220.2e058.04f0SMTPIN_ADDED_MISSING@mx.google.com> Received: from [172.21.0.6] (unknown [172.18.0.240]) by postal.iol.unh.edu (Postfix) with ESMTP id 9CCB46050A62; Mon, 30 Jun 2025 14:21:18 -0400 (EDT) Subject: |SUCCESS| pw154860 [PATCH] [v2] test/argparse: change initialization From: dpdklab@iol.unh.edu To: Test Report Cc: dpdk-test-reports@iol.unh.edu In-Reply-To: <20250630145934.56969-1-stephen@networkplumber.org> References: <20250630145934.56969-1-stephen@networkplumber.org> Content-Type: text/plain X-BeenThere: test-report@dpdk.org X-Mailman-Version: 2.1.29 Precedence: list List-Id: automatic DPDK test reports List-Unsubscribe: , List-Archive: List-Post: List-Help: List-Subscribe: , Errors-To: test-report-bounces@dpdk.org Test-Label: iol-unit-amd64-testing Test-Status: SUCCESS http://dpdk.org/patch/154860 _Testing PASS_ Submitter: Stephen Hemminger Date: Monday, June 30 2025 14:58:49 DPDK git baseline: Repo:dpdk Branch: master CommitID:20460dcffd08a4680f881c39916ae783ee830374 154860 --> testing pass Upstream job id: Generic-Unit-Test-DPDK#351136 Test environment and result as below: +-------------------------------+----------------+ | Environment | dpdk_unit_test | +===============================+================+ | Debian GNU/Linux 12 | PASS | +-------------------------------+----------------+ | CentOS Stream 10 | PASS | +-------------------------------+----------------+ | CentOS Stream 9 | PASS | +-------------------------------+----------------+ | Fedora Linux 40 | PASS | +-------------------------------+----------------+ | Fedora Linux 41 | PASS | +-------------------------------+----------------+ | Red Hat Enterprise Linux 9.5 | PASS | +-------------------------------+----------------+ | Red Hat Enterprise Linux 8.10 | PASS | +-------------------------------+----------------+ | Ubuntu 20.04 | PASS | +-------------------------------+----------------+ | Ubuntu 22.04 | PASS | +-------------------------------+----------------+ | Ubuntu 24.04 | PASS | +-------------------------------+----------------+ | Windows Server 2022 | PASS | +-------------------------------+----------------+ Debian GNU/Linux 12 Kernel: 5.15 Compiler: gcc gcc (Debian 12.2.0-14+deb12u1) 12.2.0 CentOS Stream 10 Kernel: 5.15 Compiler: gcc gcc (GCC) 14.2.1 20250110 (Red Hat 14.2.1-8) CentOS Stream 9 Kernel: 5.15 Compiler: gcc gcc (GCC) 11.5.0 20240719 (Red Hat 11.5.0-7) Fedora Linux 40 Kernel: 5.15 Compiler: clang gcc (GCC) 14.2.1 20240912 (Red Hat 14.2.1-3) Fedora Linux 41 Kernel: 5.15 Compiler: gcc gcc (GCC) 14.3.1 20250523 (Red Hat 14.3.1-1) Red Hat Enterprise Linux 9.5 Kernel: 5.15 Compiler: gcc gcc (GCC) 11.5.0 20240719 (Red Hat 11.5.0-2) Red Hat Enterprise Linux 8.10 Kernel: 5.15 Compiler: gcc gcc (GCC) 8.5.0 20210514 (Red Hat 8.5.0-22) Ubuntu 20.04 Kernel: 5.15 Compiler: gcc gcc (Ubuntu 9.4.0-1ubuntu1~20.04.2) 9.4.0 Ubuntu 22.04 Kernel: 5.15 Compiler: gcc gcc (Ubuntu 11.4.0-1ubuntu1~22.04) 11.4.0 Ubuntu 24.04 Kernel: 5.15 Compiler: gcc gcc (Ubuntu 13.3.0-6ubuntu2~24.04) 13.3.0 Windows Server 2022 Kernel: 10.0.20348.2031 Compiler: clang 15.0.7, gcc 14.1.0 (MinGW), and MSVC VS 19.39.33521 To view detailed results, visit: https://lab.dpdk.org/results/dashboard/patchsets/33545/ UNH-IOL DPDK Community Lab To manage your email subscriptions, visit: https://lab.dpdk.org/results/dashboard/preferences/subscriptions/