From mboxrd@z Thu Jan 1 00:00:00 1970 Return-Path: Received: from mails.dpdk.org (mails.dpdk.org [217.70.189.124]) by inbox.dpdk.org (Postfix) with ESMTP id 5FCE846AA1 for ; Mon, 30 Jun 2025 20:22:34 +0200 (CEST) Received: from mails.dpdk.org (localhost [127.0.0.1]) by mails.dpdk.org (Postfix) with ESMTP id 5A7984025D; Mon, 30 Jun 2025 20:22:34 +0200 (CEST) Received: from mail-pl1-f228.google.com (mail-pl1-f228.google.com [209.85.214.228]) by mails.dpdk.org (Postfix) with ESMTP id 097784025D for ; Mon, 30 Jun 2025 20:22:34 +0200 (CEST) Received: by mail-pl1-f228.google.com with SMTP id d9443c01a7336-2366e5e4dbaso48688355ad.1 for ; Mon, 30 Jun 2025 11:22:33 -0700 (PDT) DKIM-Signature: v=1; a=rsa-sha256; c=relaxed/relaxed; d=iol.unh.edu; s=unh-iol; t=1751307753; x=1751912553; darn=dpdk.org; h=references:in-reply-to:cc:to:from:subject:message-id:date:from:to :cc:subject:date:message-id:reply-to; bh=Gn8mNVAjGWQRoLxS+GguR29eZmia+m2xdtvDcxyyhHA=; b=d3YG17YGUB412MB5YQ6IgYevm6qHVmlFY2UCvAhqtCSEXSgaC8SlxfRWitLLW0jO6h rLz5i7xrkWdChr66lguj0+RPxtLCzWJyYZKWdSVH6AF+mdv+rvbmXcplDDWAFk4ZKe05 yWcINQHSxuAaQTdT/2zftZYilrqgxuh7h9nv8= X-Google-DKIM-Signature: v=1; a=rsa-sha256; c=relaxed/relaxed; d=1e100.net; s=20230601; t=1751307753; x=1751912553; h=references:in-reply-to:cc:to:from:subject:message-id:date :x-gm-message-state:from:to:cc:subject:date:message-id:reply-to; bh=Gn8mNVAjGWQRoLxS+GguR29eZmia+m2xdtvDcxyyhHA=; b=o+vvFmpxce50Ya2L8+Snpf+v0V1C8fDwlYEIM1kkZxFBhXXmWZ9b7XJHbsN0tliq5J JiHCUTVJlVozv3Ob1m2abHl5R0d+bsFveVSFyv31Uyo9yHiKUmHndIyADe/eMgWzLeX7 n2RPQdUaX1XMortOjedZNhnTAN9j16qpyOMoHBAz3sKAbotbGLgOUeJCm3cIquDr1nwG 6WY+4rTixPR20eWFU8z9Pzze/mUEsCe5eli4kpZWB7Tm6nY8OVGUaPaphQsoyGP3Fghg 6hEc/2J/vk1xop8sMkRViGjf7W6BB+pU93tBaCy8rsoJ7SpLYtuoy9jMQ83fBMWYbrzZ GXQA== X-Gm-Message-State: AOJu0YyJEt8cLHczwgYa/cvhxdLF1oi/huS23HDEnLuXfkkKJCArWd8E ySxQVHREJhvOuKS1RdLMsakn7U7FdlOjF8/6zNNZvRjVYc3oAoUrt8deEBcgDLuedVinizO+pjU dqwf+q50xNfw/PvQDO9M5atq1pLubjqu+cgTZF1QTVYy2X+LWvlpQbEqgGZiG X-Gm-Gg: ASbGncvCeTmlLes6JIh4px6VzYZpWByEgXCkBFxiDoL/CYYoKOuOFJ8TOpWyUTPBB21 RY290lc8Sgg1FXee6Jze//naaHAIVZhd99n9MHBK+UOLfTT0bzK10JRkTosKwohbwA9M3CruFAh MMrAU9Lup6KHp85U4WV17dRmcSvMXrHyJnAOrDM/SVL989VcRrjE5p0g+pRPnG3abVnyziB764x BHLaeyQaoB+s0cOII3TLQypPci7JhQyIDbT79r/ZrtKXcIr/6ucA7rr3srgqaHxBOeRDwRYOXVj iRct8lTX39T1OgUrTInRfTmK+ZwislT6eFypzywuiGCldds= X-Google-Smtp-Source: AGHT+IEH7AtVYiEvwXq3j68qm2j7oUD6tZBJ7XUq7RPJg8mP158Z4EkCmqYkmlS+uTSXRYAe8xrA4kj1u2KI X-Received: by 2002:a17:902:ccd1:b0:231:c3c1:babb with SMTP id d9443c01a7336-23b354dce1bmr6271525ad.18.1751307753141; Mon, 30 Jun 2025 11:22:33 -0700 (PDT) Received: from postal.iol.unh.edu (postal.iol.unh.edu. [2606:4100:3880:1234::84]) by smtp-relay.gmail.com with ESMTPS id d9443c01a7336-23acb2f21ebsm4419075ad.49.2025.06.30.11.22.33 (version=TLS1_2 cipher=ECDHE-ECDSA-AES128-GCM-SHA256 bits=128/128); Mon, 30 Jun 2025 11:22:33 -0700 (PDT) X-Relaying-Domain: iol.unh.edu Date: Mon, 30 Jun 2025 11:22:33 -0700 (PDT) Message-ID: <6862d5e9.170a0220.23819c.8720SMTPIN_ADDED_MISSING@mx.google.com> Received: from [172.21.0.5] (unknown [172.18.0.240]) by postal.iol.unh.edu (Postfix) with ESMTP id 5B3D76050A62; Mon, 30 Jun 2025 14:22:32 -0400 (EDT) Subject: |SUCCESS| pw154850-154856 [PATCH] [7/7] net/ena: upgrade driver vers From: dpdklab@iol.unh.edu To: Test Report Cc: dpdk-test-reports@iol.unh.edu In-Reply-To: <20250630111624.3677-1-shaibran@amazon.com> References: <20250630111624.3677-1-shaibran@amazon.com> Content-Type: text/plain X-BeenThere: test-report@dpdk.org X-Mailman-Version: 2.1.29 Precedence: list List-Id: automatic DPDK test reports List-Unsubscribe: , List-Archive: List-Post: List-Help: List-Subscribe: , Errors-To: test-report-bounces@dpdk.org Test-Label: iol-unit-arm64-testing Test-Status: SUCCESS http://dpdk.org/patch/154856 _Testing PASS_ Submitter: Brandes, Shai Date: Monday, June 30 2025 11:16:24 DPDK git baseline: Repo:dpdk Branch: master CommitID:798e267824a5b9018fff6e0dc37e9a9f1f73e8fb 154850-154856 --> testing pass Upstream job id: Generic-Unit-Test-DPDK#351105 Test environment and result as below: +------------------------------+----------------+---------------------------+--------------+------------------------------+ | Environment | dpdk_unit_test | cryptodev_sw_zuc_autotest | lpm_autotest | cryptodev_sw_snow3g_autotest | +==============================+================+===========================+==============+==============================+ | CentOS Stream 9 | PASS | SKIPPED | SKIPPED | SKIPPED | +------------------------------+----------------+---------------------------+--------------+------------------------------+ | Fedora Linux 40 | PASS | SKIPPED | SKIPPED | SKIPPED | +------------------------------+----------------+---------------------------+--------------+------------------------------+ | Debian GNU/Linux 12 | PASS | SKIPPED | SKIPPED | SKIPPED | +------------------------------+----------------+---------------------------+--------------+------------------------------+ | CentOS Stream 10 | PASS | SKIPPED | SKIPPED | SKIPPED | +------------------------------+----------------+---------------------------+--------------+------------------------------+ | Red Hat Enterprise Linux 9.5 | PASS | SKIPPED | SKIPPED | SKIPPED | +------------------------------+----------------+---------------------------+--------------+------------------------------+ | Ubuntu 22.04 | PASS | SKIPPED | SKIPPED | SKIPPED | +------------------------------+----------------+---------------------------+--------------+------------------------------+ | Fedora Linux 41 | PASS | SKIPPED | SKIPPED | SKIPPED | +------------------------------+----------------+---------------------------+--------------+------------------------------+ | Ubuntu 20.04 | PASS | SKIPPED | PASS | SKIPPED | +------------------------------+----------------+---------------------------+--------------+------------------------------+ | Ubuntu 24.04 | PASS | SKIPPED | SKIPPED | SKIPPED | +------------------------------+----------------+---------------------------+--------------+------------------------------+ | Debian 12 (arm) | SKIPPED | PASS | SKIPPED | PASS | +------------------------------+----------------+---------------------------+--------------+------------------------------+ CentOS Stream 9 Kernel: 5.4 Compiler: gcc gcc (GCC) 11.5.0 20240719 (Red Hat 11.5.0-7) Fedora Linux 40 Kernel: 5.4 Compiler: gcc gcc (GCC) 14.2.1 20240912 (Red Hat 14.2.1-3) Debian GNU/Linux 12 Kernel: 5.4 Compiler: gcc gcc (Debian 12.2.0-14+deb12u1) 12.2.0 CentOS Stream 10 Kernel: 5.4 Compiler: gcc gcc (GCC) 14.2.1 20250110 (Red Hat 14.2.1-8) Red Hat Enterprise Linux 9.5 Kernel: 5.4 Compiler: gcc gcc (GCC) 11.5.0 20240719 (Red Hat 11.5.0-2) Ubuntu 22.04 Kernel: 5.4 Compiler: gcc gcc (Ubuntu 11.4.0-1ubuntu1~22.04) 11.4.0 Fedora Linux 41 Kernel: 5.4 Compiler: gcc gcc (GCC) 14.3.1 20250523 (Red Hat 14.3.1-1) Ubuntu 20.04 Kernel: 5.4 Compiler: gcc gcc (Ubuntu 9.4.0-1ubuntu1~20.04.2) 9.4.0 Ubuntu 24.04 Kernel: 5.4 Compiler: gcc gcc (Ubuntu 13.3.0-6ubuntu2~24.04) 13.3.0 Debian 12 (arm) Kernel: Depends on container host Compiler: gcc (Debian 12.2.0-14) 12.2.0 To view detailed results, visit: https://lab.dpdk.org/results/dashboard/patchsets/33543/ UNH-IOL DPDK Community Lab To manage your email subscriptions, visit: https://lab.dpdk.org/results/dashboard/preferences/subscriptions/