From mboxrd@z Thu Jan 1 00:00:00 1970 Return-Path: Received: from mails.dpdk.org (mails.dpdk.org [217.70.189.124]) by inbox.dpdk.org (Postfix) with ESMTP id 53D3E46AA1 for ; Mon, 30 Jun 2025 20:32:12 +0200 (CEST) Received: from mails.dpdk.org (localhost [127.0.0.1]) by mails.dpdk.org (Postfix) with ESMTP id 41C764025D; Mon, 30 Jun 2025 20:32:12 +0200 (CEST) Received: from mail-il1-f227.google.com (mail-il1-f227.google.com [209.85.166.227]) by mails.dpdk.org (Postfix) with ESMTP id B28784025D for ; Mon, 30 Jun 2025 20:32:11 +0200 (CEST) Received: by mail-il1-f227.google.com with SMTP id e9e14a558f8ab-3de18fdeab0so42558985ab.3 for ; Mon, 30 Jun 2025 11:32:11 -0700 (PDT) DKIM-Signature: v=1; a=rsa-sha256; c=relaxed/relaxed; d=iol.unh.edu; s=unh-iol; t=1751308331; x=1751913131; darn=dpdk.org; h=references:in-reply-to:cc:to:from:subject:message-id:date:from:to :cc:subject:date:message-id:reply-to; bh=thVHToUjLGd4GbwESjqngO1rlNKZ7GUB5aHujsHQnzw=; b=NyuaajOLG8osntwI0pvdMIEgzUprTIs7oolCyvV31gENm54zCK0n2y/nQf08CR0nxY Aq/e4zExrm0cz9QQjjOMHYu/xnOsiyBa5vdG5qFe0qmBIMya0ut4x1isSvtPL5zfY8bg PywhX4lh4mSMUmCr5Q+9jYRydz864NCZ2oFUk= X-Google-DKIM-Signature: v=1; a=rsa-sha256; c=relaxed/relaxed; d=1e100.net; s=20230601; t=1751308331; x=1751913131; h=references:in-reply-to:cc:to:from:subject:message-id:date :x-gm-message-state:from:to:cc:subject:date:message-id:reply-to; bh=thVHToUjLGd4GbwESjqngO1rlNKZ7GUB5aHujsHQnzw=; b=aniDcWNeqXARqYSU9ttXJewZaqPKR57nLEeF3yymnWtsLebK4GiTB7DIKtV9ZC/b0/ US1C8ppKg65z+GF1qZ8SSdln6f722rI5gdYbQI+zwyHISOF2BS4HKqMgIZFNT7pRI8Kw 4xRoGtoxr8qdgtpO8aJvYU3N/Ww+4bUOc3aARRCrKdCIs0v9pqJRDx+47r2Keek47VYe HOd9whUMnspPiXFTnbQCbWSe2ubJbaRD2V/TFpY5I1TvVz3H5aAklk2Thw2cRlqX4vQv SLfl4guodnfoqlVRjaD/yJXSZu/QkaFhN8xA0qDicK8kVQh2/iFwLCvG/nuJMvwQRYpV y8GA== X-Gm-Message-State: AOJu0YyDdl57mcqQo38emp08yTMSw3lNJuZYleloBCxR283B8/2MOtoR 35UeWkVUNhGgc3wTDBUpR/YAGBycKXkH1hjdcx8ioCNGuqCu7l1m5jXavKSI6JdMwlP6f2WQN1S 9fzMt1fOefTomA18rfi8ow6cX+q815JAHbCoPxnXDc1gL X-Gm-Gg: ASbGncuw6AvKv/FTn+zLpjF/3LIQ8b4gY67Op/8/D7OwQrRqLypY+RUo6kiYEmrwxl+ C44mHdpy5kIZxqGOeHCAXUnWLVexsWSzOujG2pAFgg/CbXQE6bwp/AigEfo/DAXA45nzKvRnVTI MDv7IoKB4jQkHyqzwgfryqopTCnYx7o1XzRKnZuCV4KGaSt9je8SRaTK19t+kwOnuBwSmSjG/5k eSaCLURVy5jyHnP8ElbAwgzIfJIK4pIoKS42m92V3j31ZC8Xx7EJ2GVAR3VYKHiaY0CUIJWk/Lj 52V4XhczvqeEnRqOUTMGyCdOtdFr4rvQWB3gLYHduhnHoMb1Beunj8tQEIkwkIMKSUurXA== X-Google-Smtp-Source: AGHT+IHxZw6+IFAT4ISEzm55Imcf89KdHaD2Ma34VtEstcvbQr2U/U9WQoqNoRl1OVmy8KV3+rN+dYuXy8dJ X-Received: by 2002:a05:6e02:a:b0:3dd:920f:d28e with SMTP id e9e14a558f8ab-3df4aba471dmr158545055ab.13.1751308330942; Mon, 30 Jun 2025 11:32:10 -0700 (PDT) Received: from postal.iol.unh.edu (postal.iol.unh.edu. [132.177.123.84]) by smtp-relay.gmail.com with ESMTPS id 8926c6da1cb9f-5020489f705sm324145173.23.2025.06.30.11.32.10 (version=TLS1_2 cipher=ECDHE-ECDSA-AES128-GCM-SHA256 bits=128/128); Mon, 30 Jun 2025 11:32:10 -0700 (PDT) X-Relaying-Domain: iol.unh.edu Date: Mon, 30 Jun 2025 11:32:10 -0700 (PDT) Message-ID: <6862d82a.050a0220.c3451.354aSMTPIN_ADDED_MISSING@mx.google.com> Received: from [172.21.0.5] (unknown [172.18.0.240]) by postal.iol.unh.edu (Postfix) with ESMTP id 76380604D420; Mon, 30 Jun 2025 14:32:10 -0400 (EDT) Subject: |SUCCESS| pw154848 [PATCH] node: fix C++ compatibility errors (optio From: dpdklab@iol.unh.edu To: Test Report Cc: dpdk-test-reports@iol.unh.edu In-Reply-To: <20250630104939.2265866-2-bruce.richardson@intel.com> References: <20250630104939.2265866-2-bruce.richardson@intel.com> Content-Type: text/plain X-BeenThere: test-report@dpdk.org X-Mailman-Version: 2.1.29 Precedence: list List-Id: automatic DPDK test reports List-Unsubscribe: , List-Archive: List-Post: List-Help: List-Subscribe: , Errors-To: test-report-bounces@dpdk.org Test-Label: iol-compile-arm64-testing Test-Status: SUCCESS http://dpdk.org/patch/154848 _Testing PASS_ Submitter: Bruce Richardson Date: Monday, June 30 2025 10:49:40 DPDK git baseline: Repo:dpdk Branch: master CommitID:20460dcffd08a4680f881c39916ae783ee830374 154848 --> testing pass Upstream job id: Generic-DPDK-Compile-Meson#403761 Test environment and result as below: +------------------------------+--------------------+ | Environment | dpdk_meson_compile | +==============================+====================+ | Red Hat Enterprise Linux 9.5 | PASS | +------------------------------+--------------------+ | Ubuntu 20.04 | PASS | +------------------------------+--------------------+ | Debian GNU/Linux 12 | PASS | +------------------------------+--------------------+ | Fedora Linux 40 | PASS | +------------------------------+--------------------+ | Fedora Linux 41 | PASS | +------------------------------+--------------------+ | Ubuntu 22.04 | PASS | +------------------------------+--------------------+ | Ubuntu 24.04 | PASS | +------------------------------+--------------------+ | CentOS Stream 9 | PASS | +------------------------------+--------------------+ | CentOS Stream 10 | PASS | +------------------------------+--------------------+ Red Hat Enterprise Linux 9.5 Kernel: 5.4 Compiler: gcc gcc (GCC) 11.5.0 20240719 (Red Hat 11.5.0-2) Ubuntu 20.04 Kernel: 5.15 Compiler: aarch64-linux-gnu-gcc gcc (Ubuntu 9.4.0-1ubuntu1~20.04.2) 9.4.0 Debian GNU/Linux 12 Kernel: 5.4 Compiler: gcc gcc (Debian 12.2.0-14+deb12u1) 12.2.0 Fedora Linux 40 Kernel: 5.4 Compiler: gcc gcc (GCC) 14.2.1 20240912 (Red Hat 14.2.1-3) Fedora Linux 41 Kernel: 5.4 Compiler: gcc gcc (GCC) 14.3.1 20250523 (Red Hat 14.3.1-1) Ubuntu 22.04 Kernel: 5.4 Compiler: gcc gcc (Ubuntu 11.4.0-1ubuntu1~22.04) 11.4.0 Ubuntu 24.04 Kernel: 5.4 Compiler: gcc gcc (Ubuntu 13.3.0-6ubuntu2~24.04) 13.3.0 CentOS Stream 9 Kernel: 5.4 Compiler: gcc gcc (GCC) 11.5.0 20240719 (Red Hat 11.5.0-7) CentOS Stream 10 Kernel: 5.4 Compiler: gcc gcc (GCC) 14.2.1 20250110 (Red Hat 14.2.1-8) To view detailed results, visit: https://lab.dpdk.org/results/dashboard/patchsets/33541/ UNH-IOL DPDK Community Lab To manage your email subscriptions, visit: https://lab.dpdk.org/results/dashboard/preferences/subscriptions/