From mboxrd@z Thu Jan 1 00:00:00 1970 Return-Path: Received: from mails.dpdk.org (mails.dpdk.org [217.70.189.124]) by inbox.dpdk.org (Postfix) with ESMTP id 5509B46AA1 for ; Mon, 30 Jun 2025 20:32:30 +0200 (CEST) Received: from mails.dpdk.org (localhost [127.0.0.1]) by mails.dpdk.org (Postfix) with ESMTP id 4FE754025D; Mon, 30 Jun 2025 20:32:30 +0200 (CEST) Received: from mail-il1-f228.google.com (mail-il1-f228.google.com [209.85.166.228]) by mails.dpdk.org (Postfix) with ESMTP id B398C4025D for ; Mon, 30 Jun 2025 20:32:29 +0200 (CEST) Received: by mail-il1-f228.google.com with SMTP id e9e14a558f8ab-3df2f20f4bbso13845095ab.0 for ; Mon, 30 Jun 2025 11:32:29 -0700 (PDT) DKIM-Signature: v=1; a=rsa-sha256; c=relaxed/relaxed; d=iol.unh.edu; s=unh-iol; t=1751308349; x=1751913149; darn=dpdk.org; h=references:in-reply-to:cc:to:from:subject:message-id:date:from:to :cc:subject:date:message-id:reply-to; bh=b35IuCz9b2tRwbS+LF14NKh7y95uEqQbhlhMniUZ4Ns=; b=cb8C8QCrJA5Xk/A7o+Zu1uIJVfZb2ApY3bpwpbXaeEdvk3aLqGG9JshG693osKS/H+ 8GE8M1JEExtfzuJII7KgTwwdtzVJwtzSws6SN7fWTedmc4HxvkLJPY6xI0AuUmcq5mgM N/OLO7cfbCuvr9F/B/3mey9R7OtvfZCHeHmvk= X-Google-DKIM-Signature: v=1; a=rsa-sha256; c=relaxed/relaxed; d=1e100.net; s=20230601; t=1751308349; x=1751913149; h=references:in-reply-to:cc:to:from:subject:message-id:date :x-gm-message-state:from:to:cc:subject:date:message-id:reply-to; bh=b35IuCz9b2tRwbS+LF14NKh7y95uEqQbhlhMniUZ4Ns=; b=s2EF1kfbnA7aZXJ9n66Uhhhe1yMfDun231bcCCdjrX0qqMM5u2Owp9/1Kcm2mCxgaV RxJ6zY8Q3EKpSmDzN5HC3nh8IwGMgIzf5XnmWH6F+bDntGHUq1Sp2KSjKPBD2i3GtgeK RI31wlRYPU2uj4DDyvGTy0ZGJXr8n8QlB23DDeiPLOx0MOfefjFyqUJSOz1AseZGOZi/ Adl6fXsh6qzLT1NTLRejbFXMC7kiZ/3z/HboW7D0M/hhBqMAxsE5AMa99w5ZMq+jFIoV He3CcnnZrbSeaXBGni8UnSwINxwsJbj40rj61xE6nm6oNBDfbjr26P4STo9wAPyfmDQx EjDw== X-Gm-Message-State: AOJu0Yz38E3egJTYmou4AKw4sVGu8yAhaAHE0NyIz/OuIBg2D4AhrU8f 8Bs9mIrgrW9n3WlWAMNBf0w6bdg0u2rAUO+VivAVzQcnk14Pv8Ry4aGUGVd9ubv0/pPPdhp/rif tQwAHSJ/+jlOY5c0y7vI5EyfrOBVIBRrmEfV5p10UY8GW X-Gm-Gg: ASbGncvA5+yImoEU6yJBeAihKmjehID1Qdola9AHLf1Ikm8Q0BHWAQB+cMBbSVURrRE yPMlbOQL7mRBSclfma61MRh71qTy6syp+uq5fSeUrQgOD/xtPztgQPz2N/SfHOSLbrm2CDZOE/B 6E+ex1CQFPCdmpAblClxgfsoSsvBzy6250dfmCD5NyXzD5cL3OXK9HaGny4j5szr3idxzmo/mBM sIxSnCxX01RbLfcKE36MASK7Ox4Z6V2ESY9+gOPMmu87Hc3xCLPTBZ3aR+/Gd3WcjSqOoa9ky9u 2gnK5WIvEefbYvcbvSWMSIwBXWuCrKFlXqlCZSi4vLNMI/S9GrCPIK5tWmvQFahczFsrPw== X-Google-Smtp-Source: AGHT+IEWJEDAy1NQivvGZ5O4Vu5NYTtc0yrWOxf2aVgmtx9N9hfkLwCuqYhEe9mNMlwHHd02wcwJfYDJhWaH X-Received: by 2002:a05:6e02:3813:b0:3de:12ba:7d6c with SMTP id e9e14a558f8ab-3df4ab75fa7mr163802515ab.8.1751308349053; Mon, 30 Jun 2025 11:32:29 -0700 (PDT) Received: from postal.iol.unh.edu (postal.iol.unh.edu. [132.177.123.84]) by smtp-relay.gmail.com with ESMTPS id e9e14a558f8ab-3df4a0bd47dsm4732545ab.51.2025.06.30.11.32.28 (version=TLS1_2 cipher=ECDHE-ECDSA-AES128-GCM-SHA256 bits=128/128); Mon, 30 Jun 2025 11:32:29 -0700 (PDT) X-Relaying-Domain: iol.unh.edu Date: Mon, 30 Jun 2025 11:32:29 -0700 (PDT) Message-ID: <6862d83d.050a0220.22ff6b.9f3cSMTPIN_ADDED_MISSING@mx.google.com> Received: from [172.21.0.5] (unknown [172.18.0.240]) by postal.iol.unh.edu (Postfix) with ESMTP id 94C0B604D420; Mon, 30 Jun 2025 14:32:28 -0400 (EDT) Subject: |SUCCESS| pw154849 [PATCH] node: fix C++ compatibility errors (optio From: dpdklab@iol.unh.edu To: Test Report Cc: dpdk-test-reports@iol.unh.edu In-Reply-To: <20250630105025.2265901-1-bruce.richardson@intel.com> References: <20250630105025.2265901-1-bruce.richardson@intel.com> Content-Type: text/plain X-BeenThere: test-report@dpdk.org X-Mailman-Version: 2.1.29 Precedence: list List-Id: automatic DPDK test reports List-Unsubscribe: , List-Archive: List-Post: List-Help: List-Subscribe: , Errors-To: test-report-bounces@dpdk.org Test-Label: iol-compile-arm64-testing Test-Status: SUCCESS http://dpdk.org/patch/154849 _Testing PASS_ Submitter: Bruce Richardson Date: Monday, June 30 2025 10:50:14 DPDK git baseline: Repo:dpdk Branch: master CommitID:20460dcffd08a4680f881c39916ae783ee830374 154849 --> testing pass Upstream job id: Generic-DPDK-Compile-Meson#403716 Test environment and result as below: +------------------------------+--------------------+ | Environment | dpdk_meson_compile | +==============================+====================+ | Red Hat Enterprise Linux 9.5 | PASS | +------------------------------+--------------------+ | Ubuntu 20.04 | PASS | +------------------------------+--------------------+ | Debian GNU/Linux 12 | PASS | +------------------------------+--------------------+ | Fedora Linux 40 | PASS | +------------------------------+--------------------+ | Fedora Linux 41 | PASS | +------------------------------+--------------------+ | Ubuntu 22.04 | PASS | +------------------------------+--------------------+ | Ubuntu 24.04 | PASS | +------------------------------+--------------------+ | CentOS Stream 10 | PASS | +------------------------------+--------------------+ | CentOS Stream 9 | PASS | +------------------------------+--------------------+ Red Hat Enterprise Linux 9.5 Kernel: 5.4 Compiler: gcc gcc (GCC) 11.5.0 20240719 (Red Hat 11.5.0-2) Ubuntu 20.04 Kernel: 5.15 Compiler: aarch64-linux-gnu-gcc gcc (Ubuntu 9.4.0-1ubuntu1~20.04.2) 9.4.0 Debian GNU/Linux 12 Kernel: 5.4 Compiler: gcc gcc (Debian 12.2.0-14+deb12u1) 12.2.0 Fedora Linux 40 Kernel: 5.4 Compiler: gcc gcc (GCC) 14.2.1 20240912 (Red Hat 14.2.1-3) Fedora Linux 41 Kernel: 5.4 Compiler: gcc gcc (GCC) 14.3.1 20250523 (Red Hat 14.3.1-1) Ubuntu 22.04 Kernel: 5.4 Compiler: gcc gcc (Ubuntu 11.4.0-1ubuntu1~22.04) 11.4.0 Ubuntu 24.04 Kernel: 5.4 Compiler: gcc gcc (Ubuntu 13.3.0-6ubuntu2~24.04) 13.3.0 CentOS Stream 10 Kernel: 5.4 Compiler: gcc gcc (GCC) 14.2.1 20250110 (Red Hat 14.2.1-8) CentOS Stream 9 Kernel: 5.4 Compiler: gcc gcc (GCC) 11.5.0 20240719 (Red Hat 11.5.0-7) To view detailed results, visit: https://lab.dpdk.org/results/dashboard/patchsets/33542/ UNH-IOL DPDK Community Lab To manage your email subscriptions, visit: https://lab.dpdk.org/results/dashboard/preferences/subscriptions/