From mboxrd@z Thu Jan 1 00:00:00 1970 Return-Path: Received: from mails.dpdk.org (mails.dpdk.org [217.70.189.124]) by inbox.dpdk.org (Postfix) with ESMTP id 710AF46AA1 for ; Mon, 30 Jun 2025 20:33:27 +0200 (CEST) Received: from mails.dpdk.org (localhost [127.0.0.1]) by mails.dpdk.org (Postfix) with ESMTP id 6C48F4025D; Mon, 30 Jun 2025 20:33:27 +0200 (CEST) Received: from mail-ua1-f99.google.com (mail-ua1-f99.google.com [209.85.222.99]) by mails.dpdk.org (Postfix) with ESMTP id 3C2A44025D for ; Mon, 30 Jun 2025 20:33:26 +0200 (CEST) Received: by mail-ua1-f99.google.com with SMTP id a1e0cc1a2514c-87f2a0825e1so157665241.2 for ; Mon, 30 Jun 2025 11:33:26 -0700 (PDT) DKIM-Signature: v=1; a=rsa-sha256; c=relaxed/relaxed; d=iol.unh.edu; s=unh-iol; t=1751308405; x=1751913205; darn=dpdk.org; h=references:in-reply-to:cc:to:from:subject:message-id:date:from:to :cc:subject:date:message-id:reply-to; bh=RntHIjsEqb3T/8Xr03gIzfqLsz71/vSQtKnjt2LbM+Q=; b=afn8Ok9O12cmFcO4EOF5lCb5moxbTvMuw+qn1+QTyQi1/WRKRrt7ChEyhYMOePfdDr kt9kOz15+fqrkk1AYbDWUnxrW0qIWuIfpTU3o6HRlwoqltMFRdq82/XQ7lTbUXHK51c9 agph4U6RaTIau8yfMyH8M09sAxtItdDQVaUVY= X-Google-DKIM-Signature: v=1; a=rsa-sha256; c=relaxed/relaxed; d=1e100.net; s=20230601; t=1751308405; x=1751913205; h=references:in-reply-to:cc:to:from:subject:message-id:date :x-gm-message-state:from:to:cc:subject:date:message-id:reply-to; bh=RntHIjsEqb3T/8Xr03gIzfqLsz71/vSQtKnjt2LbM+Q=; b=khVeudRLlia9J53hhWnEjFRODKw4N2FAwsGZoPaKAPmouQzgdMYZew0ELIhhluHIcq se6Gl4uTgrU5HsIsYn5CQ7F7SYOTlnhc4QBlBpy/71Ph9lCmYejI+LV4zDQISUSdJZpu JNAd1OQ7quDj/pbhhJWVvJ7jMsYGWVNVGu2CyPdQ2OGHWYgDxJYUThPJMbDW2i9Xazmt gHVLgeHJAddI0tSSXmoh/tZfmHTBTm34QpPj/DiAmv3sg4xE5vjuPpjDjo4wWK+tmDcp Szx6cP92CFnDtWmlXtRRiu2QenKjPGGgOHjNWuIUAGtqKUaaGKrYNfdIYuy0lPjnJ5Tf NwEg== X-Gm-Message-State: AOJu0YxR2w7Akb0nuHkTVHkzkhMMeb8njFDKj4urehjdpAxlQyeWFCpq o6v0xECACVSKRPpwmtOYefcQl2YOMPjR0nnWsVpN377mi4+1ECHdv2KFs8nqE29+RyHutka9lNJ 3qsAvfDqnLoNDAVKwabiYUsYYBOVDQtXKe552YMrxluc9Q95SqjzV05y8JsvD X-Gm-Gg: ASbGnctdotHAeubDdpEPatwZfSPBD+9Tzi0YkFwGO36+4ZIRgBWkF3+/rvUof819e8b C/65+48kSjIPlOqA9hVabzBoZ7XcLYlc/xrXSut61oWW3ZNTlFgaoLv+vqekcJpjbGnTIgM8urA ZZPfuG395CpdOG10PDCEMAdBzTWUPzsY6JVXEjt4wn3jvHVbUomUZtflv24eDzK9JtnuXLeTBqv O3WLMB08ftsKwPZQyZeqHAz7FiXwdNdsRuqQhcptNVcERLb48r6FTVmRxJpck2oLvwNNqH5gzYF lle6FH1flZQatkx1LRmtjEwyvPA/uo35S/86UfNNf0q48pk= X-Google-Smtp-Source: AGHT+IEIVTXBOLQK4bFaYJCE/DtQu1hEeQ8g8x/C4+bSnOXr6+IZR7yqnPJoNr1dMjfbeXkej9Y0H8E//a4l X-Received: by 2002:a05:6122:2216:b0:530:6bcb:c97f with SMTP id 71dfb90a1353d-5330bfc260bmr8900109e0c.8.1751308405504; Mon, 30 Jun 2025 11:33:25 -0700 (PDT) Received: from postal.iol.unh.edu (postal.iol.unh.edu. [2606:4100:3880:1234::84]) by smtp-relay.gmail.com with ESMTPS id 71dfb90a1353d-53309206728sm578562e0c.10.2025.06.30.11.33.25 (version=TLS1_2 cipher=ECDHE-ECDSA-AES128-GCM-SHA256 bits=128/128); Mon, 30 Jun 2025 11:33:25 -0700 (PDT) X-Relaying-Domain: iol.unh.edu Date: Mon, 30 Jun 2025 11:33:25 -0700 (PDT) Message-ID: <6862d875.050a0220.3941d6.eb2fSMTPIN_ADDED_MISSING@mx.google.com> Received: from [172.21.0.6] (unknown [172.18.0.240]) by postal.iol.unh.edu (Postfix) with ESMTP id 2E0FC604D420; Mon, 30 Jun 2025 14:33:25 -0400 (EDT) Subject: |SUCCESS| pw154848 [PATCH] node: fix C++ compatibility errors (optio From: dpdklab@iol.unh.edu To: Test Report Cc: dpdk-test-reports@iol.unh.edu In-Reply-To: <20250630104939.2265866-2-bruce.richardson@intel.com> References: <20250630104939.2265866-2-bruce.richardson@intel.com> Content-Type: text/plain X-BeenThere: test-report@dpdk.org X-Mailman-Version: 2.1.29 Precedence: list List-Id: automatic DPDK test reports List-Unsubscribe: , List-Archive: List-Post: List-Help: List-Subscribe: , Errors-To: test-report-bounces@dpdk.org Test-Label: iol-compile-arm64-testing Test-Status: SUCCESS http://dpdk.org/patch/154848 _Testing PASS_ Submitter: Bruce Richardson Date: Monday, June 30 2025 10:49:40 DPDK git baseline: Repo:dpdk Branch: master CommitID:20460dcffd08a4680f881c39916ae783ee830374 154848 --> testing pass Upstream job id: Generic-DPDK-Compile-Meson#403760 Test environment and result as below: +------------------------------+--------------------+ | Environment | dpdk_meson_compile | +==============================+====================+ | Red Hat Enterprise Linux 9.5 | PASS | +------------------------------+--------------------+ | Ubuntu 20.04 | PASS | +------------------------------+--------------------+ | Debian GNU/Linux 12 | PASS | +------------------------------+--------------------+ | Fedora Linux 40 | PASS | +------------------------------+--------------------+ | Fedora Linux 41 | PASS | +------------------------------+--------------------+ | Ubuntu 22.04 | PASS | +------------------------------+--------------------+ | Ubuntu 24.04 | PASS | +------------------------------+--------------------+ | CentOS Stream 9 | PASS | +------------------------------+--------------------+ | CentOS Stream 10 | PASS | +------------------------------+--------------------+ Red Hat Enterprise Linux 9.5 Kernel: 5.4 Compiler: gcc gcc (GCC) 11.5.0 20240719 (Red Hat 11.5.0-2) Ubuntu 20.04 Kernel: 5.15 Compiler: aarch64-linux-gnu-gcc gcc (Ubuntu 9.4.0-1ubuntu1~20.04.2) 9.4.0 Debian GNU/Linux 12 Kernel: 5.4 Compiler: gcc gcc (Debian 12.2.0-14+deb12u1) 12.2.0 Fedora Linux 40 Kernel: 5.4 Compiler: gcc gcc (GCC) 14.2.1 20240912 (Red Hat 14.2.1-3) Fedora Linux 41 Kernel: 5.4 Compiler: gcc gcc (GCC) 14.3.1 20250523 (Red Hat 14.3.1-1) Ubuntu 22.04 Kernel: 5.4 Compiler: gcc gcc (Ubuntu 11.4.0-1ubuntu1~22.04) 11.4.0 Ubuntu 24.04 Kernel: 5.4 Compiler: gcc gcc (Ubuntu 13.3.0-6ubuntu2~24.04) 13.3.0 CentOS Stream 9 Kernel: 5.4 Compiler: gcc gcc (GCC) 11.5.0 20240719 (Red Hat 11.5.0-7) CentOS Stream 10 Kernel: 5.4 Compiler: gcc gcc (GCC) 14.2.1 20250110 (Red Hat 14.2.1-8) To view detailed results, visit: https://lab.dpdk.org/results/dashboard/patchsets/33541/ UNH-IOL DPDK Community Lab To manage your email subscriptions, visit: https://lab.dpdk.org/results/dashboard/preferences/subscriptions/