From mboxrd@z Thu Jan 1 00:00:00 1970 Return-Path: Received: from mails.dpdk.org (mails.dpdk.org [217.70.189.124]) by inbox.dpdk.org (Postfix) with ESMTP id 7D27646AA1 for ; Mon, 30 Jun 2025 20:33:43 +0200 (CEST) Received: from mails.dpdk.org (localhost [127.0.0.1]) by mails.dpdk.org (Postfix) with ESMTP id 78EAA4025D; Mon, 30 Jun 2025 20:33:43 +0200 (CEST) Received: from mail-qv1-f98.google.com (mail-qv1-f98.google.com [209.85.219.98]) by mails.dpdk.org (Postfix) with ESMTP id A94BC4025D for ; Mon, 30 Jun 2025 20:33:42 +0200 (CEST) Received: by mail-qv1-f98.google.com with SMTP id 6a1803df08f44-6fadd3ad18eso48582426d6.2 for ; Mon, 30 Jun 2025 11:33:42 -0700 (PDT) DKIM-Signature: v=1; a=rsa-sha256; c=relaxed/relaxed; d=iol.unh.edu; s=unh-iol; t=1751308422; x=1751913222; darn=dpdk.org; h=references:in-reply-to:cc:to:from:subject:message-id:date:from:to :cc:subject:date:message-id:reply-to; bh=SK1Hoge95j3uClIAB0BiTrLcmy94psV/rBnAqAkSOBs=; b=e556dOGCu9SZhP3dC2ocBL/vFSSY8vBr73dI2fLBgEPzt0amSgCOnuCzxR//RfyRCp DTbQq7DlVlhlp0GoUSQP4O7UoJfJOa+KLuPY5s4SlGMXk5J2W6vrM0xFZsxygEXmtecJ vzh39jbb0xY+GI3fd4Q+rtlb6c+YdDS9SvjP0= X-Google-DKIM-Signature: v=1; a=rsa-sha256; c=relaxed/relaxed; d=1e100.net; s=20230601; t=1751308422; x=1751913222; h=references:in-reply-to:cc:to:from:subject:message-id:date :x-gm-message-state:from:to:cc:subject:date:message-id:reply-to; bh=SK1Hoge95j3uClIAB0BiTrLcmy94psV/rBnAqAkSOBs=; b=S9pIrlJ6yFvHv7dy8x/CVsLoLTf0u1eE7AI3dmrOmBjtIEi+YD+cckXcxRsmF8RNlU KYcPpg2l+2Weaz3HRsL8qHjGGJv8t0ONqqrgMIAikTonjb36m8iXYcgmQBpo/no4GEKw eRAC+jY8UbYWBIt02wD1I9gNPdEh5FGHa8LaM+CbWoC6ftO2wmJRf31PE9LpcUm/2rXJ J/U52QkEQjV/cIjW0f+4U0khcyGP1xfDDjr1vM0Sz7hktZ/r8hxC53q5wpIYB614jDYr gEgkuVjj+XCENaq5JIPuRCWd9tWU70NpwXcyQqYsT7up1xBmbudPx62668a8R2oF3Ght lWBw== X-Gm-Message-State: AOJu0YxWuSZF4gippeJuZoBL1rIJLBC2TmixxLwDAyi4YsboX1ulYjjW 31H8BQxWTMuy3Ef5M1l5pTqUcapZtrErl42jCLtA5yWa0+/YkB/G/dm7TwdQlIPyUcAvnLYc4A5 14zvElk3SVWtfHoXOGPLBR8t2ekFC6FocnZFkzrc7S//1 X-Gm-Gg: ASbGnctDlPVsJz3aYQzqGWyOW9iZiQkvb7blh8AWK4x0WsFVUyvWqFid9D3O38GKOqj +1Dw3uMMYGnRItJVd9PISkawNFj8CTc+Qle2IWQSkXbehKydz2elcZFIb8VlP2IM1zgEMzfPMGe 7ZOYapOCI+ln07r1BgndrYYRJd5dI8P+TAwoGcrIgfsRNApVMsYe07Z7/w9nCjAlzlW6nAoouhu x+wJdIrYAc36kZux9ZDEBw/EqxlQ3Ssm0/8Jzf6kRtzuZ4oR5e8ujGCKIbbNXs43Wluy08n3xh7 0QVtMTjCEvZjaboNBD2REUj02/xdZnFA3s5QKMBd05O4Tu29HwPI8GiXy4J5lpwZ6t2gDw== X-Google-Smtp-Source: AGHT+IHB2VHdYH+CctUMEbXhza+mZHNwEnUh0MtAvxMke9ZBfKYLPQ1fvqXVfrC5rXTl1EjF+3/7RZnS62kK X-Received: by 2002:a05:6214:1cc3:b0:701:b10:b089 with SMTP id 6a1803df08f44-7010b10b154mr5725716d6.6.1751308421986; Mon, 30 Jun 2025 11:33:41 -0700 (PDT) Received: from postal.iol.unh.edu (postal.iol.unh.edu. [132.177.123.84]) by smtp-relay.gmail.com with ESMTPS id 6a1803df08f44-6fd771a6ff0sm5537476d6.19.2025.06.30.11.33.41 (version=TLS1_2 cipher=ECDHE-ECDSA-AES128-GCM-SHA256 bits=128/128); Mon, 30 Jun 2025 11:33:41 -0700 (PDT) X-Relaying-Domain: iol.unh.edu Date: Mon, 30 Jun 2025 11:33:41 -0700 (PDT) Message-ID: <6862d885.d40a0220.3c4e62.e043SMTPIN_ADDED_MISSING@mx.google.com> Received: from [172.21.0.5] (unknown [172.18.0.240]) by postal.iol.unh.edu (Postfix) with ESMTP id B1548604D420; Mon, 30 Jun 2025 14:33:41 -0400 (EDT) Subject: |SUCCESS| pw154848 [PATCH] node: fix C++ compatibility errors (optio From: dpdklab@iol.unh.edu To: Test Report Cc: dpdk-test-reports@iol.unh.edu In-Reply-To: <20250630104939.2265866-2-bruce.richardson@intel.com> References: <20250630104939.2265866-2-bruce.richardson@intel.com> Content-Type: text/plain X-BeenThere: test-report@dpdk.org X-Mailman-Version: 2.1.29 Precedence: list List-Id: automatic DPDK test reports List-Unsubscribe: , List-Archive: List-Post: List-Help: List-Subscribe: , Errors-To: test-report-bounces@dpdk.org Test-Label: iol-compile-arm64-testing Test-Status: SUCCESS http://dpdk.org/patch/154848 _Testing PASS_ Submitter: Bruce Richardson Date: Monday, June 30 2025 10:49:40 DPDK git baseline: Repo:dpdk Branch: master CommitID:20460dcffd08a4680f881c39916ae783ee830374 154848 --> testing pass Upstream job id: Generic-DPDK-Compile-Meson#403747 Test environment and result as below: +------------------------------+--------------------+ | Environment | dpdk_meson_compile | +==============================+====================+ | Red Hat Enterprise Linux 9.5 | PASS | +------------------------------+--------------------+ | Ubuntu 20.04 | PASS | +------------------------------+--------------------+ | Debian GNU/Linux 12 | PASS | +------------------------------+--------------------+ | Fedora Linux 40 | PASS | +------------------------------+--------------------+ | Fedora Linux 41 | PASS | +------------------------------+--------------------+ | Ubuntu 22.04 | PASS | +------------------------------+--------------------+ | Ubuntu 24.04 | PASS | +------------------------------+--------------------+ | CentOS Stream 9 | PASS | +------------------------------+--------------------+ | CentOS Stream 10 | PASS | +------------------------------+--------------------+ Red Hat Enterprise Linux 9.5 Kernel: 5.4 Compiler: gcc gcc (GCC) 11.5.0 20240719 (Red Hat 11.5.0-2) Ubuntu 20.04 Kernel: 5.15 Compiler: aarch64-linux-gnu-gcc gcc (Ubuntu 9.4.0-1ubuntu1~20.04.2) 9.4.0 Debian GNU/Linux 12 Kernel: 5.4 Compiler: gcc gcc (Debian 12.2.0-14+deb12u1) 12.2.0 Fedora Linux 40 Kernel: 5.4 Compiler: gcc gcc (GCC) 14.2.1 20240912 (Red Hat 14.2.1-3) Fedora Linux 41 Kernel: 5.4 Compiler: gcc gcc (GCC) 14.3.1 20250523 (Red Hat 14.3.1-1) Ubuntu 22.04 Kernel: 5.4 Compiler: gcc gcc (Ubuntu 11.4.0-1ubuntu1~22.04) 11.4.0 Ubuntu 24.04 Kernel: 5.4 Compiler: gcc gcc (Ubuntu 13.3.0-6ubuntu2~24.04) 13.3.0 CentOS Stream 9 Kernel: 5.4 Compiler: gcc gcc (GCC) 11.5.0 20240719 (Red Hat 11.5.0-7) CentOS Stream 10 Kernel: 5.4 Compiler: gcc gcc (GCC) 14.2.1 20250110 (Red Hat 14.2.1-8) To view detailed results, visit: https://lab.dpdk.org/results/dashboard/patchsets/33541/ UNH-IOL DPDK Community Lab To manage your email subscriptions, visit: https://lab.dpdk.org/results/dashboard/preferences/subscriptions/