From mboxrd@z Thu Jan 1 00:00:00 1970 Return-Path: Received: from mails.dpdk.org (mails.dpdk.org [217.70.189.124]) by inbox.dpdk.org (Postfix) with ESMTP id 8E82A46AA1 for ; Mon, 30 Jun 2025 20:34:06 +0200 (CEST) Received: from mails.dpdk.org (localhost [127.0.0.1]) by mails.dpdk.org (Postfix) with ESMTP id 8AB504025D; Mon, 30 Jun 2025 20:34:06 +0200 (CEST) Received: from mail-io1-f98.google.com (mail-io1-f98.google.com [209.85.166.98]) by mails.dpdk.org (Postfix) with ESMTP id 77AEC4025D for ; Mon, 30 Jun 2025 20:34:05 +0200 (CEST) Received: by mail-io1-f98.google.com with SMTP id ca18e2360f4ac-8723a232750so223490239f.1 for ; Mon, 30 Jun 2025 11:34:05 -0700 (PDT) DKIM-Signature: v=1; a=rsa-sha256; c=relaxed/relaxed; d=iol.unh.edu; s=unh-iol; t=1751308445; x=1751913245; darn=dpdk.org; h=references:in-reply-to:cc:to:from:subject:message-id:date:from:to :cc:subject:date:message-id:reply-to; bh=j9rnBlj4N11sYlp3Jj6IL5/T1SDiiPGyK02Znq+U4Hg=; b=CXS5jKoAMuTZTjZEM7al+fhxvipAUAJKOxAWyT2MWRwGkqgN70fhWdPo2Er1R4uWZL i0pLoyqwhoLQ6ZFySgl24PhNjFu5E5rvx6BYJZyeF1U5cLQFM07tKEvxsx4aHA3w+y1+ QfU8UADOkdocKUnpoCJWKesYjEpezC9aBhy8Q= X-Google-DKIM-Signature: v=1; a=rsa-sha256; c=relaxed/relaxed; d=1e100.net; s=20230601; t=1751308445; x=1751913245; h=references:in-reply-to:cc:to:from:subject:message-id:date :x-gm-message-state:from:to:cc:subject:date:message-id:reply-to; bh=j9rnBlj4N11sYlp3Jj6IL5/T1SDiiPGyK02Znq+U4Hg=; b=sNHhbPOgbVrGPhpo4KELHFWQnUpo0dr4u4Xkp4tuJ2fwkUk7OVx2OaIrmelK+29HQh CSHIJUHqr7Lh9G+OYaOKJWl8VO7uUYKIP3rryFQ4xZwMcsnzP7POQVDLwy2qgdi4quI6 vXNPRy4F23cWE6Xm+pVfeEt3UGfeXQlXdmoEUWa6Q64FkJs9kgPB0ZgWPzEd6qEHNbm5 HMM9RMZjMC3uwSu/k6TShsWAgsH6wLuJxuM407NNV+c2SKPKF9XvizOZQ/c07G2ldPuF wESUtqCa/cwvA61RxVt47ASK3+NvaDt6w1pXKv61yJ0ZW4xHUJBxZ32d7yMIOEzU1eyQ lq8w== X-Gm-Message-State: AOJu0YzlxUU4nyxdU7ubAP7QtxXdUkPT+b02UJSeVFu9ULveUDP7mHrD DGeCFFrO2ThgVHsT72BQ8OCdPLSivjGJm9HY0SCbfNTGIf2yxzWj3cd67ysgR+MdnJk/pjFO3qY dWXE2+ngJrKq4s4/ZMzyQwWjH1mNvnkkmf8dwqklZRvtR X-Gm-Gg: ASbGncvzhUwu83GIETE4BVvtB3e4B7nT2ERqO8K7ImdwDC6GazTPDHdOay0KCyLtlEg h8hyY4YKnGwezt1HXQsvMsUlyBDBm3bPYJRhiXDCrBBr9eDcCgYFEiaROC6slqqkeVs2kD1WFOy MhSPGP6+v9irPMAjvEPFgS2+PXLM6GQALEa4wMNLKUcpWbFsiD0nNEqnkwZ0AsJRxKHWbBrODfv EAYVHrIO+ruhhWBEEMIGO0imJeyEZkdMb6cK1QLC3zqxhYD6kn46QGNYONeRW0CeZ70boGy8PBJ /ngiGPMz7JIX+XBBtZug3dP7ml/4v1OtPXNAhgvnJw4pEi54gWfU1+yxUICG8/Kbbl7w7Q== X-Google-Smtp-Source: AGHT+IHmSY8Sbq01DwHqH4uKU5cwSA+kyyO1aZbx8OR4aRbyhRRvF67RzfYT/lnyUZcJN1ZLWw6LUtdd+UDh X-Received: by 2002:a05:6602:1483:b0:876:7555:9cb4 with SMTP id ca18e2360f4ac-87688258c05mr1561706939f.1.1751308444570; Mon, 30 Jun 2025 11:34:04 -0700 (PDT) Received: from postal.iol.unh.edu (postal.iol.unh.edu. [132.177.123.84]) by smtp-relay.gmail.com with ESMTPS id 8926c6da1cb9f-50204aae072sm298404173.66.2025.06.30.11.34.04 (version=TLS1_2 cipher=ECDHE-ECDSA-AES128-GCM-SHA256 bits=128/128); Mon, 30 Jun 2025 11:34:04 -0700 (PDT) X-Relaying-Domain: iol.unh.edu Date: Mon, 30 Jun 2025 11:34:04 -0700 (PDT) Message-ID: <6862d89c.050a0220.62950.fef5SMTPIN_ADDED_MISSING@mx.google.com> Received: from [172.21.0.6] (unknown [172.18.0.240]) by postal.iol.unh.edu (Postfix) with ESMTP id 16A33604D420; Mon, 30 Jun 2025 14:34:04 -0400 (EDT) Subject: |WARNING| pw154848 [PATCH] node: fix C++ compatibility errors (optio From: dpdklab@iol.unh.edu To: Test Report Cc: dpdk-test-reports@iol.unh.edu In-Reply-To: <20250630104939.2265866-2-bruce.richardson@intel.com> References: <20250630104939.2265866-2-bruce.richardson@intel.com> Content-Type: text/plain X-BeenThere: test-report@dpdk.org X-Mailman-Version: 2.1.29 Precedence: list List-Id: automatic DPDK test reports List-Unsubscribe: , List-Archive: List-Post: List-Help: List-Subscribe: , Errors-To: test-report-bounces@dpdk.org Test-Label: iol-compile-amd64-testing Test-Status: WARNING http://dpdk.org/patch/154848 _Testing issues_ Submitter: Bruce Richardson Date: Monday, June 30 2025 10:49:40 DPDK git baseline: Repo:dpdk Branch: master CommitID:20460dcffd08a4680f881c39916ae783ee830374 154848 --> testing issues Upstream job id: Generic-DPDK-Compile-Meson#403742 Test environment and result as below: +-------------------------------+--------------------+-------------------+-------------------+------------------+-------------------------+----------------------+ | Environment | dpdk_meson_compile | dpdk_msvc_compile | dpdk_compile_spdk | dpdk_compile_ovs | dpdk_llvm_clang_compile | dpdk_mingw64_compile | +===============================+====================+===================+===================+==================+=========================+======================+ | FreeBSD 14.2 | PASS | SKIPPED | SKIPPED | SKIPPED | SKIPPED | SKIPPED | +-------------------------------+--------------------+-------------------+-------------------+------------------+-------------------------+----------------------+ | Ubuntu 20.04 | PASS | SKIPPED | SKIPPED | SKIPPED | SKIPPED | SKIPPED | +-------------------------------+--------------------+-------------------+-------------------+------------------+-------------------------+----------------------+ | CentOS Stream 9 | PASS | SKIPPED | PASS | SKIPPED | SKIPPED | SKIPPED | +-------------------------------+--------------------+-------------------+-------------------+------------------+-------------------------+----------------------+ | CentOS Stream 10 | PASS | SKIPPED | SKIPPED | SKIPPED | SKIPPED | SKIPPED | +-------------------------------+--------------------+-------------------+-------------------+------------------+-------------------------+----------------------+ | Debian GNU/Linux 12 | PASS | SKIPPED | PASS | SKIPPED | SKIPPED | SKIPPED | +-------------------------------+--------------------+-------------------+-------------------+------------------+-------------------------+----------------------+ | Fedora Linux 40 | PASS | SKIPPED | PASS | SKIPPED | SKIPPED | SKIPPED | +-------------------------------+--------------------+-------------------+-------------------+------------------+-------------------------+----------------------+ | Fedora Linux 41 | PEND | SKIPPED | PEND | PEND | SKIPPED | SKIPPED | +-------------------------------+--------------------+-------------------+-------------------+------------------+-------------------------+----------------------+ | openSUSE Leap 15.6 | PEND | SKIPPED | SKIPPED | SKIPPED | SKIPPED | SKIPPED | +-------------------------------+--------------------+-------------------+-------------------+------------------+-------------------------+----------------------+ | Red Hat Enterprise Linux 8.10 | PASS | SKIPPED | SKIPPED | SKIPPED | SKIPPED | SKIPPED | +-------------------------------+--------------------+-------------------+-------------------+------------------+-------------------------+----------------------+ | Red Hat Enterprise Linux 9.5 | PASS | SKIPPED | SKIPPED | SKIPPED | SKIPPED | SKIPPED | +-------------------------------+--------------------+-------------------+-------------------+------------------+-------------------------+----------------------+ | Ubuntu 22.04 | PASS | SKIPPED | PASS | SKIPPED | SKIPPED | SKIPPED | +-------------------------------+--------------------+-------------------+-------------------+------------------+-------------------------+----------------------+ | Ubuntu 24.04 | PEND | SKIPPED | PEND | PEND | SKIPPED | SKIPPED | +-------------------------------+--------------------+-------------------+-------------------+------------------+-------------------------+----------------------+ | Alpine Linux 3.22.0 | PEND | SKIPPED | SKIPPED | SKIPPED | SKIPPED | SKIPPED | +-------------------------------+--------------------+-------------------+-------------------+------------------+-------------------------+----------------------+ | Windows Server 2022 | SKIPPED | PASS | SKIPPED | SKIPPED | PASS | PASS | +-------------------------------+--------------------+-------------------+-------------------+------------------+-------------------------+----------------------+ FreeBSD 14.2 Kernel: 14.2-RELEASE Compiler: clang 18.1.6 Ubuntu 20.04 Kernel: 4.19 Compiler: gcc gcc (Ubuntu 9.4.0-1ubuntu1~20.04.2) 9.4.0 CentOS Stream 9 Kernel: 5.15 Compiler: gcc gcc (GCC) 11.5.0 20240719 (Red Hat 11.5.0-7) CentOS Stream 10 Kernel: 5.15 Compiler: gcc gcc (GCC) 14.2.1 20250110 (Red Hat 14.2.1-8) Debian GNU/Linux 12 Kernel: 5.15 Compiler: gcc gcc (Debian 12.2.0-14+deb12u1) 12.2.0 Fedora Linux 40 Kernel: 5.15 Compiler: clang gcc (GCC) 14.2.1 20240912 (Red Hat 14.2.1-3) Fedora Linux 41 Kernel: 5.15 Compiler: clang gcc (GCC) 14.3.1 20250523 (Red Hat 14.3.1-1) openSUSE Leap 15.6 Kernel: 5.15 Compiler: gcc gcc (SUSE Linux) 7.5.0 Red Hat Enterprise Linux 8.10 Kernel: 5.15 Compiler: gcc gcc (GCC) 8.5.0 20210514 (Red Hat 8.5.0-22) Red Hat Enterprise Linux 9.5 Kernel: 5.15 Compiler: gcc gcc (GCC) 11.5.0 20240719 (Red Hat 11.5.0-2) Ubuntu 22.04 Kernel: 5.15 Compiler: gcc gcc (Ubuntu 11.4.0-1ubuntu1~22.04) 11.4.0 Ubuntu 24.04 Kernel: 5.15 Compiler: gcc gcc (Ubuntu 13.3.0-6ubuntu2~24.04) 13.3.0 Alpine Linux 3.22.0 Kernel: 5.15 Compiler: gcc gcc (Alpine 14.2.0) 14.2.0 Windows Server 2022 Kernel: 10.0.20348.2031 Compiler: clang 15.0.7, gcc 14.1.0 (MinGW), and MSVC VS 19.39.33521 To view detailed results, visit: https://lab.dpdk.org/results/dashboard/patchsets/33541/ UNH-IOL DPDK Community Lab To manage your email subscriptions, visit: https://lab.dpdk.org/results/dashboard/preferences/subscriptions/