From mboxrd@z Thu Jan 1 00:00:00 1970 Return-Path: Received: from mails.dpdk.org (mails.dpdk.org [217.70.189.124]) by inbox.dpdk.org (Postfix) with ESMTP id B038046AA1 for ; Mon, 30 Jun 2025 20:35:12 +0200 (CEST) Received: from mails.dpdk.org (localhost [127.0.0.1]) by mails.dpdk.org (Postfix) with ESMTP id AA14A4025D; Mon, 30 Jun 2025 20:35:12 +0200 (CEST) Received: from mail-pj1-f98.google.com (mail-pj1-f98.google.com [209.85.216.98]) by mails.dpdk.org (Postfix) with ESMTP id 0BFA84025D for ; Mon, 30 Jun 2025 20:35:12 +0200 (CEST) Received: by mail-pj1-f98.google.com with SMTP id 98e67ed59e1d1-31393526d0dso3065106a91.0 for ; Mon, 30 Jun 2025 11:35:11 -0700 (PDT) DKIM-Signature: v=1; a=rsa-sha256; c=relaxed/relaxed; d=iol.unh.edu; s=unh-iol; t=1751308511; x=1751913311; darn=dpdk.org; h=references:in-reply-to:cc:to:from:subject:message-id:date:from:to :cc:subject:date:message-id:reply-to; bh=edtbYnNA9ZM9XT9O0JMCcNXK+IQU2SH3eEFjM4rdEAo=; b=bx/xEXTjk2hUQO16RM+lZcNldJwk1N9iL2eCZ9+P+MJ/LzRH7RqfiAuGJMGAorP0mt OAE7XMeuvO+34qyncnO4NZspKONYIguov5DPd0CWmiibtFO2F9Zowi3jYEoarOSy30hX xu2ZXQDeRg0bkjtFfKImdci04qssGo93iZK5g= X-Google-DKIM-Signature: v=1; a=rsa-sha256; c=relaxed/relaxed; d=1e100.net; s=20230601; t=1751308511; x=1751913311; h=references:in-reply-to:cc:to:from:subject:message-id:date :x-gm-message-state:from:to:cc:subject:date:message-id:reply-to; bh=edtbYnNA9ZM9XT9O0JMCcNXK+IQU2SH3eEFjM4rdEAo=; b=hgoiRYvThreFxA2y7KfTuLWlZF/XBCpWJSpFmF70+Rx+ZYFQA695s6sT66nacD64cN ElelnvX2JfwSSV2OBoKtrdx3dNqCGoFkWZfKSD7rycLf73EEQWKvqS0fn/I99m8fpWer cG0seTh3Nw9sJDgOa+AmSayTVCvTS2i5dsqT9AJNyxfg5lik8sMe2oDmJLu0WvEwQ2vz H8aS3LhLcdiZkEdARIdTlwLQljdTOiGqHAo+Z9X5jdE2Z2wMEIOZsMt8+io7eo5KUPT6 JW3YHVZGASIaThFPGDO7NopM6pMF5wCVBuBTRjvngstzvU7eQY1h2hbN3QdqvTr57uNL tVnA== X-Gm-Message-State: AOJu0YzJ+1oJt1ku8yDnjUB60sseJLgzsuhpkhVdW7S/NJw9Ump68Zv1 iUf0czpVDiRY77cneTYZgVfGwUoTsJQhyAAMk7NaBA2MZifzddHxJkbaqEbLJH/M8/TyARE0VUV PdActfoet6BNWKPl7imubLNssZuwM6QHLbXoFSUf76RgI X-Gm-Gg: ASbGncuVl6OxXqymL8Wdt5YdSIdhBFVp8Z5MENLjTHYkLdTuPfAIMsNLKW6ktDi24WB 1s/pbwxmauH9Iv8taR1mz70O9wVhjeRq5dZ1W3mJcicQ86QONWFbC0HSjwJDGgq4Wco+XDBGylQ d/sOZ4eUbusqmI11PEcddA9A7vw+K2g/qXXcAG70ARXJ5ydXHMbJVLNzdc7zo1oZg1/WpkzhJ1E URPDpelh8IUDNn6lzygTLyS2NKZvZaFhvPLrEIrt3K5M8t1MM/cx0EpBVRNyWWHpR8DQrxC44TX eE288N1vbcFdROJXY1r8kSgN49mNM13DUEcKR1g71lq/R6ekMj5ltVPZ3MyipGgjulXkPA== X-Google-Smtp-Source: AGHT+IFNQZipL5KPbPXpoxN+LUYOO1CN6KXHAsowUzfaMCJOdmllDd/e65/qQhiavGAAcHtWLOfQO7GwbB1x X-Received: by 2002:a17:90a:d64b:b0:312:1dc9:9f67 with SMTP id 98e67ed59e1d1-318c9107a53mr21785920a91.2.1751308511116; Mon, 30 Jun 2025 11:35:11 -0700 (PDT) Received: from postal.iol.unh.edu (postal.iol.unh.edu. [132.177.123.84]) by smtp-relay.gmail.com with ESMTPS id 98e67ed59e1d1-315f54d27a6sm885150a91.12.2025.06.30.11.35.10 (version=TLS1_2 cipher=ECDHE-ECDSA-AES128-GCM-SHA256 bits=128/128); Mon, 30 Jun 2025 11:35:11 -0700 (PDT) X-Relaying-Domain: iol.unh.edu Date: Mon, 30 Jun 2025 11:35:11 -0700 (PDT) Message-ID: <6862d8df.170a0220.35657c.0242SMTPIN_ADDED_MISSING@mx.google.com> Received: from [172.21.0.7] (unknown [172.18.0.240]) by postal.iol.unh.edu (Postfix) with ESMTP id 3C5BB604D420; Mon, 30 Jun 2025 14:35:10 -0400 (EDT) Subject: |WARNING| pw154848 [PATCH] node: fix C++ compatibility errors (optio From: dpdklab@iol.unh.edu To: Test Report Cc: dpdk-test-reports@iol.unh.edu In-Reply-To: <20250630104939.2265866-2-bruce.richardson@intel.com> References: <20250630104939.2265866-2-bruce.richardson@intel.com> Content-Type: text/plain X-BeenThere: test-report@dpdk.org X-Mailman-Version: 2.1.29 Precedence: list List-Id: automatic DPDK test reports List-Unsubscribe: , List-Archive: List-Post: List-Help: List-Subscribe: , Errors-To: test-report-bounces@dpdk.org Test-Label: iol-compile-amd64-testing Test-Status: WARNING http://dpdk.org/patch/154848 _Testing issues_ Submitter: Bruce Richardson Date: Monday, June 30 2025 10:49:40 DPDK git baseline: Repo:dpdk Branch: master CommitID:20460dcffd08a4680f881c39916ae783ee830374 154848 --> testing issues Upstream job id: Generic-DPDK-Compile-Meson#403734 Test environment and result as below: +-------------------------------+--------------------+-------------------+-------------------+------------------+-------------------------+----------------------+ | Environment | dpdk_meson_compile | dpdk_msvc_compile | dpdk_compile_spdk | dpdk_compile_ovs | dpdk_llvm_clang_compile | dpdk_mingw64_compile | +===============================+====================+===================+===================+==================+=========================+======================+ | FreeBSD 14.2 | PASS | SKIPPED | SKIPPED | SKIPPED | SKIPPED | SKIPPED | +-------------------------------+--------------------+-------------------+-------------------+------------------+-------------------------+----------------------+ | Ubuntu 20.04 | PASS | SKIPPED | SKIPPED | SKIPPED | SKIPPED | SKIPPED | +-------------------------------+--------------------+-------------------+-------------------+------------------+-------------------------+----------------------+ | CentOS Stream 9 | PASS | SKIPPED | PASS | SKIPPED | SKIPPED | SKIPPED | +-------------------------------+--------------------+-------------------+-------------------+------------------+-------------------------+----------------------+ | CentOS Stream 10 | PASS | SKIPPED | SKIPPED | SKIPPED | SKIPPED | SKIPPED | +-------------------------------+--------------------+-------------------+-------------------+------------------+-------------------------+----------------------+ | Debian GNU/Linux 12 | PASS | SKIPPED | PASS | SKIPPED | SKIPPED | SKIPPED | +-------------------------------+--------------------+-------------------+-------------------+------------------+-------------------------+----------------------+ | Fedora Linux 40 | PASS | SKIPPED | PASS | SKIPPED | SKIPPED | SKIPPED | +-------------------------------+--------------------+-------------------+-------------------+------------------+-------------------------+----------------------+ | Fedora Linux 41 | PEND | SKIPPED | PEND | PEND | SKIPPED | SKIPPED | +-------------------------------+--------------------+-------------------+-------------------+------------------+-------------------------+----------------------+ | openSUSE Leap 15.6 | PEND | SKIPPED | SKIPPED | SKIPPED | SKIPPED | SKIPPED | +-------------------------------+--------------------+-------------------+-------------------+------------------+-------------------------+----------------------+ | Red Hat Enterprise Linux 8.10 | PASS | SKIPPED | SKIPPED | SKIPPED | SKIPPED | SKIPPED | +-------------------------------+--------------------+-------------------+-------------------+------------------+-------------------------+----------------------+ | Red Hat Enterprise Linux 9.5 | PASS | SKIPPED | SKIPPED | SKIPPED | SKIPPED | SKIPPED | +-------------------------------+--------------------+-------------------+-------------------+------------------+-------------------------+----------------------+ | Ubuntu 22.04 | PASS | SKIPPED | PASS | SKIPPED | SKIPPED | SKIPPED | +-------------------------------+--------------------+-------------------+-------------------+------------------+-------------------------+----------------------+ | Ubuntu 24.04 | PEND | SKIPPED | PEND | PEND | SKIPPED | SKIPPED | +-------------------------------+--------------------+-------------------+-------------------+------------------+-------------------------+----------------------+ | Alpine Linux 3.22.0 | PEND | SKIPPED | SKIPPED | SKIPPED | SKIPPED | SKIPPED | +-------------------------------+--------------------+-------------------+-------------------+------------------+-------------------------+----------------------+ | Windows Server 2022 | SKIPPED | PASS | SKIPPED | SKIPPED | PASS | PASS | +-------------------------------+--------------------+-------------------+-------------------+------------------+-------------------------+----------------------+ FreeBSD 14.2 Kernel: 14.2-RELEASE Compiler: clang 18.1.6 Ubuntu 20.04 Kernel: 4.19 Compiler: gcc gcc (Ubuntu 9.4.0-1ubuntu1~20.04.2) 9.4.0 CentOS Stream 9 Kernel: 5.15 Compiler: gcc gcc (GCC) 11.5.0 20240719 (Red Hat 11.5.0-7) CentOS Stream 10 Kernel: 5.15 Compiler: gcc gcc (GCC) 14.2.1 20250110 (Red Hat 14.2.1-8) Debian GNU/Linux 12 Kernel: 5.15 Compiler: gcc gcc (Debian 12.2.0-14+deb12u1) 12.2.0 Fedora Linux 40 Kernel: 5.15 Compiler: clang gcc (GCC) 14.2.1 20240912 (Red Hat 14.2.1-3) Fedora Linux 41 Kernel: 5.15 Compiler: clang gcc (GCC) 14.3.1 20250523 (Red Hat 14.3.1-1) openSUSE Leap 15.6 Kernel: 5.15 Compiler: gcc gcc (SUSE Linux) 7.5.0 Red Hat Enterprise Linux 8.10 Kernel: 5.15 Compiler: gcc gcc (GCC) 8.5.0 20210514 (Red Hat 8.5.0-22) Red Hat Enterprise Linux 9.5 Kernel: 5.15 Compiler: gcc gcc (GCC) 11.5.0 20240719 (Red Hat 11.5.0-2) Ubuntu 22.04 Kernel: 5.15 Compiler: gcc gcc (Ubuntu 11.4.0-1ubuntu1~22.04) 11.4.0 Ubuntu 24.04 Kernel: 5.15 Compiler: gcc gcc (Ubuntu 13.3.0-6ubuntu2~24.04) 13.3.0 Alpine Linux 3.22.0 Kernel: 5.15 Compiler: gcc gcc (Alpine 14.2.0) 14.2.0 Windows Server 2022 Kernel: 10.0.20348.2031 Compiler: clang 15.0.7, gcc 14.1.0 (MinGW), and MSVC VS 19.39.33521 To view detailed results, visit: https://lab.dpdk.org/results/dashboard/patchsets/33541/ UNH-IOL DPDK Community Lab To manage your email subscriptions, visit: https://lab.dpdk.org/results/dashboard/preferences/subscriptions/