From mboxrd@z Thu Jan 1 00:00:00 1970 Return-Path: Received: from mails.dpdk.org (mails.dpdk.org [217.70.189.124]) by inbox.dpdk.org (Postfix) with ESMTP id 7856D46AA1 for ; Mon, 30 Jun 2025 21:20:16 +0200 (CEST) Received: from mails.dpdk.org (localhost [127.0.0.1]) by mails.dpdk.org (Postfix) with ESMTP id 738764025D; Mon, 30 Jun 2025 21:20:16 +0200 (CEST) Received: from mail-pf1-f228.google.com (mail-pf1-f228.google.com [209.85.210.228]) by mails.dpdk.org (Postfix) with ESMTP id 725004025D for ; Mon, 30 Jun 2025 21:20:15 +0200 (CEST) Received: by mail-pf1-f228.google.com with SMTP id d2e1a72fcca58-748d982e97cso2578658b3a.1 for ; Mon, 30 Jun 2025 12:20:15 -0700 (PDT) DKIM-Signature: v=1; a=rsa-sha256; c=relaxed/relaxed; d=iol.unh.edu; s=unh-iol; t=1751311214; x=1751916014; darn=dpdk.org; h=references:in-reply-to:cc:to:from:subject:message-id:date:from:to :cc:subject:date:message-id:reply-to; bh=Cl0HZ8Qc2R2HlQ8hQ4LWbWDRxmFilOArqDb27GzxZYo=; b=bTqiDi8+vvBXn2+L6FEqd01vVEwEmofEAtEvYPPovhChxvR9ttQH0A7rJvSPk/fmHX laYSsMD6qDoKyg6QH7QQLPAG3D7MbOYaDU0yaBbqc5hawzTdddVyB+PCjabO4SHdMR1I woHfuY1jFPlZxPjW74JP3m63IWKH9zIg+KYC4= X-Google-DKIM-Signature: v=1; a=rsa-sha256; c=relaxed/relaxed; d=1e100.net; s=20230601; t=1751311214; x=1751916014; h=references:in-reply-to:cc:to:from:subject:message-id:date :x-gm-message-state:from:to:cc:subject:date:message-id:reply-to; bh=Cl0HZ8Qc2R2HlQ8hQ4LWbWDRxmFilOArqDb27GzxZYo=; b=Y9TnYkTiFg6yz1kLj6qHv9MWxVg5+ujuxf8H1ljN8YmfhhLypCyukmyh+tn0RbJW42 Uvn2ybN9f26/ZBlCeflgzYlxiMXHyQsZAILLHDNK67dl5pXwz1wyGvDTjYvHBqHp71qu kXvkhHYsKwGHuzPIRGa4g5o5J3Z74b8ETNeikUDkSgyBZAPOZEzN/H9qIqhn7ikiGtHU QnhU5txOrrT84u7D9GgTX7Z2SDFCeglPzz7WjCHrO59Xjb0eXth8UGewZ5I+EKCT33n+ REYUnzBSY/id2QmqsRR/a9ixzM9Y5Y939yMJmyljFmSZ225P3fGUr+IKHAwVAoyevf8i NWQQ== X-Gm-Message-State: AOJu0Yx2vtOCuxhnFadKPjA2+NfXn0jYjZD2R0VIbqTpaQ13UfmpBuxK DSGYeqXAvYbpuLAWqeGt5/nWvxd4jxeCSmmL79BPCiNScwgGsvbxEZ0qTcZcJEv5OQ8fBGjxxP0 y9wlWHQ3rr5kHKyvydhMdi6O1Pqo7i6kgrFRtoWXXZSDCLT4NyVNa2NTA27yT X-Gm-Gg: ASbGncuIqX27HzGdB5LDee7VlRVAqj102PpQAfKcVq3Zlf7erjgyXx5DwXJu0WfW6RT 9ZnkAoKS8qj6iWS54BW5eOpMvtLU/2KlMksmwemvaRfbRRkGNcHjF0SKIBrGBzWaVAnDyfYzfCe dOMy764cZC3pJvOd6MzVsVeCnm+uxYVULpZPirFTxOzqmB4TFBJVuv2RTrikrB+xIyugPzClGOy I7dutypODm906IpV5adF+Qq1cq17svjlga1EiHZZTF6NZD/mFa5G1sOwdspkUiRR2xdBh/DRoI3 bCZy4GZdFU3m9IJaLwAzVKryOpEn+bAwR0Q+7t8p/GddqyE= X-Google-Smtp-Source: AGHT+IGzCWo0Z9hpvCwAwXNcmus6hzLwgaEmEKegSejSNiTRiPFbPN1LiAgQ4HepMA4G5jxHHpz+uefHdybZ X-Received: by 2002:a05:6a20:a108:b0:220:94b1:f1b8 with SMTP id adf61e73a8af0-220a08dca40mr22700494637.0.1751311214537; Mon, 30 Jun 2025 12:20:14 -0700 (PDT) Received: from postal.iol.unh.edu (postal.iol.unh.edu. [2606:4100:3880:1234::84]) by smtp-relay.gmail.com with ESMTPS id 41be03b00d2f7-b34e321c3efsm401455a12.21.2025.06.30.12.20.14 (version=TLS1_2 cipher=ECDHE-ECDSA-AES128-GCM-SHA256 bits=128/128); Mon, 30 Jun 2025 12:20:14 -0700 (PDT) X-Relaying-Domain: iol.unh.edu Date: Mon, 30 Jun 2025 12:20:14 -0700 (PDT) Message-ID: <6862e36e.630a0220.156ea1.5d71SMTPIN_ADDED_MISSING@mx.google.com> Received: from [172.21.0.8] (unknown [172.18.0.240]) by postal.iol.unh.edu (Postfix) with ESMTP id CBEB3604D420; Mon, 30 Jun 2025 15:20:13 -0400 (EDT) Subject: |SUCCESS| pw154850-154856 [PATCH] [7/7] net/ena: upgrade driver vers From: dpdklab@iol.unh.edu To: Test Report Cc: dpdk-test-reports@iol.unh.edu In-Reply-To: <20250630111624.3677-1-shaibran@amazon.com> References: <20250630111624.3677-1-shaibran@amazon.com> Content-Type: text/plain X-BeenThere: test-report@dpdk.org X-Mailman-Version: 2.1.29 Precedence: list List-Id: automatic DPDK test reports List-Unsubscribe: , List-Archive: List-Post: List-Help: List-Subscribe: , Errors-To: test-report-bounces@dpdk.org Test-Label: iol-abi-testing Test-Status: SUCCESS http://dpdk.org/patch/154856 _Testing PASS_ Submitter: Brandes, Shai Date: Monday, June 30 2025 11:16:24 DPDK git baseline: Repo:dpdk Branch: master CommitID:798e267824a5b9018fff6e0dc37e9a9f1f73e8fb 154850-154856 --> testing pass Upstream job id: Generic-DPDK-Compile-ABI#132421 Test environment and result as below: +-------------------------------+----------+ | Environment | abi_test | +===============================+==========+ | CentOS Stream 9 | PASS | +-------------------------------+----------+ | CentOS Stream 10 | PASS | +-------------------------------+----------+ | Fedora Linux 40 | PASS | +-------------------------------+----------+ | Debian GNU/Linux 12 | PASS | +-------------------------------+----------+ | Fedora Linux 41 | PASS | +-------------------------------+----------+ | Red Hat Enterprise Linux 8.10 | PASS | +-------------------------------+----------+ | Red Hat Enterprise Linux 9.5 | PASS | +-------------------------------+----------+ | openSUSE Leap 15.6 | PASS | +-------------------------------+----------+ | Ubuntu 22.04 | PASS | +-------------------------------+----------+ | Ubuntu 24.04 | PASS | +-------------------------------+----------+ CentOS Stream 9 Kernel: 5.15 Compiler: gcc gcc (GCC) 11.5.0 20240719 (Red Hat 11.5.0-7) CentOS Stream 10 Kernel: 5.15 Compiler: gcc gcc (GCC) 14.2.1 20250110 (Red Hat 14.2.1-8) Fedora Linux 40 Kernel: 5.15 Compiler: clang gcc (GCC) 14.2.1 20240912 (Red Hat 14.2.1-3) Debian GNU/Linux 12 Kernel: 5.15 Compiler: gcc gcc (Debian 12.2.0-14+deb12u1) 12.2.0 Fedora Linux 41 Kernel: 5.15 Compiler: gcc gcc (GCC) 14.3.1 20250523 (Red Hat 14.3.1-1) Red Hat Enterprise Linux 8.10 Kernel: 5.15 Compiler: gcc gcc (GCC) 8.5.0 20210514 (Red Hat 8.5.0-22) Red Hat Enterprise Linux 9.5 Kernel: 5.15 Compiler: gcc gcc (GCC) 11.5.0 20240719 (Red Hat 11.5.0-2) openSUSE Leap 15.6 Kernel: 5.15 Compiler: gcc gcc (SUSE Linux) 7.5.0 Ubuntu 22.04 Kernel: 5.15 Compiler: gcc gcc (Ubuntu 11.4.0-1ubuntu1~22.04) 11.4.0 Ubuntu 24.04 Kernel: 5.15 Compiler: gcc gcc (Ubuntu 13.3.0-6ubuntu2~24.04) 13.3.0 To view detailed results, visit: https://lab.dpdk.org/results/dashboard/patchsets/33543/ UNH-IOL DPDK Community Lab To manage your email subscriptions, visit: https://lab.dpdk.org/results/dashboard/preferences/subscriptions/