From mboxrd@z Thu Jan 1 00:00:00 1970 Return-Path: Received: from mails.dpdk.org (mails.dpdk.org [217.70.189.124]) by inbox.dpdk.org (Postfix) with ESMTP id 82E0946AA1 for ; Mon, 30 Jun 2025 21:20:24 +0200 (CEST) Received: from mails.dpdk.org (localhost [127.0.0.1]) by mails.dpdk.org (Postfix) with ESMTP id 7D8E14025D; Mon, 30 Jun 2025 21:20:24 +0200 (CEST) Received: from mail-il1-f226.google.com (mail-il1-f226.google.com [209.85.166.226]) by mails.dpdk.org (Postfix) with ESMTP id 549034025D for ; Mon, 30 Jun 2025 21:20:23 +0200 (CEST) Received: by mail-il1-f226.google.com with SMTP id e9e14a558f8ab-3da73df6c4eso38016155ab.0 for ; Mon, 30 Jun 2025 12:20:23 -0700 (PDT) DKIM-Signature: v=1; a=rsa-sha256; c=relaxed/relaxed; d=iol.unh.edu; s=unh-iol; t=1751311222; x=1751916022; darn=dpdk.org; h=references:in-reply-to:cc:to:from:subject:message-id:date:from:to :cc:subject:date:message-id:reply-to; bh=YF/b+wHxyFnzbK3WbVy6bUOkd4IFU9Ibhfa+TkvStSI=; b=DXe8U9azH38m1COUG7D4NPLllWDadd+vUr4bJGSypeixdWrV7aBX70KIt70ilPDnV0 A0Ji0kO33wxrVKYQsh6xzrWGlf6wE8GZNCsP7Ii4NEwFztnQ7A8Cy3qQdTj4OSxzoXff ewhR1M8xO6aj28VJ8pFFwvjclcDO/6kI1AnwI= X-Google-DKIM-Signature: v=1; a=rsa-sha256; c=relaxed/relaxed; d=1e100.net; s=20230601; t=1751311222; x=1751916022; h=references:in-reply-to:cc:to:from:subject:message-id:date :x-gm-message-state:from:to:cc:subject:date:message-id:reply-to; bh=YF/b+wHxyFnzbK3WbVy6bUOkd4IFU9Ibhfa+TkvStSI=; b=QRaaj+vxbKWjgdUOofJCIChbEF9Ax6l/r315o9Jgyi8fZVnlyBUjkM8t9HwKXPgCJY SD5H/QOXv/MosBz/CDdPZd+sT3yBScMmGUR++2tGDO4A2LU8Luf1/eL2ARqsSsddQf5z uQmdjbZMdBjFwqyCM7aDzA0JfRX65F4QxCYN8elbBfQNzQ44OJhB0y+PSghxE1E4ieyq kMjutFt6YkIwEP3OS1SzL2UeGPqEvNPzFo6k/4y9JEyBQzWiAG+5zGZyb4RIM8i+xLtc ppSMHcUOgFr1GYOmBvb5vY2NJiRfy6UTwltww4gPRd/p7ohxst1M6d/lRaNIpwLgdVMg N35g== X-Gm-Message-State: AOJu0YwS9riycbJkt1adP7NM63PNmDdWZTTlhaY1w8JKftZ23Pnezz0W 3idC4R5el/MdD8HXLCn5YQPLq1Ip5wEG/ol4U9XVb138+XNHUpRYmcbzNPJhVKMxTJ+sX2rkFIR rEiZrwG4s7Vr/L9aMwFQr3rIQM1x28aUbuWIccy/7/LZB X-Gm-Gg: ASbGnctVEXm4PRxlvHhi3Snv6SD6nD2k0eIGbBVvs7NXEUjSM88tbBs8A7O5bu4SKvw CksMhzy6ZqJdUs3rejV53ntmIUMRy9THbicuSjiBswECnKrFHjMc53ZzzO0sHhC7d2LxLiNYqHr k4Yry6VRmJXwmGFj5Asj/QsAzWApT0KtV/E41z4H5YOtErPiLiXlAix6YWMsu3Cx25K/pH/2gN5 ZU5uzNe0nC77q9z4bU3p94QU0dj4MVXowkxl+6vCBzGZC/N+z5VqRykxGLBinLEH0Qkf9VnvPEF pqd+xSJ37IrhVxUf1MzvjxfAqrtilbkaea1d5a+xzQOFiLZ1n53WJi+F2iT/DEhZ08uULA== X-Google-Smtp-Source: AGHT+IHoKnTfvTzqNi2lYIkI3xoFngfx+A709fVk5Y53GT+vmLZrP9+urNtYpwaYaA/VJ+9oanXoT2inUi1M X-Received: by 2002:a05:6e02:1608:b0:3dd:89b0:8e1b with SMTP id e9e14a558f8ab-3df4abbb2d4mr172732685ab.15.1751311222606; Mon, 30 Jun 2025 12:20:22 -0700 (PDT) Received: from postal.iol.unh.edu (postal.iol.unh.edu. [132.177.123.84]) by smtp-relay.gmail.com with ESMTPS id e9e14a558f8ab-3df4a025ef9sm5067305ab.21.2025.06.30.12.20.22 (version=TLS1_2 cipher=ECDHE-ECDSA-AES128-GCM-SHA256 bits=128/128); Mon, 30 Jun 2025 12:20:22 -0700 (PDT) X-Relaying-Domain: iol.unh.edu Date: Mon, 30 Jun 2025 12:20:22 -0700 (PDT) Message-ID: <6862e376.050a0220.c2a5f.b543SMTPIN_ADDED_MISSING@mx.google.com> Received: from [172.21.0.10] (unknown [172.18.0.240]) by postal.iol.unh.edu (Postfix) with ESMTP id 3B1BF604D420; Mon, 30 Jun 2025 15:20:22 -0400 (EDT) Subject: |WARNING| pw154848 [PATCH] node: fix C++ compatibility errors (optio From: dpdklab@iol.unh.edu To: Test Report Cc: dpdk-test-reports@iol.unh.edu In-Reply-To: <20250630104939.2265866-2-bruce.richardson@intel.com> References: <20250630104939.2265866-2-bruce.richardson@intel.com> Content-Type: text/plain X-BeenThere: test-report@dpdk.org X-Mailman-Version: 2.1.29 Precedence: list List-Id: automatic DPDK test reports List-Unsubscribe: , List-Archive: List-Post: List-Help: List-Subscribe: , Errors-To: test-report-bounces@dpdk.org Test-Label: iol-compile-amd64-testing Test-Status: WARNING http://dpdk.org/patch/154848 _Testing issues_ Submitter: Bruce Richardson Date: Monday, June 30 2025 10:49:40 DPDK git baseline: Repo:dpdk Branch: master CommitID:20460dcffd08a4680f881c39916ae783ee830374 154848 --> testing issues Upstream job id: Generic-DPDK-Compile-Meson#403743 Test environment and result as below: +-------------------------------+--------------------+-------------------+-------------------+------------------+-------------------------+----------------------+ | Environment | dpdk_meson_compile | dpdk_msvc_compile | dpdk_compile_spdk | dpdk_compile_ovs | dpdk_llvm_clang_compile | dpdk_mingw64_compile | +===============================+====================+===================+===================+==================+=========================+======================+ | FreeBSD 14.2 | PASS | SKIPPED | SKIPPED | SKIPPED | SKIPPED | SKIPPED | +-------------------------------+--------------------+-------------------+-------------------+------------------+-------------------------+----------------------+ | Ubuntu 20.04 | PASS | SKIPPED | SKIPPED | SKIPPED | SKIPPED | SKIPPED | +-------------------------------+--------------------+-------------------+-------------------+------------------+-------------------------+----------------------+ | CentOS Stream 9 | PASS | SKIPPED | PASS | SKIPPED | SKIPPED | SKIPPED | +-------------------------------+--------------------+-------------------+-------------------+------------------+-------------------------+----------------------+ | CentOS Stream 10 | PASS | SKIPPED | SKIPPED | SKIPPED | SKIPPED | SKIPPED | +-------------------------------+--------------------+-------------------+-------------------+------------------+-------------------------+----------------------+ | Debian GNU/Linux 12 | PASS | SKIPPED | PASS | SKIPPED | SKIPPED | SKIPPED | +-------------------------------+--------------------+-------------------+-------------------+------------------+-------------------------+----------------------+ | Fedora Linux 40 | PASS | SKIPPED | PASS | SKIPPED | SKIPPED | SKIPPED | +-------------------------------+--------------------+-------------------+-------------------+------------------+-------------------------+----------------------+ | Fedora Linux 41 | PASS | SKIPPED | PASS | PASS | SKIPPED | SKIPPED | +-------------------------------+--------------------+-------------------+-------------------+------------------+-------------------------+----------------------+ | openSUSE Leap 15.6 | PASS | SKIPPED | SKIPPED | SKIPPED | SKIPPED | SKIPPED | +-------------------------------+--------------------+-------------------+-------------------+------------------+-------------------------+----------------------+ | Red Hat Enterprise Linux 8.10 | PASS | SKIPPED | SKIPPED | SKIPPED | SKIPPED | SKIPPED | +-------------------------------+--------------------+-------------------+-------------------+------------------+-------------------------+----------------------+ | Red Hat Enterprise Linux 9.5 | PASS | SKIPPED | SKIPPED | SKIPPED | SKIPPED | SKIPPED | +-------------------------------+--------------------+-------------------+-------------------+------------------+-------------------------+----------------------+ | Ubuntu 22.04 | PASS | SKIPPED | PASS | SKIPPED | SKIPPED | SKIPPED | +-------------------------------+--------------------+-------------------+-------------------+------------------+-------------------------+----------------------+ | Ubuntu 24.04 | PASS | SKIPPED | PASS | PASS | SKIPPED | SKIPPED | +-------------------------------+--------------------+-------------------+-------------------+------------------+-------------------------+----------------------+ | Alpine Linux 3.22.0 | PASS | SKIPPED | SKIPPED | SKIPPED | SKIPPED | SKIPPED | +-------------------------------+--------------------+-------------------+-------------------+------------------+-------------------------+----------------------+ | Windows Server 2022 | SKIPPED | PASS | SKIPPED | SKIPPED | PASS | PASS | +-------------------------------+--------------------+-------------------+-------------------+------------------+-------------------------+----------------------+ FreeBSD 14.2 Kernel: 14.2-RELEASE Compiler: clang 18.1.6 Ubuntu 20.04 Kernel: 4.19 Compiler: gcc gcc (Ubuntu 9.4.0-1ubuntu1~20.04.2) 9.4.0 CentOS Stream 9 Kernel: 5.15 Compiler: gcc gcc (GCC) 11.5.0 20240719 (Red Hat 11.5.0-7) CentOS Stream 10 Kernel: 5.15 Compiler: gcc gcc (GCC) 14.2.1 20250110 (Red Hat 14.2.1-8) Debian GNU/Linux 12 Kernel: 5.15 Compiler: gcc gcc (Debian 12.2.0-14+deb12u1) 12.2.0 Fedora Linux 40 Kernel: 5.15 Compiler: clang gcc (GCC) 14.2.1 20240912 (Red Hat 14.2.1-3) Fedora Linux 41 Kernel: 5.15 Compiler: clang gcc (GCC) 14.3.1 20250523 (Red Hat 14.3.1-1) openSUSE Leap 15.6 Kernel: 5.15 Compiler: gcc gcc (SUSE Linux) 7.5.0 Red Hat Enterprise Linux 8.10 Kernel: 5.15 Compiler: gcc gcc (GCC) 8.5.0 20210514 (Red Hat 8.5.0-22) Red Hat Enterprise Linux 9.5 Kernel: 5.15 Compiler: gcc gcc (GCC) 11.5.0 20240719 (Red Hat 11.5.0-2) Ubuntu 22.04 Kernel: 5.15 Compiler: gcc gcc (Ubuntu 11.4.0-1ubuntu1~22.04) 11.4.0 Ubuntu 24.04 Kernel: 5.15 Compiler: gcc gcc (Ubuntu 13.3.0-6ubuntu2~24.04) 13.3.0 Alpine Linux 3.22.0 Kernel: 5.15 Compiler: gcc gcc (Alpine 14.2.0) 14.2.0 Windows Server 2022 Kernel: 10.0.20348.2031 Compiler: clang 15.0.7, gcc 14.1.0 (MinGW), and MSVC VS 19.39.33521 To view detailed results, visit: https://lab.dpdk.org/results/dashboard/patchsets/33541/ UNH-IOL DPDK Community Lab To manage your email subscriptions, visit: https://lab.dpdk.org/results/dashboard/preferences/subscriptions/