From mboxrd@z Thu Jan 1 00:00:00 1970 Return-Path: Received: from mails.dpdk.org (mails.dpdk.org [217.70.189.124]) by inbox.dpdk.org (Postfix) with ESMTP id B45D446AA1 for ; Mon, 30 Jun 2025 21:21:34 +0200 (CEST) Received: from mails.dpdk.org (localhost [127.0.0.1]) by mails.dpdk.org (Postfix) with ESMTP id AAE8C4025D; Mon, 30 Jun 2025 21:21:34 +0200 (CEST) Received: from mail-il1-f226.google.com (mail-il1-f226.google.com [209.85.166.226]) by mails.dpdk.org (Postfix) with ESMTP id 152D74025D for ; Mon, 30 Jun 2025 21:21:33 +0200 (CEST) Received: by mail-il1-f226.google.com with SMTP id e9e14a558f8ab-3df30d542caso12208885ab.1 for ; Mon, 30 Jun 2025 12:21:33 -0700 (PDT) DKIM-Signature: v=1; a=rsa-sha256; c=relaxed/relaxed; d=iol.unh.edu; s=unh-iol; t=1751311292; x=1751916092; darn=dpdk.org; h=references:in-reply-to:cc:to:from:subject:message-id:date:from:to :cc:subject:date:message-id:reply-to; bh=137rggsSC4Q1DnAKGXE8hymAEq5C9DqyYzjDdiHbwVU=; b=IQW6Q+a8P2qHuDWQZYEM2l5RHGI1HJo8kcRpLpBvf7oC3qVr01eE+rF+4xgRAHVWYy 9TJiUnnEsyGf4ahstvfhsjXJs/2i+wTavYrriv8IvDcYmXP9WnOl+hABWMVyHR1MAONe VEi9BclO2HcRrSIaUS9DXqMEZRPzpChxEIeis= X-Google-DKIM-Signature: v=1; a=rsa-sha256; c=relaxed/relaxed; d=1e100.net; s=20230601; t=1751311292; x=1751916092; h=references:in-reply-to:cc:to:from:subject:message-id:date :x-gm-message-state:from:to:cc:subject:date:message-id:reply-to; bh=137rggsSC4Q1DnAKGXE8hymAEq5C9DqyYzjDdiHbwVU=; b=QT92BwQbxU/fid/n+Q6OaqsFpw6CupiNzZPSnRZdNZEFToPbOi/PR3IDZe0KSmXD6o /IOxG27rEk1it3iLBFCeuX5hRNeFC0Gh2jhg5xOwGNPWiXxUOei5yEfQtdJJlCSeOChG b4GDxYkVq2uQfikZQhf7VUw161RoCGFGd1XI9wzgT/lzDSqo3Sa7+C8adnDXe3bHGWu8 uhYi81QaP3XqWQCrNLGJSoH83l8dVp1yMi3ONTH5ikUozy/USgfAo9wZo6vevA2S3GKA hIHIEw+zPC0u7ZKiizsPJKSQ3O+lgvTRkE5YDvicF8xV4jG+4TWqccsgFh3LTH4H3sT1 KcaQ== X-Gm-Message-State: AOJu0YwWeKgJHQGrsFeAJIDDCrNwWn86m7VDD+lV152zdTNilWem9ewm 80M4EXDfjeLvTtQbwmsCZkseAktxane3occqvMmqNsP38VGhqaIwS+/0HHX81qf6t7OkSExxJot +oU1b1zGz9YJyi1AV88PU1U9gv+A27xEITxfsg3QW98PF X-Gm-Gg: ASbGncvEvrcV8y6BXZ0RgL04ervkRJdM0jVLZwjBD4jZzgTVoLrm68XIaF5u2RLtFuJ JrJnHiQDjiHxk0zTohbR4+nbkbnqwQBeVqEu5Of/4LSQSbil5h06lVH6Q0BrFLQDp/lhHMJMfcw QrCazpC93Azl6hXTMX+147rgHQEedWAihHhKhAz6Z/ekjeAgKd5uTnMAaF4mPAl64WvXu6YGtcY enzw6QGn56y/G5QbwNJd4ZFjf7PLr7VHWJIOaXYH7WffExgUdWfKPXk5Sj2pgfLpN31DNa8d2zZ YfNhL1HUERw2Vzbkl4NfuII0tQuxwAx89nfAG01l/5bA3Z+oqqYy+bwqBOiB/2Vhezu/kA== X-Google-Smtp-Source: AGHT+IHkmBh7K1H71L4zP77BAdSRQLOi3Twl+7WDOSObaosm6HV9yj07+PrQfZrYIpfNPYHX/0n+AP2StRCo X-Received: by 2002:a92:c26a:0:b0:3dd:bb7e:f1af with SMTP id e9e14a558f8ab-3df4acb6db6mr158881715ab.20.1751311292311; Mon, 30 Jun 2025 12:21:32 -0700 (PDT) Received: from postal.iol.unh.edu (postal.iol.unh.edu. [132.177.123.84]) by smtp-relay.gmail.com with ESMTPS id 8926c6da1cb9f-50204a3f84fsm319173173.44.2025.06.30.12.21.32 (version=TLS1_2 cipher=ECDHE-ECDSA-AES128-GCM-SHA256 bits=128/128); Mon, 30 Jun 2025 12:21:32 -0700 (PDT) X-Relaying-Domain: iol.unh.edu Date: Mon, 30 Jun 2025 12:21:32 -0700 (PDT) Message-ID: <6862e3bc.050a0220.359f6c.1649SMTPIN_ADDED_MISSING@mx.google.com> Received: from [172.21.0.6] (unknown [172.18.0.240]) by postal.iol.unh.edu (Postfix) with ESMTP id CA03D604D420; Mon, 30 Jun 2025 15:21:31 -0400 (EDT) Subject: |WARNING| pw154848 [PATCH] node: fix C++ compatibility errors (optio From: dpdklab@iol.unh.edu To: Test Report Cc: dpdk-test-reports@iol.unh.edu In-Reply-To: <20250630104939.2265866-2-bruce.richardson@intel.com> References: <20250630104939.2265866-2-bruce.richardson@intel.com> Content-Type: text/plain X-BeenThere: test-report@dpdk.org X-Mailman-Version: 2.1.29 Precedence: list List-Id: automatic DPDK test reports List-Unsubscribe: , List-Archive: List-Post: List-Help: List-Subscribe: , Errors-To: test-report-bounces@dpdk.org Test-Label: iol-compile-amd64-testing Test-Status: WARNING http://dpdk.org/patch/154848 _Testing issues_ Submitter: Bruce Richardson Date: Monday, June 30 2025 10:49:40 DPDK git baseline: Repo:dpdk Branch: master CommitID:20460dcffd08a4680f881c39916ae783ee830374 154848 --> testing issues Upstream job id: Generic-DPDK-Compile-Meson#403736 Test environment and result as below: +-------------------------------+--------------------+-------------------+-------------------+------------------+-------------------------+----------------------+ | Environment | dpdk_meson_compile | dpdk_msvc_compile | dpdk_compile_spdk | dpdk_compile_ovs | dpdk_llvm_clang_compile | dpdk_mingw64_compile | +===============================+====================+===================+===================+==================+=========================+======================+ | FreeBSD 14.2 | PASS | SKIPPED | SKIPPED | SKIPPED | SKIPPED | SKIPPED | +-------------------------------+--------------------+-------------------+-------------------+------------------+-------------------------+----------------------+ | Ubuntu 20.04 | PASS | SKIPPED | SKIPPED | SKIPPED | SKIPPED | SKIPPED | +-------------------------------+--------------------+-------------------+-------------------+------------------+-------------------------+----------------------+ | CentOS Stream 9 | PASS | SKIPPED | PASS | SKIPPED | SKIPPED | SKIPPED | +-------------------------------+--------------------+-------------------+-------------------+------------------+-------------------------+----------------------+ | CentOS Stream 10 | PASS | SKIPPED | SKIPPED | SKIPPED | SKIPPED | SKIPPED | +-------------------------------+--------------------+-------------------+-------------------+------------------+-------------------------+----------------------+ | Debian GNU/Linux 12 | PASS | SKIPPED | PASS | SKIPPED | SKIPPED | SKIPPED | +-------------------------------+--------------------+-------------------+-------------------+------------------+-------------------------+----------------------+ | Fedora Linux 40 | PASS | SKIPPED | PASS | SKIPPED | SKIPPED | SKIPPED | +-------------------------------+--------------------+-------------------+-------------------+------------------+-------------------------+----------------------+ | Fedora Linux 41 | PASS | SKIPPED | PASS | PASS | SKIPPED | SKIPPED | +-------------------------------+--------------------+-------------------+-------------------+------------------+-------------------------+----------------------+ | openSUSE Leap 15.6 | PASS | SKIPPED | SKIPPED | SKIPPED | SKIPPED | SKIPPED | +-------------------------------+--------------------+-------------------+-------------------+------------------+-------------------------+----------------------+ | Red Hat Enterprise Linux 8.10 | PASS | SKIPPED | SKIPPED | SKIPPED | SKIPPED | SKIPPED | +-------------------------------+--------------------+-------------------+-------------------+------------------+-------------------------+----------------------+ | Red Hat Enterprise Linux 9.5 | PASS | SKIPPED | SKIPPED | SKIPPED | SKIPPED | SKIPPED | +-------------------------------+--------------------+-------------------+-------------------+------------------+-------------------------+----------------------+ | Ubuntu 22.04 | PASS | SKIPPED | PASS | SKIPPED | SKIPPED | SKIPPED | +-------------------------------+--------------------+-------------------+-------------------+------------------+-------------------------+----------------------+ | Ubuntu 24.04 | PASS | SKIPPED | PASS | PASS | SKIPPED | SKIPPED | +-------------------------------+--------------------+-------------------+-------------------+------------------+-------------------------+----------------------+ | Alpine Linux 3.22.0 | PASS | SKIPPED | SKIPPED | SKIPPED | SKIPPED | SKIPPED | +-------------------------------+--------------------+-------------------+-------------------+------------------+-------------------------+----------------------+ | Windows Server 2022 | SKIPPED | PASS | SKIPPED | SKIPPED | PASS | PASS | +-------------------------------+--------------------+-------------------+-------------------+------------------+-------------------------+----------------------+ FreeBSD 14.2 Kernel: 14.2-RELEASE Compiler: clang 18.1.6 Ubuntu 20.04 Kernel: 4.19 Compiler: gcc gcc (Ubuntu 9.4.0-1ubuntu1~20.04.2) 9.4.0 CentOS Stream 9 Kernel: 5.15 Compiler: gcc gcc (GCC) 11.5.0 20240719 (Red Hat 11.5.0-7) CentOS Stream 10 Kernel: 5.15 Compiler: gcc gcc (GCC) 14.2.1 20250110 (Red Hat 14.2.1-8) Debian GNU/Linux 12 Kernel: 5.15 Compiler: gcc gcc (Debian 12.2.0-14+deb12u1) 12.2.0 Fedora Linux 40 Kernel: 5.15 Compiler: clang gcc (GCC) 14.2.1 20240912 (Red Hat 14.2.1-3) Fedora Linux 41 Kernel: 5.15 Compiler: clang gcc (GCC) 14.3.1 20250523 (Red Hat 14.3.1-1) openSUSE Leap 15.6 Kernel: 5.15 Compiler: gcc gcc (SUSE Linux) 7.5.0 Red Hat Enterprise Linux 8.10 Kernel: 5.15 Compiler: gcc gcc (GCC) 8.5.0 20210514 (Red Hat 8.5.0-22) Red Hat Enterprise Linux 9.5 Kernel: 5.15 Compiler: gcc gcc (GCC) 11.5.0 20240719 (Red Hat 11.5.0-2) Ubuntu 22.04 Kernel: 5.15 Compiler: gcc gcc (Ubuntu 11.4.0-1ubuntu1~22.04) 11.4.0 Ubuntu 24.04 Kernel: 5.15 Compiler: gcc gcc (Ubuntu 13.3.0-6ubuntu2~24.04) 13.3.0 Alpine Linux 3.22.0 Kernel: 5.15 Compiler: gcc gcc (Alpine 14.2.0) 14.2.0 Windows Server 2022 Kernel: 10.0.20348.2031 Compiler: clang 15.0.7, gcc 14.1.0 (MinGW), and MSVC VS 19.39.33521 To view detailed results, visit: https://lab.dpdk.org/results/dashboard/patchsets/33541/ UNH-IOL DPDK Community Lab To manage your email subscriptions, visit: https://lab.dpdk.org/results/dashboard/preferences/subscriptions/