From mboxrd@z Thu Jan 1 00:00:00 1970 Return-Path: Received: from mails.dpdk.org (mails.dpdk.org [217.70.189.124]) by inbox.dpdk.org (Postfix) with ESMTP id CAFCE46AA1 for ; Mon, 30 Jun 2025 21:22:22 +0200 (CEST) Received: from mails.dpdk.org (localhost [127.0.0.1]) by mails.dpdk.org (Postfix) with ESMTP id C58734025D; Mon, 30 Jun 2025 21:22:22 +0200 (CEST) Received: from mail-pj1-f100.google.com (mail-pj1-f100.google.com [209.85.216.100]) by mails.dpdk.org (Postfix) with ESMTP id 32F4B4025D for ; Mon, 30 Jun 2025 21:22:21 +0200 (CEST) Received: by mail-pj1-f100.google.com with SMTP id 98e67ed59e1d1-3122a63201bso1621714a91.0 for ; Mon, 30 Jun 2025 12:22:21 -0700 (PDT) DKIM-Signature: v=1; a=rsa-sha256; c=relaxed/relaxed; d=iol.unh.edu; s=unh-iol; t=1751311340; x=1751916140; darn=dpdk.org; h=references:in-reply-to:cc:to:from:subject:message-id:date:from:to :cc:subject:date:message-id:reply-to; bh=PVLTAHlODHmrHtsLxq7KnFz0i6a3Qzyk8/8+Ke/8meU=; b=g7MnFxhdpd1Fiy0zvURBjNWwr+F/Z0QyT+njSB//4W533kB7mK8mYwVla7ZLKG1n+k MwGgWyaqqpBZRnSiHVWqbFjHDI3Qzl56MR1SpmZjkW98tm6ak9VNKERHsEWO71ddtrSB TqppYU5wQgzN86r0u25Af2nsBYtinXQL9vKu8= X-Google-DKIM-Signature: v=1; a=rsa-sha256; c=relaxed/relaxed; d=1e100.net; s=20230601; t=1751311340; x=1751916140; h=references:in-reply-to:cc:to:from:subject:message-id:date :x-gm-message-state:from:to:cc:subject:date:message-id:reply-to; bh=PVLTAHlODHmrHtsLxq7KnFz0i6a3Qzyk8/8+Ke/8meU=; b=B9J7nhJi0VWs0bewU1qadrFrVegHYoEhEOeCpupevc5rA4zUXmQ7DGBClc29pYPzz4 WjvQZbylrB0hDJM594FQNbl1pDDL0FwHlHP1sw+xJNMIPcBxzvhoD2N+gNJjayCXaDLT 7WzvUIbZWDsBQD1mb3OV4RSdKE/0pupQFBhFu4nWFTof5abblMNTYnpC4g+pyjyNbMZB EXQ5Q82roS0YIZ57hf8ebFrRhstwK2hvA7XG1IdqZ96ayKM1dctPvAVXhv2yHBixMz0J KHzLg3fyW6Fm2OIlClKw15X3NS48jfadc/BpkogkRWw4AKWEpo8eHhSt6fpzOjpuIJOc OHCQ== X-Gm-Message-State: AOJu0Yzf2RHyT8NOe6F+CJWiJ2M23xFEkS6j4zxeIL6Beu3x8EphETyC 75uIDAZeibGI6uGoOMdC3vBjPh0NMKgzZtF0yRyaq0ylbAU8pJdGU325d47Ky5wDAy1I5tqaTPO mfX3O5dWtSC0fnWynWScVWAa31k5PSg/w3y9pIBA1GKjn X-Gm-Gg: ASbGncvFYDZiQKWoqHYIRN+MbJDGEzIuJliwXSFZW0yQFwOKoI5geykUuazsPYhJAh0 SIb3JNHwnbWkm2TLAhQeGCUz0AgWM6G7sbz6CtC9/aAggNiRvLfsp9k7xc4Rjs3LYqXp/VuNYkJ 5rSnYkPDa3Qm4TsBdiu1EiB247DQ9lmrHBSlVU1avXblzKxEFl+N5j/Bl20fNAkHAhHjDAvTSnP ZFa6sWPqdTKKW7Ddmga4uGmt9UQqh0PtQHI0NZrlX0gUqyk3WGhQtECIHM1Uk58yz5fkZ+t7g0n eJ0KhFckWrItltyzBmXoPofaNgZMvnrFFOIsm3Ht1vALbZRdgARSZKRkGiexbZ07ybLeFQ== X-Google-Smtp-Source: AGHT+IH40WGXL7cJ+FEYAyEquV0hXKSyGa7PiHySGp+B1zQnaltnHiU6MEk9x27wfEuf3DNF3dgOxtepgMxn X-Received: by 2002:a17:90b:2f88:b0:311:ba32:164f with SMTP id 98e67ed59e1d1-318c9223bc9mr22273051a91.8.1751311340248; Mon, 30 Jun 2025 12:22:20 -0700 (PDT) Received: from postal.iol.unh.edu (postal.iol.unh.edu. [132.177.123.84]) by smtp-relay.gmail.com with ESMTPS id 98e67ed59e1d1-318c1471c04sm597970a91.13.2025.06.30.12.22.20 (version=TLS1_2 cipher=ECDHE-ECDSA-AES128-GCM-SHA256 bits=128/128); Mon, 30 Jun 2025 12:22:20 -0700 (PDT) X-Relaying-Domain: iol.unh.edu Date: Mon, 30 Jun 2025 12:22:20 -0700 (PDT) Message-ID: <6862e3ec.170a0220.2192ad.1204SMTPIN_ADDED_MISSING@mx.google.com> Received: from [172.21.0.7] (unknown [172.18.0.240]) by postal.iol.unh.edu (Postfix) with ESMTP id 6C4FB604D421; Mon, 30 Jun 2025 15:22:19 -0400 (EDT) Subject: |SUCCESS| pw154860 [PATCH] [v2] test/argparse: change initialization From: dpdklab@iol.unh.edu To: Test Report Cc: dpdk-test-reports@iol.unh.edu In-Reply-To: <20250630145934.56969-1-stephen@networkplumber.org> References: <20250630145934.56969-1-stephen@networkplumber.org> Content-Type: text/plain X-BeenThere: test-report@dpdk.org X-Mailman-Version: 2.1.29 Precedence: list List-Id: automatic DPDK test reports List-Unsubscribe: , List-Archive: List-Post: List-Help: List-Subscribe: , Errors-To: test-report-bounces@dpdk.org Test-Label: iol-unit-arm64-testing Test-Status: SUCCESS http://dpdk.org/patch/154860 _Testing PASS_ Submitter: Stephen Hemminger Date: Monday, June 30 2025 14:58:49 DPDK git baseline: Repo:dpdk Branch: master CommitID:20460dcffd08a4680f881c39916ae783ee830374 154860 --> testing pass Upstream job id: Generic-Unit-Test-DPDK#351144 Test environment and result as below: +------------------------------+----------------+--------------+------------------------------+---------------------------+ | Environment | dpdk_unit_test | lpm_autotest | cryptodev_sw_snow3g_autotest | cryptodev_sw_zuc_autotest | +==============================+================+==============+==============================+===========================+ | CentOS Stream 9 | PASS | SKIPPED | SKIPPED | SKIPPED | +------------------------------+----------------+--------------+------------------------------+---------------------------+ | Debian GNU/Linux 12 | PASS | SKIPPED | SKIPPED | SKIPPED | +------------------------------+----------------+--------------+------------------------------+---------------------------+ | CentOS Stream 10 | PASS | SKIPPED | SKIPPED | SKIPPED | +------------------------------+----------------+--------------+------------------------------+---------------------------+ | Fedora Linux 41 | PASS | SKIPPED | SKIPPED | SKIPPED | +------------------------------+----------------+--------------+------------------------------+---------------------------+ | Fedora Linux 40 | PASS | SKIPPED | SKIPPED | SKIPPED | +------------------------------+----------------+--------------+------------------------------+---------------------------+ | Ubuntu 20.04 | PASS | PASS | SKIPPED | SKIPPED | +------------------------------+----------------+--------------+------------------------------+---------------------------+ | Ubuntu 24.04 | PASS | SKIPPED | SKIPPED | SKIPPED | +------------------------------+----------------+--------------+------------------------------+---------------------------+ | Ubuntu 22.04 | PASS | SKIPPED | SKIPPED | SKIPPED | +------------------------------+----------------+--------------+------------------------------+---------------------------+ | Red Hat Enterprise Linux 9.5 | PASS | SKIPPED | SKIPPED | SKIPPED | +------------------------------+----------------+--------------+------------------------------+---------------------------+ | Debian 12 (arm) | SKIPPED | SKIPPED | PASS | PASS | +------------------------------+----------------+--------------+------------------------------+---------------------------+ CentOS Stream 9 Kernel: 5.4 Compiler: gcc gcc (GCC) 11.5.0 20240719 (Red Hat 11.5.0-7) Debian GNU/Linux 12 Kernel: 5.4 Compiler: gcc gcc (Debian 12.2.0-14+deb12u1) 12.2.0 CentOS Stream 10 Kernel: 5.4 Compiler: gcc gcc (GCC) 14.2.1 20250110 (Red Hat 14.2.1-8) Fedora Linux 41 Kernel: 5.4 Compiler: clang gcc (GCC) 14.3.1 20250523 (Red Hat 14.3.1-1) Fedora Linux 40 Kernel: 5.4 Compiler: clang gcc (GCC) 14.2.1 20240912 (Red Hat 14.2.1-3) Ubuntu 20.04 Kernel: 5.4 Compiler: gcc gcc (Ubuntu 9.4.0-1ubuntu1~20.04.2) 9.4.0 Ubuntu 24.04 Kernel: 5.4 Compiler: gcc gcc (Ubuntu 13.3.0-6ubuntu2~24.04) 13.3.0 Ubuntu 22.04 Kernel: 5.4 Compiler: gcc gcc (Ubuntu 11.4.0-1ubuntu1~22.04) 11.4.0 Red Hat Enterprise Linux 9.5 Kernel: 5.4 Compiler: gcc gcc (GCC) 11.5.0 20240719 (Red Hat 11.5.0-2) Debian 12 (arm) Kernel: Depends on container host Compiler: gcc (Debian 12.2.0-14) 12.2.0 To view detailed results, visit: https://lab.dpdk.org/results/dashboard/patchsets/33545/ UNH-IOL DPDK Community Lab To manage your email subscriptions, visit: https://lab.dpdk.org/results/dashboard/preferences/subscriptions/