From mboxrd@z Thu Jan 1 00:00:00 1970 Return-Path: Received: from mails.dpdk.org (mails.dpdk.org [217.70.189.124]) by inbox.dpdk.org (Postfix) with ESMTP id C917846ABC for ; Mon, 30 Jun 2025 21:34:28 +0200 (CEST) Received: from mails.dpdk.org (localhost [127.0.0.1]) by mails.dpdk.org (Postfix) with ESMTP id C2CC94025D; Mon, 30 Jun 2025 21:34:28 +0200 (CEST) Received: from mail-oa1-f99.google.com (mail-oa1-f99.google.com [209.85.160.99]) by mails.dpdk.org (Postfix) with ESMTP id 032404025D for ; Mon, 30 Jun 2025 21:34:27 +0200 (CEST) Received: by mail-oa1-f99.google.com with SMTP id 586e51a60fabf-2eacb421554so706008fac.1 for ; Mon, 30 Jun 2025 12:34:26 -0700 (PDT) DKIM-Signature: v=1; a=rsa-sha256; c=relaxed/relaxed; d=iol.unh.edu; s=unh-iol; t=1751312066; x=1751916866; darn=dpdk.org; h=references:in-reply-to:cc:to:from:subject:message-id:date:from:to :cc:subject:date:message-id:reply-to; bh=5SEdTHZ9wYrncC2DehkPnjHKRaRTiZtvGQ0sEumNXzQ=; b=QsW4DQDKsHIYFsMS2H4ShaRPbBnRcbbUHXCQR5Y0F/JqUnllRzQRjtKz7wR2qlYLkR yc8An6LqWmP8CBWoF1TlhP6Npwrs4GBUbBG4NRp0TTNuYtWvfLTdajMEE6z2QiiVu9NS 5TnBkLJu5Olu7Eqei72EIQGC16gfs7ttpIZ0s= X-Google-DKIM-Signature: v=1; a=rsa-sha256; c=relaxed/relaxed; d=1e100.net; s=20230601; t=1751312066; x=1751916866; h=references:in-reply-to:cc:to:from:subject:message-id:date :x-gm-message-state:from:to:cc:subject:date:message-id:reply-to; bh=5SEdTHZ9wYrncC2DehkPnjHKRaRTiZtvGQ0sEumNXzQ=; b=hzpyz9EH6agtdQ6W64E+D1wmKEdErxPFORztVK7Ud6yxP12s8xfPTXEnQCvsCVCbrM R0aSpvklSGJxUUHnn6cwS9mKoXojqUthsxxkQo/TmmJnLyhCtrS/Wvkj0hJT71kkUgWr LP+z/x1VJExc6pUUJyT/OM/XarN55Dg4Me7Jxu/1fm+e5x0rX06qpJFZJz1C5nd49Flj q/4mfqpTsaLEoxwMJJuGNDEd0V40T9IfIAvBH+NgFCCq3ttAZcm08CVlcYlqQFaUhCzI TVu9YnLJGQabg9v5SxVkacg/jXPy2WoCRJUSeoF6MfOtwJt28tUWQM6PjbH53txhqJmA Tnrg== X-Gm-Message-State: AOJu0YyEKuanXwugbEetlrhZu4kajGOWQ5eblLJwqYCclFsYRUu/KRo4 owloSaEYq8Pg1xPPA1/JmwxBbzLflQ/nvpS53qhqE792MIowdoI2gH0d2+MkBdiaaPxeFthnkqh cPHm5kH2KnPeiGwIBO0K88Bc661AWCmEe6uvClAQJFoC/ X-Gm-Gg: ASbGncsfWqUJP9lCtgk+K343bDdykJ9u9X1ud0kvOWWP5wHG8iHMx1xy+K55KNVa8e7 DDSplQrIsJ6FS65P+BhnHL4p86skyVxgDE3JaYzbdnowGJ8/aWQEyML5PLtp7TuUoBYFQb6ZCBo 3z2Lm1CCovuTJKqBgdcLM4DTffxQT2gRLwBZo4inErBvbne7WjCAclmfJKXNcAWL3F3eZQfVw65 VN7db4+n4iFiTwIoDL2mbqu0Zawmj+jtXiih5AmyvytMcAS8llVIeq/XLUubEzf5lovJjcw1cOw G2ce5TiwWcL95W4pAf7LEXwmtIEs/YOjLTWa8VzQWNpTPeR/DmfeXTKHJ0fC7pclrhZ5sA== X-Google-Smtp-Source: AGHT+IHkLc5UG33Komst/Oy9hFD6n9SyhreTGfedPlXXTN3c+AAN4RdNVQGoE0UkelmRH8b8YFZuLZKKVuz7 X-Received: by 2002:a05:6870:d60a:b0:2d5:cb5:2193 with SMTP id 586e51a60fabf-2efed79c603mr11655881fac.35.1751312066227; Mon, 30 Jun 2025 12:34:26 -0700 (PDT) Received: from postal.iol.unh.edu (postal.iol.unh.edu. [132.177.123.84]) by smtp-relay.gmail.com with ESMTPS id 586e51a60fabf-2efd5046b1dsm589231fac.38.2025.06.30.12.34.26 (version=TLS1_2 cipher=ECDHE-ECDSA-AES128-GCM-SHA256 bits=128/128); Mon, 30 Jun 2025 12:34:26 -0700 (PDT) X-Relaying-Domain: iol.unh.edu Date: Mon, 30 Jun 2025 12:34:26 -0700 (PDT) Message-ID: <6862e6c2.050a0220.2ac8f0.fdf8SMTPIN_ADDED_MISSING@mx.google.com> Received: from [172.21.0.7] (unknown [172.18.0.240]) by postal.iol.unh.edu (Postfix) with ESMTP id B0558604D420; Mon, 30 Jun 2025 15:34:25 -0400 (EDT) Subject: |SUCCESS| pw154860 [PATCH] [v2] test/argparse: change initialization From: dpdklab@iol.unh.edu To: Test Report Cc: dpdk-test-reports@iol.unh.edu In-Reply-To: <20250630145934.56969-1-stephen@networkplumber.org> References: <20250630145934.56969-1-stephen@networkplumber.org> Content-Type: text/plain X-BeenThere: test-report@dpdk.org X-Mailman-Version: 2.1.29 Precedence: list List-Id: automatic DPDK test reports List-Unsubscribe: , List-Archive: List-Post: List-Help: List-Subscribe: , Errors-To: test-report-bounces@dpdk.org Test-Label: iol-abi-testing Test-Status: SUCCESS http://dpdk.org/patch/154860 _Testing PASS_ Submitter: Stephen Hemminger Date: Monday, June 30 2025 14:58:49 DPDK git baseline: Repo:dpdk Branch: master CommitID:20460dcffd08a4680f881c39916ae783ee830374 154860 --> testing pass Upstream job id: Generic-DPDK-Compile-ABI#132423 Test environment and result as below: +-------------------------------+----------+ | Environment | abi_test | +===============================+==========+ | CentOS Stream 10 | PASS | +-------------------------------+----------+ | CentOS Stream 9 | PASS | +-------------------------------+----------+ | Fedora Linux 41 | PASS | +-------------------------------+----------+ | Debian GNU/Linux 12 | PASS | +-------------------------------+----------+ | Fedora Linux 40 | PASS | +-------------------------------+----------+ | openSUSE Leap 15.6 | PASS | +-------------------------------+----------+ | Red Hat Enterprise Linux 9.5 | PASS | +-------------------------------+----------+ | Red Hat Enterprise Linux 8.10 | PASS | +-------------------------------+----------+ | Ubuntu 22.04 | PASS | +-------------------------------+----------+ | Ubuntu 24.04 | PASS | +-------------------------------+----------+ CentOS Stream 10 Kernel: 5.15 Compiler: gcc gcc (GCC) 14.2.1 20250110 (Red Hat 14.2.1-8) CentOS Stream 9 Kernel: 5.15 Compiler: gcc gcc (GCC) 11.5.0 20240719 (Red Hat 11.5.0-7) Fedora Linux 41 Kernel: 5.15 Compiler: gcc gcc (GCC) 14.3.1 20250523 (Red Hat 14.3.1-1) Debian GNU/Linux 12 Kernel: 5.15 Compiler: gcc gcc (Debian 12.2.0-14+deb12u1) 12.2.0 Fedora Linux 40 Kernel: 5.15 Compiler: clang gcc (GCC) 14.2.1 20240912 (Red Hat 14.2.1-3) openSUSE Leap 15.6 Kernel: 5.15 Compiler: gcc gcc (SUSE Linux) 7.5.0 Red Hat Enterprise Linux 9.5 Kernel: 5.15 Compiler: gcc gcc (GCC) 11.5.0 20240719 (Red Hat 11.5.0-2) Red Hat Enterprise Linux 8.10 Kernel: 5.15 Compiler: gcc gcc (GCC) 8.5.0 20210514 (Red Hat 8.5.0-22) Ubuntu 22.04 Kernel: 5.15 Compiler: gcc gcc (Ubuntu 11.4.0-1ubuntu1~22.04) 11.4.0 Ubuntu 24.04 Kernel: 5.15 Compiler: gcc gcc (Ubuntu 13.3.0-6ubuntu2~24.04) 13.3.0 To view detailed results, visit: https://lab.dpdk.org/results/dashboard/patchsets/33545/ UNH-IOL DPDK Community Lab To manage your email subscriptions, visit: https://lab.dpdk.org/results/dashboard/preferences/subscriptions/