From mboxrd@z Thu Jan 1 00:00:00 1970 Return-Path: Received: from mails.dpdk.org (mails.dpdk.org [217.70.189.124]) by inbox.dpdk.org (Postfix) with ESMTP id D62ED46ABC for ; Mon, 30 Jun 2025 21:34:45 +0200 (CEST) Received: from mails.dpdk.org (localhost [127.0.0.1]) by mails.dpdk.org (Postfix) with ESMTP id D17684025D; Mon, 30 Jun 2025 21:34:45 +0200 (CEST) Received: from mail-pl1-f228.google.com (mail-pl1-f228.google.com [209.85.214.228]) by mails.dpdk.org (Postfix) with ESMTP id 0C87C4025D for ; Mon, 30 Jun 2025 21:34:45 +0200 (CEST) Received: by mail-pl1-f228.google.com with SMTP id d9443c01a7336-234d366e5f2so29761235ad.1 for ; Mon, 30 Jun 2025 12:34:44 -0700 (PDT) DKIM-Signature: v=1; a=rsa-sha256; c=relaxed/relaxed; d=iol.unh.edu; s=unh-iol; t=1751312084; x=1751916884; darn=dpdk.org; h=references:in-reply-to:cc:to:from:subject:message-id:date:from:to :cc:subject:date:message-id:reply-to; bh=C+BbBWRmdBe/PUcgwCFQX6X0CY7EbuRXkpYgzWfBGkM=; b=N7A8zJuJhGRkDzr5xPNYo6V0boV1gHm8sdRsTqTkiHQLzcaqmRVE3e28VMEVKFrCNd 8BrlKN3Q0ReV8R2S4dKu7YVmo5LK2d4/KWOvsu1FdT/IX7HTtb6IZc/WiADyDeYoRRmH RH79RzyvqGszYCrT8JwbTLZb0mBJP5MTO/oJ0= X-Google-DKIM-Signature: v=1; a=rsa-sha256; c=relaxed/relaxed; d=1e100.net; s=20230601; t=1751312084; x=1751916884; h=references:in-reply-to:cc:to:from:subject:message-id:date :x-gm-message-state:from:to:cc:subject:date:message-id:reply-to; bh=C+BbBWRmdBe/PUcgwCFQX6X0CY7EbuRXkpYgzWfBGkM=; b=TyWhxYUAUWWfKvw2xnn7q6tg+Wvkqh29lP/WyHPX+07y4uaD+0Z4uPtQvmLFzLwMrA Y9UBN2HZfOgBLk0TIX7Ap+Is5E0q6MTGs6tjX8Ri3dbQXRcUasco1ZvECoftQEJny6y9 cOtiCvby3r57FLYvUbY7+YXXXX56Zx0uO8nfMBm88DHfXCTDfADJ8ABNv8GL3FnmYUct d9edJcXQGmlnx/LaUmGJP664cphnQJuJYpFU9gkvH28cAmc9uCXix01FmevR+YSbd6Yp XPo8QqKqKdlVm9NrXrsMvCLIoiTLFPMm5DWu0ASgHIozM7Fq5efxy39tSEOb4ZKvd5OJ mQ8g== X-Gm-Message-State: AOJu0Yzz2IHvbBK45SW1opGtO1Hslajk31A8mcWV7qTIXqrx338gc1DU +7kvDeWvOsH0EsDAZdcqtKSx5Fe112M/WhUxkSptxSj49xZpqiZf3TH05F8zvgzLLbJH/Qzs4Cn xy8YX+WkPez5XzB2ZZKJoJ9J9A+o8OQ9F3Vz8CcJ3obc2 X-Gm-Gg: ASbGncsQwpW6+gHfQLRcoF95+1nwknIYUjSSqFsjssKc7d8X+JGQaaHJdXikiTY61SO ITCWuRM9Gg1hEzmjDaaUmy9w4/Qt6V7w5P2rxDOOh3rAVqGXQeJljGnGW+Jz+OOQtm/5kFSOogU cl/tZrWwy5hYY8n8bJeMHoCGqJdbGaGQA+wtNFwmN+MFa7/WE7Rd7YS2tzaCcaZZZ3LE8pRG8c8 dlN+TkmlHuY2Iyo7g5xxa+sTR7Zz6Kvd+sH4jtI67lah3wyJx39PERIRU+WmfQe70GeSTKnbzd2 ntq4e1Etmkj9uhwNfKCL6kKgNwQDQciyFxdU3gDOoqEDRdQz3okbWWUAQQMCv4Xq8elqyA== X-Google-Smtp-Source: AGHT+IFKJ4kRIkXfhGC5uUdekOf+yOGMOg5jp+M6EeIpwHa+A9RjH0nptK6cj/5zsrkrqAtHhCdIyZyH2Mhu X-Received: by 2002:a17:903:1ad0:b0:235:f18f:2924 with SMTP id d9443c01a7336-23ac40dc567mr213341645ad.15.1751312084214; Mon, 30 Jun 2025 12:34:44 -0700 (PDT) Received: from postal.iol.unh.edu (postal.iol.unh.edu. [132.177.123.84]) by smtp-relay.gmail.com with ESMTPS id d9443c01a7336-23acb2254e9sm4723995ad.0.2025.06.30.12.34.44 (version=TLS1_2 cipher=ECDHE-ECDSA-AES128-GCM-SHA256 bits=128/128); Mon, 30 Jun 2025 12:34:44 -0700 (PDT) X-Relaying-Domain: iol.unh.edu Date: Mon, 30 Jun 2025 12:34:44 -0700 (PDT) Message-ID: <6862e6d4.170a0220.fbc64.ab01SMTPIN_ADDED_MISSING@mx.google.com> Received: from [172.21.0.5] (unknown [172.18.0.240]) by postal.iol.unh.edu (Postfix) with ESMTP id 6DE85604D420; Mon, 30 Jun 2025 15:34:43 -0400 (EDT) Subject: |SUCCESS| pw154860 [PATCH] [v2] test/argparse: change initialization From: dpdklab@iol.unh.edu To: Test Report Cc: dpdk-test-reports@iol.unh.edu In-Reply-To: <20250630145934.56969-1-stephen@networkplumber.org> References: <20250630145934.56969-1-stephen@networkplumber.org> Content-Type: text/plain X-BeenThere: test-report@dpdk.org X-Mailman-Version: 2.1.29 Precedence: list List-Id: automatic DPDK test reports List-Unsubscribe: , List-Archive: List-Post: List-Help: List-Subscribe: , Errors-To: test-report-bounces@dpdk.org Test-Label: iol-abi-testing Test-Status: SUCCESS http://dpdk.org/patch/154860 _Testing PASS_ Submitter: Stephen Hemminger Date: Monday, June 30 2025 14:58:49 DPDK git baseline: Repo:dpdk Branch: master CommitID:20460dcffd08a4680f881c39916ae783ee830374 154860 --> testing pass Upstream job id: Generic-DPDK-Compile-ABI#132430 Test environment and result as below: +-------------------------------+----------+ | Environment | abi_test | +===============================+==========+ | CentOS Stream 10 | PASS | +-------------------------------+----------+ | CentOS Stream 9 | PASS | +-------------------------------+----------+ | Fedora Linux 41 | PASS | +-------------------------------+----------+ | Debian GNU/Linux 12 | PASS | +-------------------------------+----------+ | Fedora Linux 40 | PASS | +-------------------------------+----------+ | openSUSE Leap 15.6 | PASS | +-------------------------------+----------+ | Red Hat Enterprise Linux 9.5 | PASS | +-------------------------------+----------+ | Red Hat Enterprise Linux 8.10 | PASS | +-------------------------------+----------+ | Ubuntu 22.04 | PASS | +-------------------------------+----------+ | Ubuntu 24.04 | PASS | +-------------------------------+----------+ CentOS Stream 10 Kernel: 5.15 Compiler: gcc gcc (GCC) 14.2.1 20250110 (Red Hat 14.2.1-8) CentOS Stream 9 Kernel: 5.15 Compiler: gcc gcc (GCC) 11.5.0 20240719 (Red Hat 11.5.0-7) Fedora Linux 41 Kernel: 5.15 Compiler: gcc gcc (GCC) 14.3.1 20250523 (Red Hat 14.3.1-1) Debian GNU/Linux 12 Kernel: 5.15 Compiler: gcc gcc (Debian 12.2.0-14+deb12u1) 12.2.0 Fedora Linux 40 Kernel: 5.15 Compiler: clang gcc (GCC) 14.2.1 20240912 (Red Hat 14.2.1-3) openSUSE Leap 15.6 Kernel: 5.15 Compiler: gcc gcc (SUSE Linux) 7.5.0 Red Hat Enterprise Linux 9.5 Kernel: 5.15 Compiler: gcc gcc (GCC) 11.5.0 20240719 (Red Hat 11.5.0-2) Red Hat Enterprise Linux 8.10 Kernel: 5.15 Compiler: gcc gcc (GCC) 8.5.0 20210514 (Red Hat 8.5.0-22) Ubuntu 22.04 Kernel: 5.15 Compiler: gcc gcc (Ubuntu 11.4.0-1ubuntu1~22.04) 11.4.0 Ubuntu 24.04 Kernel: 5.15 Compiler: gcc gcc (Ubuntu 13.3.0-6ubuntu2~24.04) 13.3.0 To view detailed results, visit: https://lab.dpdk.org/results/dashboard/patchsets/33545/ UNH-IOL DPDK Community Lab To manage your email subscriptions, visit: https://lab.dpdk.org/results/dashboard/preferences/subscriptions/