From mboxrd@z Thu Jan 1 00:00:00 1970 Return-Path: Received: from mails.dpdk.org (mails.dpdk.org [217.70.189.124]) by inbox.dpdk.org (Postfix) with ESMTP id E197C46ABC for ; Mon, 30 Jun 2025 21:34:53 +0200 (CEST) Received: from mails.dpdk.org (localhost [127.0.0.1]) by mails.dpdk.org (Postfix) with ESMTP id DBEFF4025D; Mon, 30 Jun 2025 21:34:53 +0200 (CEST) Received: from mail-pl1-f227.google.com (mail-pl1-f227.google.com [209.85.214.227]) by mails.dpdk.org (Postfix) with ESMTP id C345A4025D for ; Mon, 30 Jun 2025 21:34:52 +0200 (CEST) Received: by mail-pl1-f227.google.com with SMTP id d9443c01a7336-23694cec0feso47024145ad.2 for ; Mon, 30 Jun 2025 12:34:52 -0700 (PDT) DKIM-Signature: v=1; a=rsa-sha256; c=relaxed/relaxed; d=iol.unh.edu; s=unh-iol; t=1751312092; x=1751916892; darn=dpdk.org; h=references:in-reply-to:cc:to:from:subject:message-id:date:from:to :cc:subject:date:message-id:reply-to; bh=bYO3Wfjjbp8QGAJ342fSEAIQQ5Cf/tWRyZAT9OK/V6k=; b=DLMWuJZUEWDUKXcsGyz3TtmqPG6QQeyz7evk7O3YDfNzI4gql82hiUWP4qsFzZ6Jhu Zlx/WWMyFyb8XBwWNPVd9uPrYbv1RQh0featF/kWWhvvsDFTP4ZptapYpCyWalyzuA0k qdtc3a2ETH1FwvGlBF8xdLRC3H4Ytp0MDUGHg= X-Google-DKIM-Signature: v=1; a=rsa-sha256; c=relaxed/relaxed; d=1e100.net; s=20230601; t=1751312092; x=1751916892; h=references:in-reply-to:cc:to:from:subject:message-id:date :x-gm-message-state:from:to:cc:subject:date:message-id:reply-to; bh=bYO3Wfjjbp8QGAJ342fSEAIQQ5Cf/tWRyZAT9OK/V6k=; b=Ql8OzoOPZD5n/xi0gXLkkhOlhxnXE5HDL63t1dq7g5NBYuRwZpbA34kfIWtt87SBH1 04T370gqC03obXJZ7T+Q8ZwHtGfj3S+biRTYabJzMnXahDRSbuq+HWJtYR7EIldIZseh 2eqI10oxEYfeTCQmxjDDS8EbKOYhcQis68vFj4MH/COe/3rC2D7qHydLtgtZKehg1yOD Hco6bulwEw0+86uBSucFwJ5rQjPprjDao/qK/LoIVbpqP9JNOSn6M+QmoOKuFuZdW3L7 LVqx3MzmrPZaa6+xqmtgNO32LEwxuA23PasQ/LVce+bZILG1c9Oc3E4+d9+HHu/rHLSO Yq6Q== X-Gm-Message-State: AOJu0YzcXp6DHWJT8rmH0eTXR21hEc38BTSy2UtUcIBB9ZyGNTXqOoxc ImZ5YOIRF1HMSBi4xFV73PaV6j2CVknJAVndmlgqQlOeGGxoz2GmV+zmIfufSvZNWKMzc52W3Cz zjaI8kv9haCa3nWsCBQNmjrAIPQGflihqcL4NgD0HvVTr1iRHAR01HojjBCXT X-Gm-Gg: ASbGncu7LypKQAY9pb8tCwsDUdtJVJz2eRAPs6x+7KC/d2GnHsyDYLSx42jKMG77bue i3eVeZ3T960clERjUnEcIAKQYOqTlQ4qLFw0m0G1tlZBBB0zEMDLwlNwoamwG0S395zNEx9S1oM eqDHWnSnHNRRW/e1j7T6QNjbaTR0cyHOBEuln18YQj7fesxmtiqNGdXA5Q8zxGvd1N+6ubaIBgQ qh7n1TM04VWC1kcwCbNTxGz6QgtH+PVWn1V28merT7gBvZ8HoP9jUqJm6SS/y914oaqwxXuAEjV AMS73Pvy2MyV+/HfqE7KWt62Uu4vozCy5d38s4t54VTRZWQ= X-Google-Smtp-Source: AGHT+IGUBYlOPMT0jzW49bMFMdPGdVW5FyqJTuo6r3cUYXHAIgAdqSBozfV+UyUyxncq7qj161Yjtbz8Za7P X-Received: by 2002:a17:902:da89:b0:234:e8db:431d with SMTP id d9443c01a7336-23ac45c5b7amr158656095ad.20.1751312091991; Mon, 30 Jun 2025 12:34:51 -0700 (PDT) Received: from postal.iol.unh.edu (postal.iol.unh.edu. [2606:4100:3880:1234::84]) by smtp-relay.gmail.com with ESMTPS id d9443c01a7336-23acb2e2301sm4547525ad.20.2025.06.30.12.34.51 (version=TLS1_2 cipher=ECDHE-ECDSA-AES128-GCM-SHA256 bits=128/128); Mon, 30 Jun 2025 12:34:51 -0700 (PDT) X-Relaying-Domain: iol.unh.edu Date: Mon, 30 Jun 2025 12:34:51 -0700 (PDT) Message-ID: <6862e6db.170a0220.233d46.93c9SMTPIN_ADDED_MISSING@mx.google.com> Received: from [172.21.0.6] (unknown [172.18.0.240]) by postal.iol.unh.edu (Postfix) with ESMTP id 32ECA604D420; Mon, 30 Jun 2025 15:34:51 -0400 (EDT) Subject: |SUCCESS| pw154860 [PATCH] [v2] test/argparse: change initialization From: dpdklab@iol.unh.edu To: Test Report Cc: dpdk-test-reports@iol.unh.edu In-Reply-To: <20250630145934.56969-1-stephen@networkplumber.org> References: <20250630145934.56969-1-stephen@networkplumber.org> Content-Type: text/plain X-BeenThere: test-report@dpdk.org X-Mailman-Version: 2.1.29 Precedence: list List-Id: automatic DPDK test reports List-Unsubscribe: , List-Archive: List-Post: List-Help: List-Subscribe: , Errors-To: test-report-bounces@dpdk.org Test-Label: iol-abi-testing Test-Status: SUCCESS http://dpdk.org/patch/154860 _Testing PASS_ Submitter: Stephen Hemminger Date: Monday, June 30 2025 14:58:49 DPDK git baseline: Repo:dpdk Branch: master CommitID:20460dcffd08a4680f881c39916ae783ee830374 154860 --> testing pass Upstream job id: Generic-DPDK-Compile-ABI#132428 Test environment and result as below: +-------------------------------+----------+ | Environment | abi_test | +===============================+==========+ | CentOS Stream 10 | PASS | +-------------------------------+----------+ | CentOS Stream 9 | PASS | +-------------------------------+----------+ | Fedora Linux 41 | PASS | +-------------------------------+----------+ | Debian GNU/Linux 12 | PASS | +-------------------------------+----------+ | Fedora Linux 40 | PASS | +-------------------------------+----------+ | openSUSE Leap 15.6 | PASS | +-------------------------------+----------+ | Red Hat Enterprise Linux 9.5 | PASS | +-------------------------------+----------+ | Red Hat Enterprise Linux 8.10 | PASS | +-------------------------------+----------+ | Ubuntu 22.04 | PASS | +-------------------------------+----------+ | Ubuntu 24.04 | PASS | +-------------------------------+----------+ CentOS Stream 10 Kernel: 5.15 Compiler: gcc gcc (GCC) 14.2.1 20250110 (Red Hat 14.2.1-8) CentOS Stream 9 Kernel: 5.15 Compiler: gcc gcc (GCC) 11.5.0 20240719 (Red Hat 11.5.0-7) Fedora Linux 41 Kernel: 5.15 Compiler: gcc gcc (GCC) 14.3.1 20250523 (Red Hat 14.3.1-1) Debian GNU/Linux 12 Kernel: 5.15 Compiler: gcc gcc (Debian 12.2.0-14+deb12u1) 12.2.0 Fedora Linux 40 Kernel: 5.15 Compiler: clang gcc (GCC) 14.2.1 20240912 (Red Hat 14.2.1-3) openSUSE Leap 15.6 Kernel: 5.15 Compiler: gcc gcc (SUSE Linux) 7.5.0 Red Hat Enterprise Linux 9.5 Kernel: 5.15 Compiler: gcc gcc (GCC) 11.5.0 20240719 (Red Hat 11.5.0-2) Red Hat Enterprise Linux 8.10 Kernel: 5.15 Compiler: gcc gcc (GCC) 8.5.0 20210514 (Red Hat 8.5.0-22) Ubuntu 22.04 Kernel: 5.15 Compiler: gcc gcc (Ubuntu 11.4.0-1ubuntu1~22.04) 11.4.0 Ubuntu 24.04 Kernel: 5.15 Compiler: gcc gcc (Ubuntu 13.3.0-6ubuntu2~24.04) 13.3.0 To view detailed results, visit: https://lab.dpdk.org/results/dashboard/patchsets/33545/ UNH-IOL DPDK Community Lab To manage your email subscriptions, visit: https://lab.dpdk.org/results/dashboard/preferences/subscriptions/