From mboxrd@z Thu Jan 1 00:00:00 1970 Return-Path: Received: from mails.dpdk.org (mails.dpdk.org [217.70.189.124]) by inbox.dpdk.org (Postfix) with ESMTP id F394046ABC for ; Mon, 30 Jun 2025 21:35:13 +0200 (CEST) Received: from mails.dpdk.org (localhost [127.0.0.1]) by mails.dpdk.org (Postfix) with ESMTP id EE8604025D; Mon, 30 Jun 2025 21:35:13 +0200 (CEST) Received: from mail-qv1-f99.google.com (mail-qv1-f99.google.com [209.85.219.99]) by mails.dpdk.org (Postfix) with ESMTP id 1AB224025D for ; Mon, 30 Jun 2025 21:35:13 +0200 (CEST) Received: by mail-qv1-f99.google.com with SMTP id 6a1803df08f44-6fabb948e5aso31871986d6.1 for ; Mon, 30 Jun 2025 12:35:13 -0700 (PDT) DKIM-Signature: v=1; a=rsa-sha256; c=relaxed/relaxed; d=iol.unh.edu; s=unh-iol; t=1751312112; x=1751916912; darn=dpdk.org; h=references:in-reply-to:cc:to:from:subject:message-id:date:from:to :cc:subject:date:message-id:reply-to; bh=HHRf5CTc2CT/c8+slh2mCNVqiTJ1WTs4BSeMM7A9OMQ=; b=GHkBteL1oOh/y6knbCEWy27zH70MDXwUeWrjgQem2YXn1brZ+Kz2XnLUEdztwFk79a VZVDE25cI3d2WnVeXJSlYErBecr3V9f1lNN39zxNssECuHgUhkjbq/4+SIyqeTlyUvG8 vPVYo/EDX6NBXulKQnlbgUpjTWqNjylPOP/r0= X-Google-DKIM-Signature: v=1; a=rsa-sha256; c=relaxed/relaxed; d=1e100.net; s=20230601; t=1751312112; x=1751916912; h=references:in-reply-to:cc:to:from:subject:message-id:date :x-gm-message-state:from:to:cc:subject:date:message-id:reply-to; bh=HHRf5CTc2CT/c8+slh2mCNVqiTJ1WTs4BSeMM7A9OMQ=; b=fFH6CTuz+0aqvP+9gnL3XQCWtHBXFolSveRuNI4a+ec+/5JPNoXuYzQMzD6knMpQuu o8TlB5y3OTpZp5S0OKG6bkLvUp5nm5y+phEc4uL7Vk7cJYvx3NHxR7AutVSJZfYJzQly hFmAAS4QpGptF9FRnPf5411NXwT56sfbN1Ix9EI7mrSZzDvwcgn8Lt5tHrjsqKkf+S3t 9z09RcY0rB5fd4qYk8IFC+BtvKJTeNEYWPhULLna+wAe4uD+Uftfh8f7Qo3az6btWeCI LF4zb7WBil3So9EiGzxLRWZ9ax98SAG25X5EhSSA/NZazNOqiVamGFyGAl5aUlyk+dvp vofQ== X-Gm-Message-State: AOJu0YxF+iigSiFT/1opPmvEVkIl/nJhY2q8Nnw1kEdHlo99TXbXo5m6 u8pp6haLe+6UgV/GMeMFt1xQSdg7UDISD1gfthFtHchvt/B2XOPE/Avg8rDxzvy3R53JxpBSbFC 1BUBaz1N55o2WV9ijhCBKwiHq7H6QmqV82hiNKfX7wzi8 X-Gm-Gg: ASbGncsaz9/j1VcukKQsfJjYIDF8kI/PxrYyOoGwImjA+0+orU++v1mJ1JgP7mtltKk UPsWozmfF00fZKFy6KgSGkvdj5ThLc4hzXb3mXpR3d6V0nSrEbrd1Uxwa7rCMrdS43fYcZ4PyLQ vll3EwYynJhdWL7Y+rr1WUz6RlgoYaY85z6Zr3oScAAWsmyXz5Tv3piSVr8+UCY62K6tqKoWK0b z2UAEvQHjoW+0bCnSAv+7ZTqMjBQGy4cJxpIAz9/voSQUJL20TdSOdlT2+RDeTfLN6O5KrwAkgW gppISno6v5o7jjVzEA4wvGpi58GQjrExyfMOwegqhSBkywk4DMsBVI3McR0SsvNMnfqLLw== X-Google-Smtp-Source: AGHT+IEBShSxXlHcYnKFvNnBmB7taMAUme5HlVnJATMF13Rk2I00pEo+2JsY+WKdQfCJc2d2Hh43p6ZYR+my X-Received: by 2002:ad4:5606:0:b0:700:be2f:7f19 with SMTP id 6a1803df08f44-700be2f83e4mr176244296d6.18.1751312112354; Mon, 30 Jun 2025 12:35:12 -0700 (PDT) Received: from postal.iol.unh.edu (postal.iol.unh.edu. [132.177.123.84]) by smtp-relay.gmail.com with ESMTPS id 6a1803df08f44-6fda3a7d565sm5421806d6.39.2025.06.30.12.35.12 (version=TLS1_2 cipher=ECDHE-ECDSA-AES128-GCM-SHA256 bits=128/128); Mon, 30 Jun 2025 12:35:12 -0700 (PDT) X-Relaying-Domain: iol.unh.edu Date: Mon, 30 Jun 2025 12:35:12 -0700 (PDT) Message-ID: <6862e6f0.d40a0220.628b4.d231SMTPIN_ADDED_MISSING@mx.google.com> Received: from [172.21.0.7] (unknown [172.18.0.240]) by postal.iol.unh.edu (Postfix) with ESMTP id 2073A604D420; Mon, 30 Jun 2025 15:35:12 -0400 (EDT) Subject: |SUCCESS| pw154860 [PATCH] [v2] test/argparse: change initialization From: dpdklab@iol.unh.edu To: Test Report Cc: dpdk-test-reports@iol.unh.edu In-Reply-To: <20250630145934.56969-1-stephen@networkplumber.org> References: <20250630145934.56969-1-stephen@networkplumber.org> Content-Type: text/plain X-BeenThere: test-report@dpdk.org X-Mailman-Version: 2.1.29 Precedence: list List-Id: automatic DPDK test reports List-Unsubscribe: , List-Archive: List-Post: List-Help: List-Subscribe: , Errors-To: test-report-bounces@dpdk.org Test-Label: iol-abi-testing Test-Status: SUCCESS http://dpdk.org/patch/154860 _Testing PASS_ Submitter: Stephen Hemminger Date: Monday, June 30 2025 14:58:49 DPDK git baseline: Repo:dpdk Branch: master CommitID:20460dcffd08a4680f881c39916ae783ee830374 154860 --> testing pass Upstream job id: Generic-DPDK-Compile-ABI#132431 Test environment and result as below: +-------------------------------+----------+ | Environment | abi_test | +===============================+==========+ | CentOS Stream 10 | PASS | +-------------------------------+----------+ | CentOS Stream 9 | PASS | +-------------------------------+----------+ | Fedora Linux 41 | PASS | +-------------------------------+----------+ | Debian GNU/Linux 12 | PASS | +-------------------------------+----------+ | Fedora Linux 40 | PASS | +-------------------------------+----------+ | openSUSE Leap 15.6 | PASS | +-------------------------------+----------+ | Red Hat Enterprise Linux 9.5 | PASS | +-------------------------------+----------+ | Red Hat Enterprise Linux 8.10 | PASS | +-------------------------------+----------+ | Ubuntu 22.04 | PASS | +-------------------------------+----------+ | Ubuntu 24.04 | PASS | +-------------------------------+----------+ CentOS Stream 10 Kernel: 5.15 Compiler: gcc gcc (GCC) 14.2.1 20250110 (Red Hat 14.2.1-8) CentOS Stream 9 Kernel: 5.15 Compiler: gcc gcc (GCC) 11.5.0 20240719 (Red Hat 11.5.0-7) Fedora Linux 41 Kernel: 5.15 Compiler: gcc gcc (GCC) 14.3.1 20250523 (Red Hat 14.3.1-1) Debian GNU/Linux 12 Kernel: 5.15 Compiler: gcc gcc (Debian 12.2.0-14+deb12u1) 12.2.0 Fedora Linux 40 Kernel: 5.15 Compiler: clang gcc (GCC) 14.2.1 20240912 (Red Hat 14.2.1-3) openSUSE Leap 15.6 Kernel: 5.15 Compiler: gcc gcc (SUSE Linux) 7.5.0 Red Hat Enterprise Linux 9.5 Kernel: 5.15 Compiler: gcc gcc (GCC) 11.5.0 20240719 (Red Hat 11.5.0-2) Red Hat Enterprise Linux 8.10 Kernel: 5.15 Compiler: gcc gcc (GCC) 8.5.0 20210514 (Red Hat 8.5.0-22) Ubuntu 22.04 Kernel: 5.15 Compiler: gcc gcc (Ubuntu 11.4.0-1ubuntu1~22.04) 11.4.0 Ubuntu 24.04 Kernel: 5.15 Compiler: gcc gcc (Ubuntu 13.3.0-6ubuntu2~24.04) 13.3.0 To view detailed results, visit: https://lab.dpdk.org/results/dashboard/patchsets/33545/ UNH-IOL DPDK Community Lab To manage your email subscriptions, visit: https://lab.dpdk.org/results/dashboard/preferences/subscriptions/