From mboxrd@z Thu Jan 1 00:00:00 1970 Return-Path: Received: from mails.dpdk.org (mails.dpdk.org [217.70.189.124]) by inbox.dpdk.org (Postfix) with ESMTP id 0B14A46ABC for ; Mon, 30 Jun 2025 21:35:19 +0200 (CEST) Received: from mails.dpdk.org (localhost [127.0.0.1]) by mails.dpdk.org (Postfix) with ESMTP id 051014025D; Mon, 30 Jun 2025 21:35:19 +0200 (CEST) Received: from mail-vs1-f97.google.com (mail-vs1-f97.google.com [209.85.217.97]) by mails.dpdk.org (Postfix) with ESMTP id 49B314025D for ; Mon, 30 Jun 2025 21:35:17 +0200 (CEST) Received: by mail-vs1-f97.google.com with SMTP id ada2fe7eead31-4c9cea30173so1209192137.3 for ; Mon, 30 Jun 2025 12:35:17 -0700 (PDT) DKIM-Signature: v=1; a=rsa-sha256; c=relaxed/relaxed; d=iol.unh.edu; s=unh-iol; t=1751312116; x=1751916916; darn=dpdk.org; h=references:in-reply-to:cc:to:from:subject:message-id:date:from:to :cc:subject:date:message-id:reply-to; bh=FJtbqiRCQG38V9k4SubhMGYvw1aRN5cRUa2Yf/xNuaY=; b=NGIDtxGLu/Dvjx2Er3bIp5vANoXIMg1iqHK11KobY8Dn+puCN0SDIeSj+Y2CtHz98a 2EC13YkJG8OQ/GE3RGiAlnN6fv9gSRtJQdC071KfsevNZ/AHAo/5s3JIBTR8kisZbQiy ulEDt2fY4WWYDVMjtvK/h9t76PhtV/NQjugAw= X-Google-DKIM-Signature: v=1; a=rsa-sha256; c=relaxed/relaxed; d=1e100.net; s=20230601; t=1751312116; x=1751916916; h=references:in-reply-to:cc:to:from:subject:message-id:date :x-gm-message-state:from:to:cc:subject:date:message-id:reply-to; bh=FJtbqiRCQG38V9k4SubhMGYvw1aRN5cRUa2Yf/xNuaY=; b=DNCAkJLFW5+I3EqJua6MzEDFZyA2oyMmbfaFrUvdza+iw5liEd8jd7yS0Ps+qYP0Yw GsKukDujOO0mNV3mqZEGice35WEUCIGBpjnQ3RpNzfWBh8hO0Weheweys36F6FPHNdBx tADmLNkYBk74g2sBJaJvO3H5Neg/yEaoXCDkoZbRCchVYmixVthC41ADWANrWCah/xON +/wunMNvazp2QGFpvFSCA2WEvTKz8h11kocjj8hoej5gBqk52SkzsocbM51dldLeuk9T dPGNy0h80JC3URyhWapsC6+2pbcoPxuYrQaygU25VyapJFHWf2q0Ksa5+jlZga0/5vBR SiaQ== X-Gm-Message-State: AOJu0YwpYxmsDtKtf5XpXvmyeMM5z4Hez0SWmimIuXhx2kZWbBb0H6bV PfxPQA8+ipxR9Qwa37v+KRW1saWTeTW8+Cb04YZBhjBuBuZlsYJYJkvBXndUlBU65nwlY3Z6VpX NrYVlXG5KJb3f5EALh9l9fjjnq5vLKtk34lyIJ+aUfl+WdDnSKKqy3yHJ5485 X-Gm-Gg: ASbGncv76ovwO60lAXcEPOuixCUeHs5t/iBuNIDyTdu5bxE1NMxyHN9cAGFA5Regjbv m/0rzSKnY12RI0QkGNmxJF1HoA7qVIGwkIMaXXc9zB1X3h1u+w06S3OWP01IZ8ZOB+T+lZ4qEQL Ei7QkYgyD5v/QUwqRdFHkEHpcEhyhUKaDA5pA+4gkHx5wcyGA/Eg9T5Q1zUIolLvkSc+WNaFrKN 0Plbo6EWINkye0n8jujtEY7RMTOPuLPATidGs16sDlyP+kfJFnAWt21swN3ptwR0q91CMHt9jgc k1OgHGSx1xD68QCJjPnM1G9jHd/VhetqtZJxipNen+pKcVY= X-Google-Smtp-Source: AGHT+IG7LanzdK5yI8n5+QdJSXDZAzb0OX9DsRYdRxjyVVLpkRQTHZd4onG3JhuuJZpe5LkXAK6pjfKVTlac X-Received: by 2002:a05:6102:9d7:b0:4bb:9b46:3f87 with SMTP id ada2fe7eead31-4ee4f53a05cmr8545694137.6.1751312116584; Mon, 30 Jun 2025 12:35:16 -0700 (PDT) Received: from postal.iol.unh.edu (postal.iol.unh.edu. [2606:4100:3880:1234::84]) by smtp-relay.gmail.com with ESMTPS id a1e0cc1a2514c-884d1c37035sm251617241.6.2025.06.30.12.35.16 (version=TLS1_2 cipher=ECDHE-ECDSA-AES128-GCM-SHA256 bits=128/128); Mon, 30 Jun 2025 12:35:16 -0700 (PDT) X-Relaying-Domain: iol.unh.edu Date: Mon, 30 Jun 2025 12:35:16 -0700 (PDT) Message-ID: <6862e6f4.b00a0220.3137fe.d461SMTPIN_ADDED_MISSING@mx.google.com> Received: from [172.21.0.5] (unknown [172.18.0.240]) by postal.iol.unh.edu (Postfix) with ESMTP id 48083604D420; Mon, 30 Jun 2025 15:35:16 -0400 (EDT) Subject: |SUCCESS| pw154860 [PATCH] [v2] test/argparse: change initialization From: dpdklab@iol.unh.edu To: Test Report Cc: dpdk-test-reports@iol.unh.edu In-Reply-To: <20250630145934.56969-1-stephen@networkplumber.org> References: <20250630145934.56969-1-stephen@networkplumber.org> Content-Type: text/plain X-BeenThere: test-report@dpdk.org X-Mailman-Version: 2.1.29 Precedence: list List-Id: automatic DPDK test reports List-Unsubscribe: , List-Archive: List-Post: List-Help: List-Subscribe: , Errors-To: test-report-bounces@dpdk.org Test-Label: iol-abi-testing Test-Status: SUCCESS http://dpdk.org/patch/154860 _Testing PASS_ Submitter: Stephen Hemminger Date: Monday, June 30 2025 14:58:49 DPDK git baseline: Repo:dpdk Branch: master CommitID:20460dcffd08a4680f881c39916ae783ee830374 154860 --> testing pass Upstream job id: Generic-DPDK-Compile-ABI#132432 Test environment and result as below: +-------------------------------+----------+ | Environment | abi_test | +===============================+==========+ | CentOS Stream 10 | PASS | +-------------------------------+----------+ | CentOS Stream 9 | PASS | +-------------------------------+----------+ | Fedora Linux 41 | PASS | +-------------------------------+----------+ | Debian GNU/Linux 12 | PASS | +-------------------------------+----------+ | Fedora Linux 40 | PASS | +-------------------------------+----------+ | openSUSE Leap 15.6 | PASS | +-------------------------------+----------+ | Red Hat Enterprise Linux 9.5 | PASS | +-------------------------------+----------+ | Red Hat Enterprise Linux 8.10 | PASS | +-------------------------------+----------+ | Ubuntu 22.04 | PASS | +-------------------------------+----------+ | Ubuntu 24.04 | PASS | +-------------------------------+----------+ CentOS Stream 10 Kernel: 5.15 Compiler: gcc gcc (GCC) 14.2.1 20250110 (Red Hat 14.2.1-8) CentOS Stream 9 Kernel: 5.15 Compiler: gcc gcc (GCC) 11.5.0 20240719 (Red Hat 11.5.0-7) Fedora Linux 41 Kernel: 5.15 Compiler: gcc gcc (GCC) 14.3.1 20250523 (Red Hat 14.3.1-1) Debian GNU/Linux 12 Kernel: 5.15 Compiler: gcc gcc (Debian 12.2.0-14+deb12u1) 12.2.0 Fedora Linux 40 Kernel: 5.15 Compiler: clang gcc (GCC) 14.2.1 20240912 (Red Hat 14.2.1-3) openSUSE Leap 15.6 Kernel: 5.15 Compiler: gcc gcc (SUSE Linux) 7.5.0 Red Hat Enterprise Linux 9.5 Kernel: 5.15 Compiler: gcc gcc (GCC) 11.5.0 20240719 (Red Hat 11.5.0-2) Red Hat Enterprise Linux 8.10 Kernel: 5.15 Compiler: gcc gcc (GCC) 8.5.0 20210514 (Red Hat 8.5.0-22) Ubuntu 22.04 Kernel: 5.15 Compiler: gcc gcc (Ubuntu 11.4.0-1ubuntu1~22.04) 11.4.0 Ubuntu 24.04 Kernel: 5.15 Compiler: gcc gcc (Ubuntu 13.3.0-6ubuntu2~24.04) 13.3.0 To view detailed results, visit: https://lab.dpdk.org/results/dashboard/patchsets/33545/ UNH-IOL DPDK Community Lab To manage your email subscriptions, visit: https://lab.dpdk.org/results/dashboard/preferences/subscriptions/