From mboxrd@z Thu Jan 1 00:00:00 1970 Return-Path: Received: from mails.dpdk.org (mails.dpdk.org [217.70.189.124]) by inbox.dpdk.org (Postfix) with ESMTP id 1406A46ABC for ; Mon, 30 Jun 2025 21:35:23 +0200 (CEST) Received: from mails.dpdk.org (localhost [127.0.0.1]) by mails.dpdk.org (Postfix) with ESMTP id 0F85A4025D; Mon, 30 Jun 2025 21:35:23 +0200 (CEST) Received: from mail-yw1-f228.google.com (mail-yw1-f228.google.com [209.85.128.228]) by mails.dpdk.org (Postfix) with ESMTP id 41BA240609 for ; Mon, 30 Jun 2025 21:35:19 +0200 (CEST) Received: by mail-yw1-f228.google.com with SMTP id 00721157ae682-70e40e3f316so22160917b3.0 for ; Mon, 30 Jun 2025 12:35:19 -0700 (PDT) DKIM-Signature: v=1; a=rsa-sha256; c=relaxed/relaxed; d=iol.unh.edu; s=unh-iol; t=1751312118; x=1751916918; darn=dpdk.org; h=references:in-reply-to:cc:to:from:subject:message-id:date:from:to :cc:subject:date:message-id:reply-to; bh=TA/GJPwrbqB0XAGFXhbDkFUs+8sk0qRxHGa3ZqPehOI=; b=BAdLLtaHaGPLJFKWcPQYeTOpYHZxvfUX6ZUF2sCpyeA9ZHz3b6QHZdoH8Cjo27tZ1Z N0Kf8+Paxz49TFsaU6oDYdeTMT/98BUqwSwJBXgI7Edlynrpu9+TsZz5b1jZOag6ECs9 NEWbFbqPpqDw9B1NxEFEhnLQROLwDziGw0LAY= X-Google-DKIM-Signature: v=1; a=rsa-sha256; c=relaxed/relaxed; d=1e100.net; s=20230601; t=1751312118; x=1751916918; h=references:in-reply-to:cc:to:from:subject:message-id:date :x-gm-message-state:from:to:cc:subject:date:message-id:reply-to; bh=TA/GJPwrbqB0XAGFXhbDkFUs+8sk0qRxHGa3ZqPehOI=; b=Wolvg9jQenPB0YBxePvZXqoQXc3nBsG7+cv8ShAGDlZuKWiwrB8Xs6sGdOmpRlJ+IK 5AN39BDws8hNrvLTK3fe2b/rbnoNnW8gmy0uD//nfccB7kk414c2rQZPHu7h6CRtORUM wP0Xda8UUnyK4WVEV3q9gUKxv4P4mdD7dx1T0r6GA9H5hKqoTio9zKNif6Ee2i9H6bMP A2YMPn+pt/T8mOFG/+we+PJdWj5B4zY8CYd9RIKlYwT71E/wS60BsVr7v19Ul80DU4j9 XTPJI04I5uEYJ1YY29dNHTaWEbhpT8LHU4tgGL/mxUQb7ImtVUayNdO6JZWBacBFopjc gLZw== X-Gm-Message-State: AOJu0Yw71YPgljPDZ++ceI7Ep3JNF3V5jUIbU+ZWj286wHtfWmHKsXbG C3x4Ub0GF7z3FrCCRwt2ZRucX9HIrodY5GZIAbX408n7kPwsHtdlnVDAOOxKacCoxfbdjsbAovf PyBTzYSyjkEkK0aeanyflp4wTim85KmuX4GV/wMHkO+0Xnhz+ysEkbUvSLiI3 X-Gm-Gg: ASbGncsMaKJ/oY5cBBBjRhSqeYtT95tAzMIzbH3qqzf2NV8MQXuK++B68WLNRmHJPF1 T6TausoXCqByX6G+vCloC2B4VcnOfUq9HpDWnz3Vx5oCUIcAO9pX5+IXyoObmn1JNQ9XeVzzZSu lIg38EFg5jBoX1tHz8GErKRMQT7+YQoacbsNxjsee/AnXdIBLtpI770E/30dYl1cvJYe3T3sPeP MZWdwzm1rGK7niqiH3gYjzaU1wD4LYDNjXvO1PtxP+DzPkJ3xYYryUsKCUKUjWQgDtiKTkGRA0R AiIV0bLyLmX99t+vnynqxppWZix8V0DrrdWxn1nfUD0BeE0= X-Google-Smtp-Source: AGHT+IGBbxcUD6fgvxZouNnyj0vSyit6IsXtuH60uCHq5XwChBj11eSsO55nzfOXl6Ir+ZKU7wPwSbAqx32s X-Received: by 2002:a05:690c:6708:b0:70e:16a3:ce92 with SMTP id 00721157ae682-715171917d8mr217608527b3.17.1751312118352; Mon, 30 Jun 2025 12:35:18 -0700 (PDT) Received: from postal.iol.unh.edu (postal.iol.unh.edu. [2606:4100:3880:1234::84]) by smtp-relay.gmail.com with ESMTPS id 00721157ae682-71515ce9c96sm2653627b3.63.2025.06.30.12.35.18 (version=TLS1_2 cipher=ECDHE-ECDSA-AES128-GCM-SHA256 bits=128/128); Mon, 30 Jun 2025 12:35:18 -0700 (PDT) X-Relaying-Domain: iol.unh.edu Date: Mon, 30 Jun 2025 12:35:18 -0700 (PDT) Message-ID: <6862e6f6.050a0220.3b8eb6.e96fSMTPIN_ADDED_MISSING@mx.google.com> Received: from [172.21.0.9] (unknown [172.18.0.240]) by postal.iol.unh.edu (Postfix) with ESMTP id 0ADA9604D420; Mon, 30 Jun 2025 15:35:18 -0400 (EDT) Subject: |SUCCESS| pw154860 [PATCH] [v2] test/argparse: change initialization From: dpdklab@iol.unh.edu To: Test Report Cc: dpdk-test-reports@iol.unh.edu In-Reply-To: <20250630145934.56969-1-stephen@networkplumber.org> References: <20250630145934.56969-1-stephen@networkplumber.org> Content-Type: text/plain X-BeenThere: test-report@dpdk.org X-Mailman-Version: 2.1.29 Precedence: list List-Id: automatic DPDK test reports List-Unsubscribe: , List-Archive: List-Post: List-Help: List-Subscribe: , Errors-To: test-report-bounces@dpdk.org Test-Label: iol-abi-testing Test-Status: SUCCESS http://dpdk.org/patch/154860 _Testing PASS_ Submitter: Stephen Hemminger Date: Monday, June 30 2025 14:58:49 DPDK git baseline: Repo:dpdk Branch: master CommitID:20460dcffd08a4680f881c39916ae783ee830374 154860 --> testing pass Upstream job id: Generic-DPDK-Compile-ABI#132434 Test environment and result as below: +-------------------------------+----------+ | Environment | abi_test | +===============================+==========+ | CentOS Stream 10 | PASS | +-------------------------------+----------+ | CentOS Stream 9 | PASS | +-------------------------------+----------+ | Fedora Linux 41 | PASS | +-------------------------------+----------+ | Debian GNU/Linux 12 | PASS | +-------------------------------+----------+ | Fedora Linux 40 | PASS | +-------------------------------+----------+ | openSUSE Leap 15.6 | PASS | +-------------------------------+----------+ | Red Hat Enterprise Linux 9.5 | PASS | +-------------------------------+----------+ | Red Hat Enterprise Linux 8.10 | PASS | +-------------------------------+----------+ | Ubuntu 22.04 | PASS | +-------------------------------+----------+ | Ubuntu 24.04 | PASS | +-------------------------------+----------+ CentOS Stream 10 Kernel: 5.15 Compiler: gcc gcc (GCC) 14.2.1 20250110 (Red Hat 14.2.1-8) CentOS Stream 9 Kernel: 5.15 Compiler: gcc gcc (GCC) 11.5.0 20240719 (Red Hat 11.5.0-7) Fedora Linux 41 Kernel: 5.15 Compiler: gcc gcc (GCC) 14.3.1 20250523 (Red Hat 14.3.1-1) Debian GNU/Linux 12 Kernel: 5.15 Compiler: gcc gcc (Debian 12.2.0-14+deb12u1) 12.2.0 Fedora Linux 40 Kernel: 5.15 Compiler: clang gcc (GCC) 14.2.1 20240912 (Red Hat 14.2.1-3) openSUSE Leap 15.6 Kernel: 5.15 Compiler: gcc gcc (SUSE Linux) 7.5.0 Red Hat Enterprise Linux 9.5 Kernel: 5.15 Compiler: gcc gcc (GCC) 11.5.0 20240719 (Red Hat 11.5.0-2) Red Hat Enterprise Linux 8.10 Kernel: 5.15 Compiler: gcc gcc (GCC) 8.5.0 20210514 (Red Hat 8.5.0-22) Ubuntu 22.04 Kernel: 5.15 Compiler: gcc gcc (Ubuntu 11.4.0-1ubuntu1~22.04) 11.4.0 Ubuntu 24.04 Kernel: 5.15 Compiler: gcc gcc (Ubuntu 13.3.0-6ubuntu2~24.04) 13.3.0 To view detailed results, visit: https://lab.dpdk.org/results/dashboard/patchsets/33545/ UNH-IOL DPDK Community Lab To manage your email subscriptions, visit: https://lab.dpdk.org/results/dashboard/preferences/subscriptions/