From mboxrd@z Thu Jan 1 00:00:00 1970 Return-Path: Received: from mails.dpdk.org (mails.dpdk.org [217.70.189.124]) by inbox.dpdk.org (Postfix) with ESMTP id 1F61B46ABC for ; Mon, 30 Jun 2025 21:35:27 +0200 (CEST) Received: from mails.dpdk.org (localhost [127.0.0.1]) by mails.dpdk.org (Postfix) with ESMTP id 1A7FB4025D; Mon, 30 Jun 2025 21:35:27 +0200 (CEST) Received: from mail-pl1-f226.google.com (mail-pl1-f226.google.com [209.85.214.226]) by mails.dpdk.org (Postfix) with ESMTP id 534FD40609 for ; Mon, 30 Jun 2025 21:35:23 +0200 (CEST) Received: by mail-pl1-f226.google.com with SMTP id d9443c01a7336-2350fc2591dso44781825ad.1 for ; Mon, 30 Jun 2025 12:35:23 -0700 (PDT) DKIM-Signature: v=1; a=rsa-sha256; c=relaxed/relaxed; d=iol.unh.edu; s=unh-iol; t=1751312122; x=1751916922; darn=dpdk.org; h=references:in-reply-to:cc:to:from:subject:message-id:date:from:to :cc:subject:date:message-id:reply-to; bh=HHoyYs0TLP6Xkl1PI0V6yBJQGOoaTvSYW15fLk1GPlE=; b=i+40x/ba02s21zd4A6OccnGME0UJT9ds5QkETYv+EtVV0wfZw4bPQfqy55Wrbgwhtz 4PpD0xVmW2gy90lAzWXp1gtfHsphVxIMVPhgRkM69ScePW+wODSmR6B4RWRb/EfzGIct vPp3YWIqwTP/qES3dkkiFJ4ranFRNI5Qgjy+A= X-Google-DKIM-Signature: v=1; a=rsa-sha256; c=relaxed/relaxed; d=1e100.net; s=20230601; t=1751312122; x=1751916922; h=references:in-reply-to:cc:to:from:subject:message-id:date :x-gm-message-state:from:to:cc:subject:date:message-id:reply-to; bh=HHoyYs0TLP6Xkl1PI0V6yBJQGOoaTvSYW15fLk1GPlE=; b=iLxrua2qsP5azD9psJwcLCjxpolQsdN8hNLev/RRvmnGNVnPmZlUPXFIBbCBDNf+mc 7sfFnVo/kEMBE/cwEY6BFU8oJAM5eUP0v3JkRG/6UES+GNoM1J1swajAss983or4z4q9 NUAehVwvcOAeyqsgHEwlfZJeG3IvfpO3UEs33ho0rej8r0XVPjF1eSK71jMJqLsXOs6T dupVloAQbX55V6epb0KWG6WhX4yb9yk49n/SFm54Z+hQv8cCYt4CPD7hNXuhk247EVFj 5XtOdadT4sIa6mnjA5Wnudw0LgNnJUh9PFlak3stwJwqH7Y7JVwfhnC8/3rsJvM+7S59 hxqQ== X-Gm-Message-State: AOJu0YyhOxyyv/1iCTMUx6JmYsaTLnB2ktmVe84lg9kM0Ko4gelBIpgE LH/lgHtH/nIrs/ZR89pg5ReOCkuT6GDMpE5PqZGmiKXnnLBut0K9DoNGBzTJu+YIZIgZRGVcoFO l4T6Eu2DZsLxJUYvB+kJpK/NbMismvDQvc4PYi3Kgl4mH X-Gm-Gg: ASbGncsQ+aAZrs5ktzq6iZ8r+M9R34IiFX9RbLREKgZ0q7Qj4kH/Yx8uKATaqG9TFPv vk0q0847fEHIY3rxF3+rRKLV8tjFlcpeqDhKfO4Nq2PEUvzMnTetTh4tmUhHzJj2AW2uG7AR/J8 ZBggUjqFwPgMaAar3MTbUiai9XSykW7ohn4zuFIQjfTrew1Jkb6hVhR3Ong1sum2HIKarc1sSSY 84mUJ32s6EYRcNoSFKqdTneTBCMCkFA8RmBPzrq7hiZlodHsRPm+zgsWS0zJ133g9zTwMYqjNjf OqgRqCy10g5LuQN4VSFJ174stmRdqTw4BoopOrgGXGgtsUDqAULm+3DpHT5Cyx+9Bjcn5g== X-Google-Smtp-Source: AGHT+IH8dO/jdgkSKYef6WPEZPBx+qtFNTaEBgW1oQoh3SPnpRY2s1F1eHFojzSEFzHTA1DMb0vz7DZoT/W4 X-Received: by 2002:a17:903:44ce:b0:215:b1e3:c051 with SMTP id d9443c01a7336-23b354c018amr6420695ad.11.1751312122547; Mon, 30 Jun 2025 12:35:22 -0700 (PDT) Received: from postal.iol.unh.edu (postal.iol.unh.edu. [132.177.123.84]) by smtp-relay.gmail.com with ESMTPS id d9443c01a7336-23acb369706sm4448845ad.89.2025.06.30.12.35.22 (version=TLS1_2 cipher=ECDHE-ECDSA-AES128-GCM-SHA256 bits=128/128); Mon, 30 Jun 2025 12:35:22 -0700 (PDT) X-Relaying-Domain: iol.unh.edu Date: Mon, 30 Jun 2025 12:35:22 -0700 (PDT) Message-ID: <6862e6fa.170a0220.2c8e9f.8766SMTPIN_ADDED_MISSING@mx.google.com> Received: from [172.21.0.8] (unknown [172.18.0.240]) by postal.iol.unh.edu (Postfix) with ESMTP id AF6E5604D420; Mon, 30 Jun 2025 15:35:21 -0400 (EDT) Subject: |WARNING| pw154850-154856 [PATCH] [7/7] net/ena: upgrade driver vers From: dpdklab@iol.unh.edu To: Test Report Cc: dpdk-test-reports@iol.unh.edu In-Reply-To: <20250630111624.3677-1-shaibran@amazon.com> References: <20250630111624.3677-1-shaibran@amazon.com> Content-Type: text/plain X-BeenThere: test-report@dpdk.org X-Mailman-Version: 2.1.29 Precedence: list List-Id: automatic DPDK test reports List-Unsubscribe: , List-Archive: List-Post: List-Help: List-Subscribe: , Errors-To: test-report-bounces@dpdk.org Test-Label: iol-compile-amd64-testing Test-Status: WARNING http://dpdk.org/patch/154856 _Testing issues_ Submitter: Brandes, Shai Date: Monday, June 30 2025 11:16:24 DPDK git baseline: Repo:dpdk Branch: master CommitID:798e267824a5b9018fff6e0dc37e9a9f1f73e8fb 154850-154856 --> testing issues Upstream job id: Generic-DPDK-Compile-Meson#403775 Test environment and result as below: +-------------------------------+--------------------+-------------------+------------------+-------------------+-------------------------+----------------------+ | Environment | dpdk_meson_compile | dpdk_compile_spdk | dpdk_compile_ovs | dpdk_msvc_compile | dpdk_llvm_clang_compile | dpdk_mingw64_compile | +===============================+====================+===================+==================+===================+=========================+======================+ | Ubuntu 20.04 | PASS | SKIPPED | SKIPPED | SKIPPED | SKIPPED | SKIPPED | +-------------------------------+--------------------+-------------------+------------------+-------------------+-------------------------+----------------------+ | FreeBSD 14.2 | PASS | SKIPPED | SKIPPED | SKIPPED | SKIPPED | SKIPPED | +-------------------------------+--------------------+-------------------+------------------+-------------------+-------------------------+----------------------+ | CentOS Stream 9 | PASS | PASS | SKIPPED | SKIPPED | SKIPPED | SKIPPED | +-------------------------------+--------------------+-------------------+------------------+-------------------+-------------------------+----------------------+ | CentOS Stream 10 | PASS | SKIPPED | SKIPPED | SKIPPED | SKIPPED | SKIPPED | +-------------------------------+--------------------+-------------------+------------------+-------------------+-------------------------+----------------------+ | Debian GNU/Linux 12 | PASS | PASS | SKIPPED | SKIPPED | SKIPPED | SKIPPED | +-------------------------------+--------------------+-------------------+------------------+-------------------+-------------------------+----------------------+ | Fedora Linux 40 | PASS | PASS | SKIPPED | SKIPPED | SKIPPED | SKIPPED | +-------------------------------+--------------------+-------------------+------------------+-------------------+-------------------------+----------------------+ | Fedora Linux 41 | PASS | PASS | PASS | SKIPPED | SKIPPED | SKIPPED | +-------------------------------+--------------------+-------------------+------------------+-------------------+-------------------------+----------------------+ | openSUSE Leap 15.6 | PASS | SKIPPED | SKIPPED | SKIPPED | SKIPPED | SKIPPED | +-------------------------------+--------------------+-------------------+------------------+-------------------+-------------------------+----------------------+ | Red Hat Enterprise Linux 8.10 | PASS | SKIPPED | SKIPPED | SKIPPED | SKIPPED | SKIPPED | +-------------------------------+--------------------+-------------------+------------------+-------------------+-------------------------+----------------------+ | Red Hat Enterprise Linux 9.5 | PASS | SKIPPED | SKIPPED | SKIPPED | SKIPPED | SKIPPED | +-------------------------------+--------------------+-------------------+------------------+-------------------+-------------------------+----------------------+ | Ubuntu 22.04 | PASS | PASS | SKIPPED | SKIPPED | SKIPPED | SKIPPED | +-------------------------------+--------------------+-------------------+------------------+-------------------+-------------------------+----------------------+ | Alpine Linux 3.22.0 | PASS | SKIPPED | SKIPPED | SKIPPED | SKIPPED | SKIPPED | +-------------------------------+--------------------+-------------------+------------------+-------------------+-------------------------+----------------------+ | Ubuntu 24.04 | PASS | PASS | PASS | SKIPPED | SKIPPED | SKIPPED | +-------------------------------+--------------------+-------------------+------------------+-------------------+-------------------------+----------------------+ | Windows Server 2022 | SKIPPED | SKIPPED | SKIPPED | PASS | PASS | PASS | +-------------------------------+--------------------+-------------------+------------------+-------------------+-------------------------+----------------------+ Ubuntu 20.04 Kernel: 4.19 Compiler: gcc gcc (Ubuntu 9.4.0-1ubuntu1~20.04.2) 9.4.0 FreeBSD 14.2 Kernel: 14.2-RELEASE Compiler: clang 18.1.6 CentOS Stream 9 Kernel: 5.15 Compiler: gcc gcc (GCC) 11.5.0 20240719 (Red Hat 11.5.0-7) CentOS Stream 10 Kernel: 5.15 Compiler: gcc gcc (GCC) 14.2.1 20250110 (Red Hat 14.2.1-8) Debian GNU/Linux 12 Kernel: 5.15 Compiler: gcc gcc (Debian 12.2.0-14+deb12u1) 12.2.0 Fedora Linux 40 Kernel: 5.15 Compiler: clang gcc (GCC) 14.2.1 20240912 (Red Hat 14.2.1-3) Fedora Linux 41 Kernel: 5.15 Compiler: clang gcc (GCC) 14.3.1 20250523 (Red Hat 14.3.1-1) openSUSE Leap 15.6 Kernel: 5.15 Compiler: gcc gcc (SUSE Linux) 7.5.0 Red Hat Enterprise Linux 8.10 Kernel: 5.15 Compiler: gcc gcc (GCC) 8.5.0 20210514 (Red Hat 8.5.0-22) Red Hat Enterprise Linux 9.5 Kernel: 5.15 Compiler: gcc gcc (GCC) 11.5.0 20240719 (Red Hat 11.5.0-2) Ubuntu 22.04 Kernel: 5.15 Compiler: gcc gcc (Ubuntu 11.4.0-1ubuntu1~22.04) 11.4.0 Alpine Linux 3.22.0 Kernel: 5.15 Compiler: gcc gcc (Alpine 14.2.0) 14.2.0 Ubuntu 24.04 Kernel: 5.15 Compiler: gcc gcc (Ubuntu 13.3.0-6ubuntu2~24.04) 13.3.0 Windows Server 2022 Kernel: 10.0.20348.2031 Compiler: clang 15.0.7, gcc 14.1.0 (MinGW), and MSVC VS 19.39.33521 To view detailed results, visit: https://lab.dpdk.org/results/dashboard/patchsets/33543/ UNH-IOL DPDK Community Lab To manage your email subscriptions, visit: https://lab.dpdk.org/results/dashboard/preferences/subscriptions/