From mboxrd@z Thu Jan 1 00:00:00 1970 Return-Path: Received: from mails.dpdk.org (mails.dpdk.org [217.70.189.124]) by inbox.dpdk.org (Postfix) with ESMTP id 2F6EB46ABC for ; Mon, 30 Jun 2025 21:47:39 +0200 (CEST) Received: from mails.dpdk.org (localhost [127.0.0.1]) by mails.dpdk.org (Postfix) with ESMTP id 098784025D; Mon, 30 Jun 2025 21:47:39 +0200 (CEST) Received: from mail-il1-f225.google.com (mail-il1-f225.google.com [209.85.166.225]) by mails.dpdk.org (Postfix) with ESMTP id 656B04025D for ; Mon, 30 Jun 2025 21:47:38 +0200 (CEST) Received: by mail-il1-f225.google.com with SMTP id e9e14a558f8ab-3ddb4a7ac19so17265075ab.3 for ; Mon, 30 Jun 2025 12:47:38 -0700 (PDT) DKIM-Signature: v=1; a=rsa-sha256; c=relaxed/relaxed; d=iol.unh.edu; s=unh-iol; t=1751312857; x=1751917657; darn=dpdk.org; h=references:in-reply-to:cc:to:from:subject:message-id:date:from:to :cc:subject:date:message-id:reply-to; bh=o3+h8ztgT7rpHs/tiHzkTT+GFGoEV9ylMnw2DzxE7Qc=; b=Uvm/tBwXsMeMFjnE2iFe3APdLq0p4dCo2zmcLoyCTSnTxF7zt6VgghCMfCj1QKFZ9A hWCUHoTIGA1zivzNXindV6MoVZO8wDlXOPcYxgNw6FApDc4poSk6/Z/YjnVa6rBqzu1h M1B3TRRSXr/yFL/fH3czlNG0DLUZdCjd128JI= X-Google-DKIM-Signature: v=1; a=rsa-sha256; c=relaxed/relaxed; d=1e100.net; s=20230601; t=1751312857; x=1751917657; h=references:in-reply-to:cc:to:from:subject:message-id:date :x-gm-message-state:from:to:cc:subject:date:message-id:reply-to; bh=o3+h8ztgT7rpHs/tiHzkTT+GFGoEV9ylMnw2DzxE7Qc=; b=P2SNM61DdsScFAghKEjv/JAgSLQkQDVDhrXp1P9StvpzF/vlu9boStFlzWGiAun9HU rvRAyNguCzfE8V74PNJ49nzv5tpcnxKUHA5FMoHrs61BZkEZ4Ioz8AjyZsZF8n4U2RV1 bPMbmPSFHx5GjKu08wMArcMQaow2ivhjzlvpA70CDpewS+otTO20WmHBuliU96yV9jVl Xr0x49JtvMqNoZzBHNJwBqwb4LlxfUAm7o/2XxzYtyjmm93XuPNaVO/7uFgFfHyN255i 79pbj8IuSKS9tIVloSZB9StaHC3cETtmNDLanhIOSav6YouLcsqsbCj3lcD+2BAFAtUO K+Fg== X-Gm-Message-State: AOJu0YxA41k9Q7pEWomT1dIM9Pm/8xZi8hXrKsllfCAo6RYxQfjWc+et 3pdd5DDDnJlmDgWcBDKGaF0cpBkbFt4aPhHTA6gRWtnRrpa5BnEN4jDqnxAMhvnjGO/cjHyLVCA ULzdgNAO8mJd9wdFqDV7RdNjliX1zLMn/HgcX1wF1GjmExymbQFX2jmSTnYQL X-Gm-Gg: ASbGnctIJqk5LPEEvEydd9KTezNJ0UlXqkBwYpwr677pcc4CAI4QwaSyZmm/CPMJN52 g69tLM4vgWZ0QCow9fvtxo7xQ2ova9FjrK/Quw7VxxSUsWfkmeeZTR5b5r8GJoV5ZTYFWFW9ZW0 RrvCeMJa2vwquiQVFjH0yPTpnft2oNWe8BQtUd6O3jSnf0T5l0eUpPo8j6WspkCai/azR081Uhn QjBZ6QZLT/cNxL7jCZx21VlYwXEhPPhQqa5qnNNR0iZr/C/4xMNe9ode9Yj5YixAci6MH9BIgCi 924B69urUwyjYncNDg9e/9Zj1XJroo43ubw1cKDWKxNLgB4= X-Google-Smtp-Source: AGHT+IGZipJRdLxUE6D1xy77DzGvDYx4B9dOoLlKXekbu0Sr8j3pxCdLo7Yeem9UaBBaOF2SjFgg5JJPSP/z X-Received: by 2002:a05:6e02:32c9:b0:3df:410b:635b with SMTP id e9e14a558f8ab-3df4accdd5cmr173171525ab.19.1751312857391; Mon, 30 Jun 2025 12:47:37 -0700 (PDT) Received: from postal.iol.unh.edu (postal.iol.unh.edu. [2606:4100:3880:1234::84]) by smtp-relay.gmail.com with ESMTPS id e9e14a558f8ab-3df4a0c7d8bsm4942475ab.61.2025.06.30.12.47.37 (version=TLS1_2 cipher=ECDHE-ECDSA-AES128-GCM-SHA256 bits=128/128); Mon, 30 Jun 2025 12:47:37 -0700 (PDT) X-Relaying-Domain: iol.unh.edu Date: Mon, 30 Jun 2025 12:47:37 -0700 (PDT) Message-ID: <6862e9d9.050a0220.30b4d.a120SMTPIN_ADDED_MISSING@mx.google.com> Received: from [172.21.0.6] (unknown [172.18.0.240]) by postal.iol.unh.edu (Postfix) with ESMTP id E0F35604D420; Mon, 30 Jun 2025 15:47:36 -0400 (EDT) Subject: |SUCCESS| pw154861 [PATCH] [v2] eal: deprecate old coremask-based EA From: dpdklab@iol.unh.edu To: Test Report Cc: dpdk-test-reports@iol.unh.edu In-Reply-To: <20250630153752.2361112-1-bruce.richardson@intel.com> References: <20250630153752.2361112-1-bruce.richardson@intel.com> Content-Type: text/plain X-BeenThere: test-report@dpdk.org X-Mailman-Version: 2.1.29 Precedence: list List-Id: automatic DPDK test reports List-Unsubscribe: , List-Archive: List-Post: List-Help: List-Subscribe: , Errors-To: test-report-bounces@dpdk.org Test-Label: iol-unit-amd64-testing Test-Status: SUCCESS http://dpdk.org/patch/154861 _Testing PASS_ Submitter: Bruce Richardson Date: Monday, June 30 2025 15:37:34 DPDK git baseline: Repo:dpdk Branch: master CommitID:20460dcffd08a4680f881c39916ae783ee830374 154861 --> testing pass Upstream job id: Generic-Unit-Test-DPDK#351169 Test environment and result as below: +-------------------------------+----------------+ | Environment | dpdk_unit_test | +===============================+================+ | CentOS Stream 10 | PASS | +-------------------------------+----------------+ | Fedora Linux 40 | PASS | +-------------------------------+----------------+ | Fedora Linux 41 | PASS | +-------------------------------+----------------+ | CentOS Stream 9 | PASS | +-------------------------------+----------------+ | Ubuntu 20.04 | PASS | +-------------------------------+----------------+ | Red Hat Enterprise Linux 9.5 | PASS | +-------------------------------+----------------+ | Red Hat Enterprise Linux 8.10 | PASS | +-------------------------------+----------------+ | Ubuntu 22.04 | PASS | +-------------------------------+----------------+ | Debian GNU/Linux 12 | PASS | +-------------------------------+----------------+ | Ubuntu 24.04 | PASS | +-------------------------------+----------------+ | Windows Server 2022 | PASS | +-------------------------------+----------------+ CentOS Stream 10 Kernel: 5.15 Compiler: gcc gcc (GCC) 14.2.1 20250110 (Red Hat 14.2.1-8) Fedora Linux 40 Kernel: 5.15 Compiler: gcc gcc (GCC) 14.2.1 20240912 (Red Hat 14.2.1-3) Fedora Linux 41 Kernel: 5.15 Compiler: gcc gcc (GCC) 14.3.1 20250523 (Red Hat 14.3.1-1) CentOS Stream 9 Kernel: 5.15 Compiler: gcc gcc (GCC) 11.5.0 20240719 (Red Hat 11.5.0-7) Ubuntu 20.04 Kernel: 5.15 Compiler: gcc gcc (Ubuntu 9.4.0-1ubuntu1~20.04.2) 9.4.0 Red Hat Enterprise Linux 9.5 Kernel: 5.15 Compiler: gcc gcc (GCC) 11.5.0 20240719 (Red Hat 11.5.0-2) Red Hat Enterprise Linux 8.10 Kernel: 5.15 Compiler: gcc gcc (GCC) 8.5.0 20210514 (Red Hat 8.5.0-22) Ubuntu 22.04 Kernel: 5.15 Compiler: gcc gcc (Ubuntu 11.4.0-1ubuntu1~22.04) 11.4.0 Debian GNU/Linux 12 Kernel: 5.15 Compiler: gcc gcc (Debian 12.2.0-14+deb12u1) 12.2.0 Ubuntu 24.04 Kernel: 5.15 Compiler: gcc gcc (Ubuntu 13.3.0-6ubuntu2~24.04) 13.3.0 Windows Server 2022 Kernel: 10.0.20348.2031 Compiler: clang 15.0.7, gcc 14.1.0 (MinGW), and MSVC VS 19.39.33521 To view detailed results, visit: https://lab.dpdk.org/results/dashboard/patchsets/33546/ UNH-IOL DPDK Community Lab To manage your email subscriptions, visit: https://lab.dpdk.org/results/dashboard/preferences/subscriptions/