From mboxrd@z Thu Jan 1 00:00:00 1970 Return-Path: Received: from mails.dpdk.org (mails.dpdk.org [217.70.189.124]) by inbox.dpdk.org (Postfix) with ESMTP id 84A1646AC2 for ; Mon, 30 Jun 2025 23:36:58 +0200 (CEST) Received: from mails.dpdk.org (localhost [127.0.0.1]) by mails.dpdk.org (Postfix) with ESMTP id 5FB5D4025D; Mon, 30 Jun 2025 23:36:58 +0200 (CEST) Received: from mail-qv1-f99.google.com (mail-qv1-f99.google.com [209.85.219.99]) by mails.dpdk.org (Postfix) with ESMTP id 40EA24025D for ; Mon, 30 Jun 2025 23:36:57 +0200 (CEST) Received: by mail-qv1-f99.google.com with SMTP id 6a1803df08f44-6ff16e97d1eso47315616d6.1 for ; Mon, 30 Jun 2025 14:36:57 -0700 (PDT) DKIM-Signature: v=1; a=rsa-sha256; c=relaxed/relaxed; d=iol.unh.edu; s=unh-iol; t=1751319415; x=1751924215; darn=dpdk.org; h=references:in-reply-to:cc:to:from:subject:message-id:date:from:to :cc:subject:date:message-id:reply-to; bh=yXMlqCFXix4WJjlna6y3QeV+vU2mEOAMnOQZrP7WAzc=; b=N8za/IN3k3yXcL1u//pcrvm5O+PWVzuaSCtRHSbOxNT7aa1wLcM8eSJWSI+BNwDNAm 4rp1xSJwKv5GrJVC3Oci2jtpMTsx1v5jZfYCyjvRJU0pvMYWTaVUm04s2ww8ety7GhAI djkk2Kesxz9ml1fvJHtFp6MTzNecr1Tm6U0Cg= X-Google-DKIM-Signature: v=1; a=rsa-sha256; c=relaxed/relaxed; d=1e100.net; s=20230601; t=1751319415; x=1751924215; h=references:in-reply-to:cc:to:from:subject:message-id:date :x-gm-message-state:from:to:cc:subject:date:message-id:reply-to; bh=yXMlqCFXix4WJjlna6y3QeV+vU2mEOAMnOQZrP7WAzc=; b=wWDzbk6yjjzU+SIyKJ8cLATURoUTqdx73T4wrlBtXmqHnKBA/b7MSQmW4sWdzshJX3 nyqdUnoeZTiR1voVcIatnBKqwIaBfMZ8xCh8iew+BiQGt/Exu+3xUHIbLh2q7cae5mH2 ZI5udu7CrYTNTISXqij0mEyB/hSv+yp5m5yTdUby5NvSC0jwQStNw4FQtGp62yy+gXnt rdUXzOp8R2m7KvQ1datYbWIQsLapTHxJWltfmYdC1xzhsm/PdNMNJllYMZKgzhTbt6b5 dsHhCBT9h3WS8oT6Y/XITXnSUAguxUij1n5EKltJImbGkLrhqRWRzHIdzCIGYUdiDDnZ Nhtw== X-Gm-Message-State: AOJu0YxcFawNXZpYofqX94zYqm4Fv6SYIJypI70682H81yMOGdxVyx9s lT10QT9VBd8c9QTiQH7qilCUGEr5m/odLiqlOSpWnnnp5th+ceKq2dd4pY0v4DeJubzPoVIisTL 2Jog+DFlq+ft/6yNLEygRdjjFDsFYfBWehaMLFP1n13yreIf7Di2fJJDLZeGi X-Gm-Gg: ASbGncvpAshmNcyRcloH4mH9ssVEeRzoBmyjUabmmU7Cc9IRlXk9D5swHVzkkbdqQhF UwSi/5YOMqZrc90uFAWnry30LPmZ1h6sWNrdkahvQ+oOn9ZOech5M9tZsHZLv8Df8Z4cb1c0OGR z8ANcI3aortTHJHK7UkHUdrp7Zw3zViw8eh0KRfi3G9rqAWVU435cI3FvQ8fhIEwgbcjJgKdCil 4LGOUf29p52VYwVj9ES2dE9T3aYICKP1HyqmEbM8Xq0r88okZJhJYThHfEnaswSBV39sKBJJtOF xX5m6csmqRNvK42HSFVi9Pghhj5JvKO1VEhEA5nWNzIzzC4= X-Google-Smtp-Source: AGHT+IEn6uUMZmUh2IWHvTgxO5nF4C0hFeK7gW2a7pumqPkfwJuLJyVMb6gXJHbVgQeAUE5e+pW+sxnwo/WQ X-Received: by 2002:ad4:576a:0:b0:6fd:76b7:38b6 with SMTP id 6a1803df08f44-7010a97e046mr19464856d6.13.1751319415559; Mon, 30 Jun 2025 14:36:55 -0700 (PDT) Received: from postal.iol.unh.edu (postal.iol.unh.edu. [2606:4100:3880:1234::84]) by smtp-relay.gmail.com with ESMTPS id 6a1803df08f44-6fe77df2fd3sm5267106d6.36.2025.06.30.14.36.55 (version=TLS1_2 cipher=ECDHE-ECDSA-AES128-GCM-SHA256 bits=128/128); Mon, 30 Jun 2025 14:36:55 -0700 (PDT) X-Relaying-Domain: iol.unh.edu Date: Mon, 30 Jun 2025 14:36:55 -0700 (PDT) Message-ID: <68630377.050a0220.1609cd.c39fSMTPIN_ADDED_MISSING@mx.google.com> Received: from [172.21.0.6] (unknown [172.18.0.240]) by postal.iol.unh.edu (Postfix) with ESMTP id 3D72B604D420; Mon, 30 Jun 2025 17:36:55 -0400 (EDT) Subject: |SUCCESS| pw154861 [PATCH] [v2] eal: deprecate old coremask-based EA From: dpdklab@iol.unh.edu To: Test Report Cc: dpdk-test-reports@iol.unh.edu In-Reply-To: <20250630153752.2361112-1-bruce.richardson@intel.com> References: <20250630153752.2361112-1-bruce.richardson@intel.com> Content-Type: text/plain X-BeenThere: test-report@dpdk.org X-Mailman-Version: 2.1.29 Precedence: list List-Id: automatic DPDK test reports List-Unsubscribe: , List-Archive: List-Post: List-Help: List-Subscribe: , Errors-To: test-report-bounces@dpdk.org Test-Label: iol-abi-testing Test-Status: SUCCESS http://dpdk.org/patch/154861 _Testing PASS_ Submitter: Bruce Richardson Date: Monday, June 30 2025 15:37:34 DPDK git baseline: Repo:dpdk Branch: master CommitID:20460dcffd08a4680f881c39916ae783ee830374 154861 --> testing pass Upstream job id: Generic-DPDK-Compile-ABI#132441 Test environment and result as below: +-------------------------------+----------+ | Environment | abi_test | +===============================+==========+ | Debian GNU/Linux 12 | PASS | +-------------------------------+----------+ | CentOS Stream 10 | PASS | +-------------------------------+----------+ | CentOS Stream 9 | PASS | +-------------------------------+----------+ | Fedora Linux 40 | PASS | +-------------------------------+----------+ | Fedora Linux 41 | PASS | +-------------------------------+----------+ | openSUSE Leap 15.6 | PASS | +-------------------------------+----------+ | Red Hat Enterprise Linux 9.5 | PASS | +-------------------------------+----------+ | Red Hat Enterprise Linux 8.10 | PASS | +-------------------------------+----------+ | Ubuntu 24.04 | PASS | +-------------------------------+----------+ | Ubuntu 22.04 | PASS | +-------------------------------+----------+ Debian GNU/Linux 12 Kernel: 5.15 Compiler: gcc gcc (Debian 12.2.0-14+deb12u1) 12.2.0 CentOS Stream 10 Kernel: 5.15 Compiler: gcc gcc (GCC) 14.2.1 20250110 (Red Hat 14.2.1-8) CentOS Stream 9 Kernel: 5.15 Compiler: gcc gcc (GCC) 11.5.0 20240719 (Red Hat 11.5.0-7) Fedora Linux 40 Kernel: 5.15 Compiler: clang gcc (GCC) 14.2.1 20240912 (Red Hat 14.2.1-3) Fedora Linux 41 Kernel: 5.15 Compiler: clang gcc (GCC) 14.3.1 20250523 (Red Hat 14.3.1-1) openSUSE Leap 15.6 Kernel: 5.15 Compiler: gcc gcc (SUSE Linux) 7.5.0 Red Hat Enterprise Linux 9.5 Kernel: 5.15 Compiler: gcc gcc (GCC) 11.5.0 20240719 (Red Hat 11.5.0-2) Red Hat Enterprise Linux 8.10 Kernel: 5.15 Compiler: gcc gcc (GCC) 8.5.0 20210514 (Red Hat 8.5.0-22) Ubuntu 24.04 Kernel: 5.15 Compiler: gcc gcc (Ubuntu 13.3.0-6ubuntu2~24.04) 13.3.0 Ubuntu 22.04 Kernel: 5.15 Compiler: gcc gcc (Ubuntu 11.4.0-1ubuntu1~22.04) 11.4.0 To view detailed results, visit: https://lab.dpdk.org/results/dashboard/patchsets/33546/ UNH-IOL DPDK Community Lab To manage your email subscriptions, visit: https://lab.dpdk.org/results/dashboard/preferences/subscriptions/