From mboxrd@z Thu Jan 1 00:00:00 1970 Return-Path: Received: from mails.dpdk.org (mails.dpdk.org [217.70.189.124]) by inbox.dpdk.org (Postfix) with ESMTP id 7BEE846AC2 for ; Mon, 30 Jun 2025 23:37:40 +0200 (CEST) Received: from mails.dpdk.org (localhost [127.0.0.1]) by mails.dpdk.org (Postfix) with ESMTP id 790114025D; Mon, 30 Jun 2025 23:37:40 +0200 (CEST) Received: from mail-io1-f99.google.com (mail-io1-f99.google.com [209.85.166.99]) by mails.dpdk.org (Postfix) with ESMTP id C60134025D for ; Mon, 30 Jun 2025 23:37:39 +0200 (CEST) Received: by mail-io1-f99.google.com with SMTP id ca18e2360f4ac-86d01686196so150099439f.1 for ; Mon, 30 Jun 2025 14:37:39 -0700 (PDT) DKIM-Signature: v=1; a=rsa-sha256; c=relaxed/relaxed; d=iol.unh.edu; s=unh-iol; t=1751319459; x=1751924259; darn=dpdk.org; h=references:in-reply-to:cc:to:from:subject:message-id:date:from:to :cc:subject:date:message-id:reply-to; bh=rIpU4I7CZAiWgIEI0c0pnq6qLsbvN7WZ0wM044LaGaE=; b=GMwsN4wCmfC5BQdiMxVJG3/cJwiwXrgxz38M9TXw/3RmavtAuQJfGUfPr/LlXfNxd6 yGX5sVwzajAeTaV4adaafNoPOEtPT418h4IzU1mXMytPnO/EkVquzapHNWCzyi+eT5c6 MLLPF5cn9O+hQwaFO4C+0N0Q0jROupNqv0Kko= X-Google-DKIM-Signature: v=1; a=rsa-sha256; c=relaxed/relaxed; d=1e100.net; s=20230601; t=1751319459; x=1751924259; h=references:in-reply-to:cc:to:from:subject:message-id:date :x-gm-message-state:from:to:cc:subject:date:message-id:reply-to; bh=rIpU4I7CZAiWgIEI0c0pnq6qLsbvN7WZ0wM044LaGaE=; b=e0kfkpDfC/AbqBsUG9N8PD2J6kpsEJXw2opPcVtLMJ8qRUCWUcrARknbKjHlauSGoe 4bdjP4sx8jigDGEL4wRwckEfyp4oF1cb60C9pLWj6nyjQ9uR2mRxblt2fXxX7LfFJkNE 8oNADanI/zXJ4a3lSRkjnNVzou77d+xu7DpAmsR88kOexX8npEuQbktx5Tz7UU0c3b+b /cY/5kwURmgBvlRTT0LJhfBO5kG+3koJrEDySy+ZCScFG4ux2Ns5aN+fI2Ci3OVuJPSW 2DrrEqldxyyRSPza/A+uckprzDWblaiMcvPrDEOeB3HnqLV7S8P5rUKmg/7pGmipZDeX NvwQ== X-Gm-Message-State: AOJu0YxpGJkvqIVyTA1AbRT4eOVZVnJ7hogOoksgtWuKbSfrB6Tbujc0 QZWtuRXYOp171o3bs2N4ghp5L2+Eftyuz8FXjTb8PUCMCWcNC2eHiiJBfz7X2tNqUNt/u01/kB1 V81xhQn1kO8WXft6jhmkwwhiogP8LMbWYZ02JYnqXijN8 X-Gm-Gg: ASbGncsX2v0R1zI5V3uQEPMBZyJJb8jVWOl0b5nC8bSAExm4zgGbbTjvGxygVbOZvV9 JW2rwydN1PNQfz9foVXWbrbCPrPR+LLbaa7wz33AwOckyv0mHCgJUJNdYaXAK/m4IyHieZIwikV kAIEYTYildLM4sX+tizPXGo9ZXQPKp4VCb1MdKq630dO5w6ydE4x4ZfalVAFkALwg3USbSe8HAH HLNehNZ4lZthjiYyrD5lK7FGhwDordGXQCdbz366cH4PTQ3SRHxNUqxIvddG9x9mV4ruz/dMYs4 ttX2fPgOJmFlJ0R9Db9aEtS0OwSNtuz41q0SKJVDsvXH1xhN6Hd8+oAbvXGL4w9gK/dYBQ== X-Google-Smtp-Source: AGHT+IH+GncBWKaD6ZMa3eBQJXd0oB2F076ahc/vmpU/cL+G8xz2U3nYTpyX3yYCc8h50RhKcQLlAwtuR2wC X-Received: by 2002:a05:6602:2c90:b0:875:bbf0:8bf with SMTP id ca18e2360f4ac-8768859204amr1639290939f.5.1751319459138; Mon, 30 Jun 2025 14:37:39 -0700 (PDT) Received: from postal.iol.unh.edu (postal.iol.unh.edu. [132.177.123.84]) by smtp-relay.gmail.com with ESMTPS id 8926c6da1cb9f-50204a84d20sm338400173.54.2025.06.30.14.37.39 (version=TLS1_2 cipher=ECDHE-ECDSA-AES128-GCM-SHA256 bits=128/128); Mon, 30 Jun 2025 14:37:39 -0700 (PDT) X-Relaying-Domain: iol.unh.edu Date: Mon, 30 Jun 2025 14:37:39 -0700 (PDT) Message-ID: <686303a3.050a0220.3c6719.23efSMTPIN_ADDED_MISSING@mx.google.com> Received: from [172.21.0.5] (unknown [172.18.0.240]) by postal.iol.unh.edu (Postfix) with ESMTP id A18C2604D420; Mon, 30 Jun 2025 17:37:38 -0400 (EDT) Subject: |SUCCESS| pw154861 [PATCH] [v2] eal: deprecate old coremask-based EA From: dpdklab@iol.unh.edu To: Test Report Cc: dpdk-test-reports@iol.unh.edu In-Reply-To: <20250630153752.2361112-1-bruce.richardson@intel.com> References: <20250630153752.2361112-1-bruce.richardson@intel.com> Content-Type: text/plain X-BeenThere: test-report@dpdk.org X-Mailman-Version: 2.1.29 Precedence: list List-Id: automatic DPDK test reports List-Unsubscribe: , List-Archive: List-Post: List-Help: List-Subscribe: , Errors-To: test-report-bounces@dpdk.org Test-Label: iol-abi-testing Test-Status: SUCCESS http://dpdk.org/patch/154861 _Testing PASS_ Submitter: Bruce Richardson Date: Monday, June 30 2025 15:37:34 DPDK git baseline: Repo:dpdk Branch: master CommitID:20460dcffd08a4680f881c39916ae783ee830374 154861 --> testing pass Upstream job id: Generic-DPDK-Compile-ABI#132446 Test environment and result as below: +-------------------------------+----------+ | Environment | abi_test | +===============================+==========+ | Debian GNU/Linux 12 | PASS | +-------------------------------+----------+ | CentOS Stream 10 | PASS | +-------------------------------+----------+ | CentOS Stream 9 | PASS | +-------------------------------+----------+ | Fedora Linux 40 | PASS | +-------------------------------+----------+ | Fedora Linux 41 | PASS | +-------------------------------+----------+ | openSUSE Leap 15.6 | PASS | +-------------------------------+----------+ | Red Hat Enterprise Linux 9.5 | PASS | +-------------------------------+----------+ | Red Hat Enterprise Linux 8.10 | PASS | +-------------------------------+----------+ | Ubuntu 24.04 | PASS | +-------------------------------+----------+ | Ubuntu 22.04 | PASS | +-------------------------------+----------+ Debian GNU/Linux 12 Kernel: 5.15 Compiler: gcc gcc (Debian 12.2.0-14+deb12u1) 12.2.0 CentOS Stream 10 Kernel: 5.15 Compiler: gcc gcc (GCC) 14.2.1 20250110 (Red Hat 14.2.1-8) CentOS Stream 9 Kernel: 5.15 Compiler: gcc gcc (GCC) 11.5.0 20240719 (Red Hat 11.5.0-7) Fedora Linux 40 Kernel: 5.15 Compiler: clang gcc (GCC) 14.2.1 20240912 (Red Hat 14.2.1-3) Fedora Linux 41 Kernel: 5.15 Compiler: clang gcc (GCC) 14.3.1 20250523 (Red Hat 14.3.1-1) openSUSE Leap 15.6 Kernel: 5.15 Compiler: gcc gcc (SUSE Linux) 7.5.0 Red Hat Enterprise Linux 9.5 Kernel: 5.15 Compiler: gcc gcc (GCC) 11.5.0 20240719 (Red Hat 11.5.0-2) Red Hat Enterprise Linux 8.10 Kernel: 5.15 Compiler: gcc gcc (GCC) 8.5.0 20210514 (Red Hat 8.5.0-22) Ubuntu 24.04 Kernel: 5.15 Compiler: gcc gcc (Ubuntu 13.3.0-6ubuntu2~24.04) 13.3.0 Ubuntu 22.04 Kernel: 5.15 Compiler: gcc gcc (Ubuntu 11.4.0-1ubuntu1~22.04) 11.4.0 To view detailed results, visit: https://lab.dpdk.org/results/dashboard/patchsets/33546/ UNH-IOL DPDK Community Lab To manage your email subscriptions, visit: https://lab.dpdk.org/results/dashboard/preferences/subscriptions/