From mboxrd@z Thu Jan 1 00:00:00 1970 Return-Path: Received: from mails.dpdk.org (mails.dpdk.org [217.70.189.124]) by inbox.dpdk.org (Postfix) with ESMTP id E8D1F46AC3 for ; Mon, 30 Jun 2025 23:40:11 +0200 (CEST) Received: from mails.dpdk.org (localhost [127.0.0.1]) by mails.dpdk.org (Postfix) with ESMTP id C79844025D; Mon, 30 Jun 2025 23:40:11 +0200 (CEST) Received: from mail-vs1-f98.google.com (mail-vs1-f98.google.com [209.85.217.98]) by mails.dpdk.org (Postfix) with ESMTP id E4EA54025D for ; Mon, 30 Jun 2025 23:40:10 +0200 (CEST) Received: by mail-vs1-f98.google.com with SMTP id ada2fe7eead31-4e7ef5d6bffso815956137.3 for ; Mon, 30 Jun 2025 14:40:10 -0700 (PDT) DKIM-Signature: v=1; a=rsa-sha256; c=relaxed/relaxed; d=iol.unh.edu; s=unh-iol; t=1751319610; x=1751924410; darn=dpdk.org; h=references:in-reply-to:cc:to:from:subject:message-id:date:from:to :cc:subject:date:message-id:reply-to; bh=NdD+cbONgjA1rDDKqTKrhqTZrknnAxmJTu0L6LaAQDU=; b=Vn7HYT1iYZTcXDUkrN+D2tiPNw4vQXA59JqbGB3Z7i/N4xuxHabwf6QDBKfA041v7r 8L4dk+uznLd9ODm5YqxTsyBcxjquhICW2D6FfrrjzUV//AamC5GOPd9phPLjpUzGP5RQ Fo7KztF9FJuhaUBXrX5XnB2v21OoePRhJ1aeU= X-Google-DKIM-Signature: v=1; a=rsa-sha256; c=relaxed/relaxed; d=1e100.net; s=20230601; t=1751319610; x=1751924410; h=references:in-reply-to:cc:to:from:subject:message-id:date :x-gm-message-state:from:to:cc:subject:date:message-id:reply-to; bh=NdD+cbONgjA1rDDKqTKrhqTZrknnAxmJTu0L6LaAQDU=; b=JAqwU3CyIsloO/qPhOuqy40mc27yaxukzLMSXna/18+miAkrqG8Lw8enTVDQmcPbbR Sfz8G/OlksV0laEzWqxWk4MlS0mSWOLZpJ/bfyk7+lE+8pVrPBzfsEVsbi0RAAnZytqe oKdtlp+S7TEWBIMWBe2EUrj8D1JJ51Ffj8PWlH/fbim9CTuV8iGs376jkLT6lRaoHzD9 o1pr1jkfbo1TmdFrnbluBBn/xvaDyC3gf8c36V7GZok+WavUuWaLH2CBgnhcQTZ0vERt tGEgsZuW/d3d1UFMTdagkNrqATNBAUP9tf7CgN5z/4qDpd7z2gFGDlm00doBPXfFCvx7 IUPQ== X-Gm-Message-State: AOJu0YwsCA8T8PvIWhl3qWxroieLK0vCKAAYJG+oUvyzr7uDH0GGH38I hQa2gEnf4L/O+ebwJd9eeESr17+PEsMvOAbJbd+3xvZvtjD3PZLmXbcGxXzxQITGuP/ukX+VQsj hMf4UlFhxTDW8QjO66jZJfHichuW/LkyML+hPfV/wd2uvBeEVDvEhUrZCa1o/ X-Gm-Gg: ASbGncst2fWXK5eU72bxWVELWdILDX/CAoO2kwfS8lV2eNrjZp8BjItJn4hNyR6Ug6E ll/MQAaxyCEcJe+comoofsA29eVf72+kZ/YxnQW6BEA+z7+CHB6Y0c82swlTHRhdxoQJjN3U1Ac E5xP54vOUNb6UrnJ0qE3fnOruVYK80EdFTaTIChAB8UFtiatcEDXB9BgWZMPSY59bTI9MTDh84a 9S9EX2di2xvzobt3xIjtuydKgoBd7nPbsHBqaS6JoRoYza4zKokXbidmjnjyEYJvEM8wjRDxlqv XVfwlGld/DK6pG+hg0jJ3VkgV4DOHNDZrMr2zE4L6PVcOM8= X-Google-Smtp-Source: AGHT+IGwGLqqeqEPu9quWuZgT1XVYjH9vz6QAUz1Zqbmr5EEd1MXHl3uYs1y9odfzILE8JxJlca5pVAnv0/m X-Received: by 2002:a05:6102:5106:b0:4e6:d911:dd84 with SMTP id ada2fe7eead31-4ee4f98eaf6mr9524901137.22.1751319610189; Mon, 30 Jun 2025 14:40:10 -0700 (PDT) Received: from postal.iol.unh.edu (postal.iol.unh.edu. [2606:4100:3880:1234::84]) by smtp-relay.gmail.com with ESMTPS id a1e0cc1a2514c-884d1d8aea2sm169832241.17.2025.06.30.14.40.10 (version=TLS1_2 cipher=ECDHE-ECDSA-AES128-GCM-SHA256 bits=128/128); Mon, 30 Jun 2025 14:40:10 -0700 (PDT) X-Relaying-Domain: iol.unh.edu Date: Mon, 30 Jun 2025 14:40:10 -0700 (PDT) Message-ID: <6863043a.050a0220.3368bd.8ff3SMTPIN_ADDED_MISSING@mx.google.com> Received: from [172.21.0.8] (unknown [172.18.0.240]) by postal.iol.unh.edu (Postfix) with ESMTP id CB031604D420; Mon, 30 Jun 2025 17:40:09 -0400 (EDT) Subject: |SUCCESS| pw154862 [PATCH] net/r8169: add missing newline at end of From: dpdklab@iol.unh.edu To: Test Report Cc: dpdk-test-reports@iol.unh.edu In-Reply-To: <20250630160533.126163-2-stephen@networkplumber.org> References: <20250630160533.126163-2-stephen@networkplumber.org> Content-Type: text/plain X-BeenThere: test-report@dpdk.org X-Mailman-Version: 2.1.29 Precedence: list List-Id: automatic DPDK test reports List-Unsubscribe: , List-Archive: List-Post: List-Help: List-Subscribe: , Errors-To: test-report-bounces@dpdk.org Test-Label: iol-abi-testing Test-Status: SUCCESS http://dpdk.org/patch/154862 _Testing PASS_ Submitter: Stephen Hemminger Date: Monday, June 30 2025 16:05:34 DPDK git baseline: Repo:dpdk Branch: master CommitID:83fd93a45061029c8a7850e15114e5932e7d045c 154862 --> testing pass Upstream job id: Generic-DPDK-Compile-ABI#132456 Test environment and result as below: +-------------------------------+----------+ | Environment | abi_test | +===============================+==========+ | CentOS Stream 9 | PASS | +-------------------------------+----------+ | CentOS Stream 10 | PASS | +-------------------------------+----------+ | Fedora Linux 41 | PASS | +-------------------------------+----------+ | Debian GNU/Linux 12 | PASS | +-------------------------------+----------+ | Fedora Linux 40 | PASS | +-------------------------------+----------+ | Red Hat Enterprise Linux 9.5 | PASS | +-------------------------------+----------+ | Red Hat Enterprise Linux 8.10 | PASS | +-------------------------------+----------+ | Ubuntu 22.04 | PASS | +-------------------------------+----------+ | Ubuntu 24.04 | PASS | +-------------------------------+----------+ | openSUSE Leap 15.6 | PASS | +-------------------------------+----------+ CentOS Stream 9 Kernel: 5.15 Compiler: gcc gcc (GCC) 11.5.0 20240719 (Red Hat 11.5.0-7) CentOS Stream 10 Kernel: 5.15 Compiler: gcc gcc (GCC) 14.2.1 20250110 (Red Hat 14.2.1-8) Fedora Linux 41 Kernel: 5.15 Compiler: clang gcc (GCC) 14.3.1 20250523 (Red Hat 14.3.1-1) Debian GNU/Linux 12 Kernel: 5.15 Compiler: gcc gcc (Debian 12.2.0-14+deb12u1) 12.2.0 Fedora Linux 40 Kernel: 5.15 Compiler: clang gcc (GCC) 14.2.1 20240912 (Red Hat 14.2.1-3) Red Hat Enterprise Linux 9.5 Kernel: 5.15 Compiler: gcc gcc (GCC) 11.5.0 20240719 (Red Hat 11.5.0-2) Red Hat Enterprise Linux 8.10 Kernel: 5.15 Compiler: gcc gcc (GCC) 8.5.0 20210514 (Red Hat 8.5.0-22) Ubuntu 22.04 Kernel: 5.15 Compiler: gcc gcc (Ubuntu 11.4.0-1ubuntu1~22.04) 11.4.0 Ubuntu 24.04 Kernel: 5.15 Compiler: gcc gcc (Ubuntu 13.3.0-6ubuntu2~24.04) 13.3.0 openSUSE Leap 15.6 Kernel: 5.15 Compiler: gcc gcc (SUSE Linux) 7.5.0 To view detailed results, visit: https://lab.dpdk.org/results/dashboard/patchsets/33547/ UNH-IOL DPDK Community Lab To manage your email subscriptions, visit: https://lab.dpdk.org/results/dashboard/preferences/subscriptions/