From mboxrd@z Thu Jan 1 00:00:00 1970 Return-Path: Received: from mails.dpdk.org (mails.dpdk.org [217.70.189.124]) by inbox.dpdk.org (Postfix) with ESMTP id D954246AC3 for ; Mon, 30 Jun 2025 23:40:31 +0200 (CEST) Received: from mails.dpdk.org (localhost [127.0.0.1]) by mails.dpdk.org (Postfix) with ESMTP id D599B4025D; Mon, 30 Jun 2025 23:40:31 +0200 (CEST) Received: from mail-pf1-f225.google.com (mail-pf1-f225.google.com [209.85.210.225]) by mails.dpdk.org (Postfix) with ESMTP id 030CF4025D for ; Mon, 30 Jun 2025 23:40:30 +0200 (CEST) Received: by mail-pf1-f225.google.com with SMTP id d2e1a72fcca58-749068b9b63so3637561b3a.0 for ; Mon, 30 Jun 2025 14:40:30 -0700 (PDT) DKIM-Signature: v=1; a=rsa-sha256; c=relaxed/relaxed; d=iol.unh.edu; s=unh-iol; t=1751319630; x=1751924430; darn=dpdk.org; h=references:in-reply-to:cc:to:from:subject:message-id:date:from:to :cc:subject:date:message-id:reply-to; bh=O3RuVH66aF8w412b/D+i1/ybnO6o31QVJLkAeeNff/Y=; b=Aic+rZLiGbNrYJsR8fRc7mJbdYZaNLls73NWzmXSUW0fKi4iHp50NEZBfjxqKt26+V uDG+bYugyob4ocX6ghRwOw18N4TJqS2nyfGQhIirLmRngvmam3Jpf4qQdkNudOUItR2v uue00sepxXcQT5wFrrKcW74ZSALWlEMNu4XLk= X-Google-DKIM-Signature: v=1; a=rsa-sha256; c=relaxed/relaxed; d=1e100.net; s=20230601; t=1751319630; x=1751924430; h=references:in-reply-to:cc:to:from:subject:message-id:date :x-gm-message-state:from:to:cc:subject:date:message-id:reply-to; bh=O3RuVH66aF8w412b/D+i1/ybnO6o31QVJLkAeeNff/Y=; b=Q4zrRXyRWqhj1/2weF1VHs7V9kpilJb5mWnTvt9dmAQ4qR/ZAubJg2nrzMHbF6k0vL Efj6oRlKqpQy9O0L9ASV1AlcjpyKZEk52o2swp3NU0k9tlAgruAhbZJyz6SXgZEEjDLR pUyuTksL8MLv11fgkpwEjHliacPKxSWxoJ57Yyp6k4WYco4v3+6CoHtDW8890L1J81mS lmho9C71ByR6/uYno2PgdouVLUZz4xfU8EZHZ6DA3W1gaWYv5RaB31WTo9ATfW9OyI1L KVndJK/U215mnxEtKhI4dJFHMN5GZAtIBBw8gKDIlyLy2CLzYlHgBFqDCchhTwHQfVVy jsSA== X-Gm-Message-State: AOJu0YwUyZeU8VW9CuVW4uOtsWNnE8x80Hgv2iwgmdaomEi7rsTFZk42 WeF0EHzAwMD3BUdtYYw4LwevPeSo8B9JlKlx+CM0QU1uj8THCwa5HmzK7mtwdFYMbnBjgr9CRrH BcocUMEU7n/NaI/PclwMC34PWEVSYu5y9nRvg5olssaOrNtMD1sluo2R5KTl8 X-Gm-Gg: ASbGncvXkk6oPZhOZx2T7FkZ7nJAPY35+qm/6dUkvGPmLazGgcAHY1C6WHgt4UZLkuT 19YuLxAR4MyT4sYMvgVii/CeU5F2VgVJ+T0xwIMy6sVMbOAZm/AzzlvOx9CfAHtLqcKSrLiaMFv qXunGdbUujbZk75ZD03vRppm0OlvPsZWgsA5mE9PD8EqTBt+lAx1hxTaYeLOu11QcApHCgqvNAP 27HvzQecAQ3OikdDCUKae0IWi2j1+zINNdNup5kfxDFupogDJInnk6nz7PJUq7AQASfm4QukOL/ 6SgZnQxV6rcvalgD+yj7irYZoaAY23vefpuVEAf0g7Rw8ms= X-Google-Smtp-Source: AGHT+IFOBC8UHOArVQuks8duhO9IejqFUQSTlaEOnmIt2g/NBvpGv6Vsk7OieyOTEX4EXsfXUN+99mczQaQt X-Received: by 2002:a05:6a00:1389:b0:748:f41d:69d2 with SMTP id d2e1a72fcca58-74af6e50cbbmr20593795b3a.4.1751319630032; Mon, 30 Jun 2025 14:40:30 -0700 (PDT) Received: from postal.iol.unh.edu (postal.iol.unh.edu. [2606:4100:3880:1234::84]) by smtp-relay.gmail.com with ESMTPS id d2e1a72fcca58-74af540cc8csm458622b3a.1.2025.06.30.14.40.29 (version=TLS1_2 cipher=ECDHE-ECDSA-AES128-GCM-SHA256 bits=128/128); Mon, 30 Jun 2025 14:40:30 -0700 (PDT) X-Relaying-Domain: iol.unh.edu Date: Mon, 30 Jun 2025 14:40:30 -0700 (PDT) Message-ID: <6863044e.050a0220.1d2b61.9ad2SMTPIN_ADDED_MISSING@mx.google.com> Received: from [172.21.0.10] (unknown [172.18.0.240]) by postal.iol.unh.edu (Postfix) with ESMTP id 3009F604D420; Mon, 30 Jun 2025 17:40:29 -0400 (EDT) Subject: |SUCCESS| pw154862 [PATCH] net/r8169: add missing newline at end of From: dpdklab@iol.unh.edu To: Test Report Cc: dpdk-test-reports@iol.unh.edu In-Reply-To: <20250630160533.126163-2-stephen@networkplumber.org> References: <20250630160533.126163-2-stephen@networkplumber.org> Content-Type: text/plain X-BeenThere: test-report@dpdk.org X-Mailman-Version: 2.1.29 Precedence: list List-Id: automatic DPDK test reports List-Unsubscribe: , List-Archive: List-Post: List-Help: List-Subscribe: , Errors-To: test-report-bounces@dpdk.org Test-Label: iol-abi-testing Test-Status: SUCCESS http://dpdk.org/patch/154862 _Testing PASS_ Submitter: Stephen Hemminger Date: Monday, June 30 2025 16:05:34 DPDK git baseline: Repo:dpdk Branch: master CommitID:83fd93a45061029c8a7850e15114e5932e7d045c 154862 --> testing pass Upstream job id: Generic-DPDK-Compile-ABI#132457 Test environment and result as below: +-------------------------------+----------+ | Environment | abi_test | +===============================+==========+ | CentOS Stream 9 | PASS | +-------------------------------+----------+ | CentOS Stream 10 | PASS | +-------------------------------+----------+ | Fedora Linux 41 | PASS | +-------------------------------+----------+ | Debian GNU/Linux 12 | PASS | +-------------------------------+----------+ | Fedora Linux 40 | PASS | +-------------------------------+----------+ | Red Hat Enterprise Linux 9.5 | PASS | +-------------------------------+----------+ | Red Hat Enterprise Linux 8.10 | PASS | +-------------------------------+----------+ | Ubuntu 22.04 | PASS | +-------------------------------+----------+ | Ubuntu 24.04 | PASS | +-------------------------------+----------+ | openSUSE Leap 15.6 | PASS | +-------------------------------+----------+ CentOS Stream 9 Kernel: 5.15 Compiler: gcc gcc (GCC) 11.5.0 20240719 (Red Hat 11.5.0-7) CentOS Stream 10 Kernel: 5.15 Compiler: gcc gcc (GCC) 14.2.1 20250110 (Red Hat 14.2.1-8) Fedora Linux 41 Kernel: 5.15 Compiler: clang gcc (GCC) 14.3.1 20250523 (Red Hat 14.3.1-1) Debian GNU/Linux 12 Kernel: 5.15 Compiler: gcc gcc (Debian 12.2.0-14+deb12u1) 12.2.0 Fedora Linux 40 Kernel: 5.15 Compiler: clang gcc (GCC) 14.2.1 20240912 (Red Hat 14.2.1-3) Red Hat Enterprise Linux 9.5 Kernel: 5.15 Compiler: gcc gcc (GCC) 11.5.0 20240719 (Red Hat 11.5.0-2) Red Hat Enterprise Linux 8.10 Kernel: 5.15 Compiler: gcc gcc (GCC) 8.5.0 20210514 (Red Hat 8.5.0-22) Ubuntu 22.04 Kernel: 5.15 Compiler: gcc gcc (Ubuntu 11.4.0-1ubuntu1~22.04) 11.4.0 Ubuntu 24.04 Kernel: 5.15 Compiler: gcc gcc (Ubuntu 13.3.0-6ubuntu2~24.04) 13.3.0 openSUSE Leap 15.6 Kernel: 5.15 Compiler: gcc gcc (SUSE Linux) 7.5.0 To view detailed results, visit: https://lab.dpdk.org/results/dashboard/patchsets/33547/ UNH-IOL DPDK Community Lab To manage your email subscriptions, visit: https://lab.dpdk.org/results/dashboard/preferences/subscriptions/