From mboxrd@z Thu Jan 1 00:00:00 1970 Return-Path: Received: from mails.dpdk.org (mails.dpdk.org [217.70.189.124]) by inbox.dpdk.org (Postfix) with ESMTP id 0176346AC3 for ; Mon, 30 Jun 2025 23:41:30 +0200 (CEST) Received: from mails.dpdk.org (localhost [127.0.0.1]) by mails.dpdk.org (Postfix) with ESMTP id F11D34025D; Mon, 30 Jun 2025 23:41:29 +0200 (CEST) Received: from mail-qk1-f225.google.com (mail-qk1-f225.google.com [209.85.222.225]) by mails.dpdk.org (Postfix) with ESMTP id 6C93B4025D for ; Mon, 30 Jun 2025 23:41:29 +0200 (CEST) Received: by mail-qk1-f225.google.com with SMTP id af79cd13be357-7d3cc0017fdso279669285a.3 for ; Mon, 30 Jun 2025 14:41:29 -0700 (PDT) DKIM-Signature: v=1; a=rsa-sha256; c=relaxed/relaxed; d=iol.unh.edu; s=unh-iol; t=1751319689; x=1751924489; darn=dpdk.org; h=references:in-reply-to:cc:to:from:subject:message-id:date:from:to :cc:subject:date:message-id:reply-to; bh=2zZGlObxSkyzmRmjY2hr29ysx47OUy4Ru4vW2jR4itA=; b=fbMv02lTceW6f4SXZCqNO5/xCPmlonPjb4y/5fk4De1HzNXsDzYs148kwwUw/X3I1+ csnFwBFNOj7o2Gr2QB5yQfpOJM2ZD/kyycf2C4mmQsaa5NLCaEDx4Dr139dx6cbDfOtO JJEs4WNGuYzJDRHTHxTYIxqcTmgaDw04rn+gE= X-Google-DKIM-Signature: v=1; a=rsa-sha256; c=relaxed/relaxed; d=1e100.net; s=20230601; t=1751319689; x=1751924489; h=references:in-reply-to:cc:to:from:subject:message-id:date :x-gm-message-state:from:to:cc:subject:date:message-id:reply-to; bh=2zZGlObxSkyzmRmjY2hr29ysx47OUy4Ru4vW2jR4itA=; b=ifYwx6WfN9G7EZccuI/q09kwNMGN6YAqJMFWPf7tz/+Z00C07/NSBterZio5xS8Ba9 GYZhW9qsJaFL00caLxFa7FzoA/aoT8xzLCMRp0RcA352jdP8oFjCxUtmfg67SG+pi4NR hOhiR8CUOdbrXs1R25pXV6Xn8kg/MMoQQWloCUpWyg3mkVqEh2/q1d6U1nC0FnFiyeXb OTqbU8z4RCQFp4BLle88BJC2cpQ3eJOR68BDPeb7z6QqOjxSximxZrvRyH5lul3W+qwb gB1geEcRQor7PwfSoPvO3VV8YBwkhONMQAyd4yQISAkC7ioIgLEi1pw1tnDC8CvaPmXD Eshg== X-Gm-Message-State: AOJu0YxLBzieUJiPndj1++RaSYLI3JDgKWaJ6ZQJt15y/IcxloxYb1AZ zxdSCeW7teNNZNsM3On/5ECo6N7otdcNXwT9Wk6Nab8e/XVTleYEaJT71nHLtEzPMU2tKnKXHWE vBYzaOOKKhg7cHBdttJ04ca6+dNbTbiAfDA2wkTSIb+GZbONn/2YMlbNCb9NP X-Gm-Gg: ASbGncvQQ5ktndy/Jmtj2qoUnmgSo1jruJDvkZBTZ6PdAqL41E9OZK2IRy/HUfF3MXC MKtmuCKlsJm2wdRckK7TEiD9kkx4DnJFK3O/PZz6nIr/cXpgwwcqPKqaFzdElFOzDCClXnE57/x q34Paw2B5rZEgifmOGBaLJ9+71kPOP3yy2Ero8OIqTebvn6t2dKbd3r0olxgtGsk0XZoJxCvJyh 5K6pvFf/S8DrSy0QvMSrTTWSkHOqUzAvLkkjtVxtCl0GtTqS0C4elAvP4Gh/okoMBkMl0jPyUNC qMFyZxQS8Pg2fvoVZ9STYgjpa4gLorJBAsO1VCTMvWiAXOM= X-Google-Smtp-Source: AGHT+IH7cF1/JxuRWEcGMZW5aTNFYhACNYMF9ASnfSjG63NO6wTcbdAqhpKJ03ih4GGrH21rybG85OPiXr5J X-Received: by 2002:ad4:5c8a:0:b0:6e4:4274:aaf8 with SMTP id 6a1803df08f44-70001e5bf93mr235235356d6.17.1751319688631; Mon, 30 Jun 2025 14:41:28 -0700 (PDT) Received: from postal.iol.unh.edu (postal.iol.unh.edu. [2606:4100:3880:1234::84]) by smtp-relay.gmail.com with ESMTPS id 6a1803df08f44-6fd7729325esm5582456d6.57.2025.06.30.14.41.28 (version=TLS1_2 cipher=ECDHE-ECDSA-AES128-GCM-SHA256 bits=128/128); Mon, 30 Jun 2025 14:41:28 -0700 (PDT) X-Relaying-Domain: iol.unh.edu Date: Mon, 30 Jun 2025 14:41:28 -0700 (PDT) Message-ID: <68630488.050a0220.20c382.dea7SMTPIN_ADDED_MISSING@mx.google.com> Received: from [172.21.0.5] (unknown [172.18.0.240]) by postal.iol.unh.edu (Postfix) with ESMTP id 4E76D604D420; Mon, 30 Jun 2025 17:41:28 -0400 (EDT) Subject: |SUCCESS| pw154862 [PATCH] net/r8169: add missing newline at end of From: dpdklab@iol.unh.edu To: Test Report Cc: dpdk-test-reports@iol.unh.edu In-Reply-To: <20250630160533.126163-2-stephen@networkplumber.org> References: <20250630160533.126163-2-stephen@networkplumber.org> Content-Type: text/plain X-BeenThere: test-report@dpdk.org X-Mailman-Version: 2.1.29 Precedence: list List-Id: automatic DPDK test reports List-Unsubscribe: , List-Archive: List-Post: List-Help: List-Subscribe: , Errors-To: test-report-bounces@dpdk.org Test-Label: iol-abi-testing Test-Status: SUCCESS http://dpdk.org/patch/154862 _Testing PASS_ Submitter: Stephen Hemminger Date: Monday, June 30 2025 16:05:34 DPDK git baseline: Repo:dpdk Branch: master CommitID:83fd93a45061029c8a7850e15114e5932e7d045c 154862 --> testing pass Upstream job id: Generic-DPDK-Compile-ABI#132458 Test environment and result as below: +-------------------------------+----------+ | Environment | abi_test | +===============================+==========+ | CentOS Stream 9 | PASS | +-------------------------------+----------+ | CentOS Stream 10 | PASS | +-------------------------------+----------+ | Fedora Linux 41 | PASS | +-------------------------------+----------+ | Debian GNU/Linux 12 | PASS | +-------------------------------+----------+ | Fedora Linux 40 | PASS | +-------------------------------+----------+ | Red Hat Enterprise Linux 9.5 | PASS | +-------------------------------+----------+ | Red Hat Enterprise Linux 8.10 | PASS | +-------------------------------+----------+ | Ubuntu 22.04 | PASS | +-------------------------------+----------+ | Ubuntu 24.04 | PASS | +-------------------------------+----------+ | openSUSE Leap 15.6 | PASS | +-------------------------------+----------+ CentOS Stream 9 Kernel: 5.15 Compiler: gcc gcc (GCC) 11.5.0 20240719 (Red Hat 11.5.0-7) CentOS Stream 10 Kernel: 5.15 Compiler: gcc gcc (GCC) 14.2.1 20250110 (Red Hat 14.2.1-8) Fedora Linux 41 Kernel: 5.15 Compiler: clang gcc (GCC) 14.3.1 20250523 (Red Hat 14.3.1-1) Debian GNU/Linux 12 Kernel: 5.15 Compiler: gcc gcc (Debian 12.2.0-14+deb12u1) 12.2.0 Fedora Linux 40 Kernel: 5.15 Compiler: clang gcc (GCC) 14.2.1 20240912 (Red Hat 14.2.1-3) Red Hat Enterprise Linux 9.5 Kernel: 5.15 Compiler: gcc gcc (GCC) 11.5.0 20240719 (Red Hat 11.5.0-2) Red Hat Enterprise Linux 8.10 Kernel: 5.15 Compiler: gcc gcc (GCC) 8.5.0 20210514 (Red Hat 8.5.0-22) Ubuntu 22.04 Kernel: 5.15 Compiler: gcc gcc (Ubuntu 11.4.0-1ubuntu1~22.04) 11.4.0 Ubuntu 24.04 Kernel: 5.15 Compiler: gcc gcc (Ubuntu 13.3.0-6ubuntu2~24.04) 13.3.0 openSUSE Leap 15.6 Kernel: 5.15 Compiler: gcc gcc (SUSE Linux) 7.5.0 To view detailed results, visit: https://lab.dpdk.org/results/dashboard/patchsets/33547/ UNH-IOL DPDK Community Lab To manage your email subscriptions, visit: https://lab.dpdk.org/results/dashboard/preferences/subscriptions/