From mboxrd@z Thu Jan 1 00:00:00 1970 Return-Path: Received: from mails.dpdk.org (mails.dpdk.org [217.70.189.124]) by inbox.dpdk.org (Postfix) with ESMTP id 1452846AC3 for ; Mon, 30 Jun 2025 23:41:48 +0200 (CEST) Received: from mails.dpdk.org (localhost [127.0.0.1]) by mails.dpdk.org (Postfix) with ESMTP id 1050C4025D; Mon, 30 Jun 2025 23:41:48 +0200 (CEST) Received: from mail-pf1-f227.google.com (mail-pf1-f227.google.com [209.85.210.227]) by mails.dpdk.org (Postfix) with ESMTP id 627454025D for ; Mon, 30 Jun 2025 23:41:47 +0200 (CEST) Received: by mail-pf1-f227.google.com with SMTP id d2e1a72fcca58-739b3fe7ce8so5593571b3a.0 for ; Mon, 30 Jun 2025 14:41:47 -0700 (PDT) DKIM-Signature: v=1; a=rsa-sha256; c=relaxed/relaxed; d=iol.unh.edu; s=unh-iol; t=1751319706; x=1751924506; darn=dpdk.org; h=references:in-reply-to:cc:to:from:subject:message-id:date:from:to :cc:subject:date:message-id:reply-to; bh=zHVq8kdEPxYvBWQbtIdANKIxkUfaiF9r24a8m+DZJ54=; b=Q2mfxF26THQCW9OQkkMZguyiT5dgjRwXPchtqTkMAWoY6leG3n1L0onq0k/HMF5rjq APNObnOfP+HAZHhMV/iCajTn1DlpiXqA8kcTnb/uN+t1lv9cyQorlVr9ZkgQMpX1bdky 7SQZ6+LAltkKuRx7VvQGHZFDNKpZSb1PHTzAc= X-Google-DKIM-Signature: v=1; a=rsa-sha256; c=relaxed/relaxed; d=1e100.net; s=20230601; t=1751319706; x=1751924506; h=references:in-reply-to:cc:to:from:subject:message-id:date :x-gm-message-state:from:to:cc:subject:date:message-id:reply-to; bh=zHVq8kdEPxYvBWQbtIdANKIxkUfaiF9r24a8m+DZJ54=; b=Ub2S2rPyc75XyYYt1iDhQTdSevsEVICzCwCrCfMLDTzqupdC3leaXzQHMNF4vPdPXk MoiA/w1AHSmI7gJ+MMJYN/q0CKhFahWGS0kNmtIO8PRQqiyhp7rkQGFiwUnznrrEHQeM 6jjuZYV4y3+h5GVBsV5DeZ8VNxRsHahFJwwulsbXlopqpfyCkBOoGlh4QQVyOwv6gcZS X40ChouO9torFlL2SW86a5ObWrfi7HPdjbO62M1WicLG62a4hVZ6Fxw3Tg9LwAZvQy6x xeRe6+vaCjkucTeP+vmVDTQAhx5GQmQdAMzktAdByi/G5manZimE6y+3tydLlkEZIFh2 tvww== X-Gm-Message-State: AOJu0Ywrc0E+jKVZw4jiIlo3PoL934r/ccYBm+uJfFkIJffbFZ//y+k0 Pb3l7l+0UFQYWS6n19fiogN69ghaYp8QDwl7ItKLULclWSV8iRv2kePDzRo6ImpFYpMYReGw3LN zg5rSjfKw5uck9p7pGOSvD3tJyIlbaekYWujqncDeczb+ X-Gm-Gg: ASbGncsMdVk+gz0ojIwlX04ol4dqtLWUHIUJoPM96q/wB0Mfm0ShBpnSF+do4tD7gxI /o/FLOhae8wA2d7tnneJC6rgmXy12SHmW/N3osNEGx+raDVeVHtxYtL6SjIbyHBe19jQblQvEts 0aclzaP4Jf/uRZPC4YIHnbcjRN1fnfjmS7GLXkhPNHLfnLlXW1bQNfnMlqVBpzj2g5igkKn1qWh UnJAWxZS6bL/EFMCbPNMEVfUqA12w7jDPmaBlouYst8WA+ozuZ4MxT1yCXKqSKUp2xKIZGMflHk 7lz8YCLKcWbxMaSiK/0FxONoS0kO/gP3+JZr6TRmgguHpgaEtIGkjwknpLhDtsNZPi2M1g== X-Google-Smtp-Source: AGHT+IFv3WQAI1KjnILLx6HGNPdT4+KjkOT0GPnQBqGs8DdOlX2s+SPasctkxgNZOhqItUpjxMLCXBxLB7ry X-Received: by 2002:a05:6a21:168b:b0:21e:f56d:e4b6 with SMTP id adf61e73a8af0-220a12e830fmr20308087637.18.1751319706496; Mon, 30 Jun 2025 14:41:46 -0700 (PDT) Received: from postal.iol.unh.edu (postal.iol.unh.edu. [132.177.123.84]) by smtp-relay.gmail.com with ESMTPS id 41be03b00d2f7-b34e31f61aasm170067a12.17.2025.06.30.14.41.46 (version=TLS1_2 cipher=ECDHE-ECDSA-AES128-GCM-SHA256 bits=128/128); Mon, 30 Jun 2025 14:41:46 -0700 (PDT) X-Relaying-Domain: iol.unh.edu Date: Mon, 30 Jun 2025 14:41:46 -0700 (PDT) Message-ID: <6863049a.050a0220.a15c3.9271SMTPIN_ADDED_MISSING@mx.google.com> Received: from [172.21.0.9] (unknown [172.18.0.240]) by postal.iol.unh.edu (Postfix) with ESMTP id 01574604D420; Mon, 30 Jun 2025 17:41:46 -0400 (EDT) Subject: |SUCCESS| pw154862 [PATCH] net/r8169: add missing newline at end of From: dpdklab@iol.unh.edu To: Test Report Cc: dpdk-test-reports@iol.unh.edu In-Reply-To: <20250630160533.126163-2-stephen@networkplumber.org> References: <20250630160533.126163-2-stephen@networkplumber.org> Content-Type: text/plain X-BeenThere: test-report@dpdk.org X-Mailman-Version: 2.1.29 Precedence: list List-Id: automatic DPDK test reports List-Unsubscribe: , List-Archive: List-Post: List-Help: List-Subscribe: , Errors-To: test-report-bounces@dpdk.org Test-Label: iol-abi-testing Test-Status: SUCCESS http://dpdk.org/patch/154862 _Testing PASS_ Submitter: Stephen Hemminger Date: Monday, June 30 2025 16:05:34 DPDK git baseline: Repo:dpdk Branch: master CommitID:83fd93a45061029c8a7850e15114e5932e7d045c 154862 --> testing pass Upstream job id: Generic-DPDK-Compile-ABI#132451 Test environment and result as below: +-------------------------------+----------+ | Environment | abi_test | +===============================+==========+ | CentOS Stream 9 | PASS | +-------------------------------+----------+ | CentOS Stream 10 | PASS | +-------------------------------+----------+ | Fedora Linux 41 | PASS | +-------------------------------+----------+ | Debian GNU/Linux 12 | PASS | +-------------------------------+----------+ | Fedora Linux 40 | PASS | +-------------------------------+----------+ | Red Hat Enterprise Linux 9.5 | PASS | +-------------------------------+----------+ | Red Hat Enterprise Linux 8.10 | PASS | +-------------------------------+----------+ | Ubuntu 22.04 | PASS | +-------------------------------+----------+ | Ubuntu 24.04 | PASS | +-------------------------------+----------+ | openSUSE Leap 15.6 | PASS | +-------------------------------+----------+ CentOS Stream 9 Kernel: 5.15 Compiler: gcc gcc (GCC) 11.5.0 20240719 (Red Hat 11.5.0-7) CentOS Stream 10 Kernel: 5.15 Compiler: gcc gcc (GCC) 14.2.1 20250110 (Red Hat 14.2.1-8) Fedora Linux 41 Kernel: 5.15 Compiler: clang gcc (GCC) 14.3.1 20250523 (Red Hat 14.3.1-1) Debian GNU/Linux 12 Kernel: 5.15 Compiler: gcc gcc (Debian 12.2.0-14+deb12u1) 12.2.0 Fedora Linux 40 Kernel: 5.15 Compiler: clang gcc (GCC) 14.2.1 20240912 (Red Hat 14.2.1-3) Red Hat Enterprise Linux 9.5 Kernel: 5.15 Compiler: gcc gcc (GCC) 11.5.0 20240719 (Red Hat 11.5.0-2) Red Hat Enterprise Linux 8.10 Kernel: 5.15 Compiler: gcc gcc (GCC) 8.5.0 20210514 (Red Hat 8.5.0-22) Ubuntu 22.04 Kernel: 5.15 Compiler: gcc gcc (Ubuntu 11.4.0-1ubuntu1~22.04) 11.4.0 Ubuntu 24.04 Kernel: 5.15 Compiler: gcc gcc (Ubuntu 13.3.0-6ubuntu2~24.04) 13.3.0 openSUSE Leap 15.6 Kernel: 5.15 Compiler: gcc gcc (SUSE Linux) 7.5.0 To view detailed results, visit: https://lab.dpdk.org/results/dashboard/patchsets/33547/ UNH-IOL DPDK Community Lab To manage your email subscriptions, visit: https://lab.dpdk.org/results/dashboard/preferences/subscriptions/