From mboxrd@z Thu Jan 1 00:00:00 1970 Return-Path: Received: from mails.dpdk.org (mails.dpdk.org [217.70.189.124]) by inbox.dpdk.org (Postfix) with ESMTP id 2AA4046AC3 for ; Mon, 30 Jun 2025 23:42:30 +0200 (CEST) Received: from mails.dpdk.org (localhost [127.0.0.1]) by mails.dpdk.org (Postfix) with ESMTP id 26F764025D; Mon, 30 Jun 2025 23:42:30 +0200 (CEST) Received: from mail-io1-f98.google.com (mail-io1-f98.google.com [209.85.166.98]) by mails.dpdk.org (Postfix) with ESMTP id C36414025D for ; Mon, 30 Jun 2025 23:42:28 +0200 (CEST) Received: by mail-io1-f98.google.com with SMTP id ca18e2360f4ac-86d013c5e79so220929739f.0 for ; Mon, 30 Jun 2025 14:42:28 -0700 (PDT) DKIM-Signature: v=1; a=rsa-sha256; c=relaxed/relaxed; d=iol.unh.edu; s=unh-iol; t=1751319748; x=1751924548; darn=dpdk.org; h=references:in-reply-to:cc:to:from:subject:message-id:date:from:to :cc:subject:date:message-id:reply-to; bh=0DQ6qn+WKYMpiYIYdkESLt0obxZWzwmYMypI5GCirsQ=; b=BJ4PYmiw1Bfb0kazifWsA8DAGLSTUVNu4CVT0DA1Gxt0q8owz3PNYR3IYRbu4jdrpT HhwnDgVf6JFagGXoIEf55tTw63xxAw2bQzfYZA/mNiwJQqw4eGg+hmDVVoRtC3zFLoZB xrnwPR1g8B1oW+GmL0be/purnAi9SAKurlKtM= X-Google-DKIM-Signature: v=1; a=rsa-sha256; c=relaxed/relaxed; d=1e100.net; s=20230601; t=1751319748; x=1751924548; h=references:in-reply-to:cc:to:from:subject:message-id:date :x-gm-message-state:from:to:cc:subject:date:message-id:reply-to; bh=0DQ6qn+WKYMpiYIYdkESLt0obxZWzwmYMypI5GCirsQ=; b=aPx+zRiEQbKo/T+fC/72cyTf32oN7F9Ts5IpXFMS6+KAzZfRdE0n8GIPqbl+RO+Y/N fuSRvjJl97S9nJpxOEhoaXeVeNtc4RTeQT1ImmCgOPdMpRgHOMXH2xH564TRdR0drlF/ XHuDseLBfJ6e3lpkjVt0581GL84Uf85kswAGbz8zcD80eWNWZDM2VVPwZ+VGZKLOKi6R jWli1tSrq15PLv23b2mNh7WYWbyd+2koyz0ShdMKfJf+dQv2RkpCM8k+3RMHJeSDksuE L55hBLOrrTWcQ0tCQ+Nw9Jg1K1OLQIhbimhZNLi4N9RSrEZCQ75mZeu7B2lbynbUWe1V NOkg== X-Gm-Message-State: AOJu0Yy8fDNDWDfmGx6LxYTp9yRzBfLzFb8gH2pCF3sTm6WHaFEOaFxo EZNVtcZUPtekpBIU4uxjjxxHdWxext5qrYwpyfsIdn/rx2AN50AvoZaBeyLOOx2ix26Z7ORtQwS 4BlCmlnwXJiDlGqErCnVqmbycxJ0H0d+VG4oIWmlIFKYibshFmsRRJXGpnsXY X-Gm-Gg: ASbGnctiZX+lvnUyL3ZMuSuPgkGwJVo9Ub/vlUwPJdfQo/1Z8SV6GbKnDHj/fIv1R9r ycESYIniQDlGJaCQqWFfn9xHh8Z5ULnqoE0AFDlgSoo0luPph16W4moSTTh9jgE1UYX9dThle/g siVPEJ2Oegpz/vT0/gxitPWPjeKK/W9Nqfmxj7SO+yAtExcCJ/wAozzD+wNV6rRcl2MAteG7i6u gRkgxZfGW5FJMNwmmjrhm0/bYGFV49aSvbTev7jjdDAZaQv7U6NVkh7gQ9syblOkyUzE3hm83rH k393zkSsVJDEuLb07o9+wrMj0q+CcVGfsxUutDWL66bFYtE= X-Google-Smtp-Source: AGHT+IHxVksuZ8DegVdriCnXCsbtTQUjrK2UYHpcaRsvDkWZKW9auTtzyWoxq+cdkL8goDOMqtwoUpnAhK7S X-Received: by 2002:a05:6602:1613:b0:875:d450:9297 with SMTP id ca18e2360f4ac-876882b879amr1879294039f.5.1751319748081; Mon, 30 Jun 2025 14:42:28 -0700 (PDT) Received: from postal.iol.unh.edu (postal.iol.unh.edu. [2606:4100:3880:1234::84]) by smtp-relay.gmail.com with ESMTPS id 8926c6da1cb9f-50204a80765sm345455173.52.2025.06.30.14.42.28 (version=TLS1_2 cipher=ECDHE-ECDSA-AES128-GCM-SHA256 bits=128/128); Mon, 30 Jun 2025 14:42:28 -0700 (PDT) X-Relaying-Domain: iol.unh.edu Date: Mon, 30 Jun 2025 14:42:28 -0700 (PDT) Message-ID: <686304c4.050a0220.38615f.3a57SMTPIN_ADDED_MISSING@mx.google.com> Received: from [172.21.0.7] (unknown [172.18.0.240]) by postal.iol.unh.edu (Postfix) with ESMTP id 9EF8E604D420; Mon, 30 Jun 2025 17:42:27 -0400 (EDT) Subject: |SUCCESS| pw154862 [PATCH] net/r8169: add missing newline at end of From: dpdklab@iol.unh.edu To: Test Report Cc: dpdk-test-reports@iol.unh.edu In-Reply-To: <20250630160533.126163-2-stephen@networkplumber.org> References: <20250630160533.126163-2-stephen@networkplumber.org> Content-Type: text/plain X-BeenThere: test-report@dpdk.org X-Mailman-Version: 2.1.29 Precedence: list List-Id: automatic DPDK test reports List-Unsubscribe: , List-Archive: List-Post: List-Help: List-Subscribe: , Errors-To: test-report-bounces@dpdk.org Test-Label: iol-abi-testing Test-Status: SUCCESS http://dpdk.org/patch/154862 _Testing PASS_ Submitter: Stephen Hemminger Date: Monday, June 30 2025 16:05:34 DPDK git baseline: Repo:dpdk Branch: master CommitID:83fd93a45061029c8a7850e15114e5932e7d045c 154862 --> testing pass Upstream job id: Generic-DPDK-Compile-ABI#132453 Test environment and result as below: +-------------------------------+----------+ | Environment | abi_test | +===============================+==========+ | CentOS Stream 9 | PASS | +-------------------------------+----------+ | CentOS Stream 10 | PASS | +-------------------------------+----------+ | Fedora Linux 41 | PASS | +-------------------------------+----------+ | Debian GNU/Linux 12 | PASS | +-------------------------------+----------+ | Fedora Linux 40 | PASS | +-------------------------------+----------+ | Red Hat Enterprise Linux 9.5 | PASS | +-------------------------------+----------+ | Red Hat Enterprise Linux 8.10 | PASS | +-------------------------------+----------+ | Ubuntu 22.04 | PASS | +-------------------------------+----------+ | Ubuntu 24.04 | PASS | +-------------------------------+----------+ | openSUSE Leap 15.6 | PASS | +-------------------------------+----------+ CentOS Stream 9 Kernel: 5.15 Compiler: gcc gcc (GCC) 11.5.0 20240719 (Red Hat 11.5.0-7) CentOS Stream 10 Kernel: 5.15 Compiler: gcc gcc (GCC) 14.2.1 20250110 (Red Hat 14.2.1-8) Fedora Linux 41 Kernel: 5.15 Compiler: clang gcc (GCC) 14.3.1 20250523 (Red Hat 14.3.1-1) Debian GNU/Linux 12 Kernel: 5.15 Compiler: gcc gcc (Debian 12.2.0-14+deb12u1) 12.2.0 Fedora Linux 40 Kernel: 5.15 Compiler: clang gcc (GCC) 14.2.1 20240912 (Red Hat 14.2.1-3) Red Hat Enterprise Linux 9.5 Kernel: 5.15 Compiler: gcc gcc (GCC) 11.5.0 20240719 (Red Hat 11.5.0-2) Red Hat Enterprise Linux 8.10 Kernel: 5.15 Compiler: gcc gcc (GCC) 8.5.0 20210514 (Red Hat 8.5.0-22) Ubuntu 22.04 Kernel: 5.15 Compiler: gcc gcc (Ubuntu 11.4.0-1ubuntu1~22.04) 11.4.0 Ubuntu 24.04 Kernel: 5.15 Compiler: gcc gcc (Ubuntu 13.3.0-6ubuntu2~24.04) 13.3.0 openSUSE Leap 15.6 Kernel: 5.15 Compiler: gcc gcc (SUSE Linux) 7.5.0 To view detailed results, visit: https://lab.dpdk.org/results/dashboard/patchsets/33547/ UNH-IOL DPDK Community Lab To manage your email subscriptions, visit: https://lab.dpdk.org/results/dashboard/preferences/subscriptions/