From mboxrd@z Thu Jan 1 00:00:00 1970 Return-Path: Received: from mails.dpdk.org (mails.dpdk.org [217.70.189.124]) by inbox.dpdk.org (Postfix) with ESMTP id A439846AC3 for ; Mon, 30 Jun 2025 23:46:51 +0200 (CEST) Received: from mails.dpdk.org (localhost [127.0.0.1]) by mails.dpdk.org (Postfix) with ESMTP id 816B04025D; Mon, 30 Jun 2025 23:46:51 +0200 (CEST) Received: from mail-oo1-f99.google.com (mail-oo1-f99.google.com [209.85.161.99]) by mails.dpdk.org (Postfix) with ESMTP id BFA2D4025D for ; Mon, 30 Jun 2025 23:46:50 +0200 (CEST) Received: by mail-oo1-f99.google.com with SMTP id 006d021491bc7-60ef07eb7f4so1224097eaf.3 for ; Mon, 30 Jun 2025 14:46:50 -0700 (PDT) DKIM-Signature: v=1; a=rsa-sha256; c=relaxed/relaxed; d=iol.unh.edu; s=unh-iol; t=1751320010; x=1751924810; darn=dpdk.org; h=references:in-reply-to:cc:to:from:subject:message-id:date:from:to :cc:subject:date:message-id:reply-to; bh=BkcxKGpIRiIYvhvkMsjM3aFP+7G5iSCQjmZTINuV3J4=; b=J8ulvBm7ML3tqt+6mJu0GuCL9Pke/xFj+DfTsKrNU1bvq0plh9P9Iww4Xzbwv9uYKK 2LW8eaGCVU4E6uRnix67nOq7kMPZHhzvXwSmty1danGTKPfOI5dDPfgI30WwU7ENW1qu +T3OFuZ3gbcZWa4ljAvHhh/UbJWs+jCSGwx/4= X-Google-DKIM-Signature: v=1; a=rsa-sha256; c=relaxed/relaxed; d=1e100.net; s=20230601; t=1751320010; x=1751924810; h=references:in-reply-to:cc:to:from:subject:message-id:date :x-gm-message-state:from:to:cc:subject:date:message-id:reply-to; bh=BkcxKGpIRiIYvhvkMsjM3aFP+7G5iSCQjmZTINuV3J4=; b=P+PGNXyehn5rRh4RafQW0ogrqyHWoe58yI0lQZt+sHpVA2tZrnNEGbjOOAVhGovXGc K943sEk9GTv0lHAQek90oY9seFOT8vZf58Lv7tC7i5eYzdMhOjgnQ3F6h+o2YgE4TUEY BpdvhT7DgE/B3TBuJFQb2JrofLR1rJlVsHrcWg4m+JFLfIApVd1k7WVZiIHQY227OqxZ aqVnx1l/Tj79txN/zjvw9p9lpUavDTzXAwWGJbibrHUtdx1G6Kwq5F74mbYvHeQvnraK Yx9RXtXFtITWE1E7LOI+207rTic2bkj44MULoV+6x8DMxOqMU+LVYUm3DRGBhxLWgTNe cC8w== X-Gm-Message-State: AOJu0Ywr6Ordnsnesk79r8RP4CDKCCXBH5lZauqHvzd5ab3zjGQV+MJ1 qZaqx57h/uMvKWgg9LBOnlYHQs8wbp9SOCtbr9gaOjTuFBNSD0oaChSu2/ROQEkbc9No+4ecS/0 Z0mN/8+KoviHoYqzC7V/1m68GE7dw5FpNRf7UOExI2GYB X-Gm-Gg: ASbGncvdLx+23Juns27qJZWl1UlhFzpUKhYmpX4jdcgEAF479TWREhYFij2ByGWytwa DhdhkLVSyZxxmlFL6BZZ5h7Rrbth6rDuVyGpIKqdjmmFOaSI5fah2fmGhX7eoRlk/mJG8HDgoT2 1dVO2O24bpwKLAkAC2D+qYDK5mUNIdpmZFxwBWzZeyAHzNCeyK9eCPLlUxIRmqF7Bs/eEfW5s8J vi91q5KQsPQ/0ZiLTOL+9GX34xnEJbl3gIBWLBkrTm9syFHjFI7z+3U89mkTYA6C3IjLFT6FmRE gjcJZQQ8PiZUSPp8n26Igvwk7en2h9Xvex03qlhqkCQSYKKQgrzSsdHaPLJ3RlFKldiVHQ== X-Google-Smtp-Source: AGHT+IGoYmrr2dPdh+xWlWOVOuIP7CqeHHgZta4o6GYx88uhWu40iVaNqa4F9FeIXvwuowk3WDyl/UGjvgVC X-Received: by 2002:a05:6820:6aef:b0:611:75a8:f6ca with SMTP id 006d021491bc7-611b911e839mr10715636eaf.6.1751320009856; Mon, 30 Jun 2025 14:46:49 -0700 (PDT) Received: from postal.iol.unh.edu (postal.iol.unh.edu. [132.177.123.84]) by smtp-relay.gmail.com with ESMTPS id 006d021491bc7-611b8346806sm70095eaf.0.2025.06.30.14.46.49 (version=TLS1_2 cipher=ECDHE-ECDSA-AES128-GCM-SHA256 bits=128/128); Mon, 30 Jun 2025 14:46:49 -0700 (PDT) X-Relaying-Domain: iol.unh.edu Date: Mon, 30 Jun 2025 14:46:49 -0700 (PDT) Message-ID: <686305c9.050a0220.2a9192.3bdaSMTPIN_ADDED_MISSING@mx.google.com> Received: from [172.21.0.5] (unknown [172.18.0.240]) by postal.iol.unh.edu (Postfix) with ESMTP id 4C783604D420; Mon, 30 Jun 2025 17:46:49 -0400 (EDT) Subject: |WARNING| pw154860 [PATCH] [v2] test/argparse: change initialization From: dpdklab@iol.unh.edu To: Test Report Cc: dpdk-test-reports@iol.unh.edu In-Reply-To: <20250630145934.56969-1-stephen@networkplumber.org> References: <20250630145934.56969-1-stephen@networkplumber.org> Content-Type: text/plain X-BeenThere: test-report@dpdk.org X-Mailman-Version: 2.1.29 Precedence: list List-Id: automatic DPDK test reports List-Unsubscribe: , List-Archive: List-Post: List-Help: List-Subscribe: , Errors-To: test-report-bounces@dpdk.org Test-Label: iol-compile-amd64-testing Test-Status: WARNING http://dpdk.org/patch/154860 _Testing issues_ Submitter: Stephen Hemminger Date: Monday, June 30 2025 14:58:49 DPDK git baseline: Repo:dpdk Branch: master CommitID:20460dcffd08a4680f881c39916ae783ee830374 154860 --> testing issues Upstream job id: Generic-DPDK-Compile-Meson#403814 Test environment and result as below: +-------------------------------+-------------------+--------------------+-------------------------+----------------------+-------------------+------------------+ | Environment | dpdk_msvc_compile | dpdk_meson_compile | dpdk_llvm_clang_compile | dpdk_mingw64_compile | dpdk_compile_spdk | dpdk_compile_ovs | +===============================+===================+====================+=========================+======================+===================+==================+ | Windows Server 2022 | PASS | SKIPPED | PASS | PASS | SKIPPED | SKIPPED | +-------------------------------+-------------------+--------------------+-------------------------+----------------------+-------------------+------------------+ | FreeBSD 14.2 | SKIPPED | PASS | SKIPPED | SKIPPED | SKIPPED | SKIPPED | +-------------------------------+-------------------+--------------------+-------------------------+----------------------+-------------------+------------------+ | Ubuntu 20.04 | SKIPPED | PASS | SKIPPED | SKIPPED | SKIPPED | SKIPPED | +-------------------------------+-------------------+--------------------+-------------------------+----------------------+-------------------+------------------+ | CentOS Stream 9 | SKIPPED | PASS | SKIPPED | SKIPPED | PASS | SKIPPED | +-------------------------------+-------------------+--------------------+-------------------------+----------------------+-------------------+------------------+ | CentOS Stream 10 | SKIPPED | PASS | SKIPPED | SKIPPED | SKIPPED | SKIPPED | +-------------------------------+-------------------+--------------------+-------------------------+----------------------+-------------------+------------------+ | Debian GNU/Linux 12 | SKIPPED | PASS | SKIPPED | SKIPPED | PASS | SKIPPED | +-------------------------------+-------------------+--------------------+-------------------------+----------------------+-------------------+------------------+ | Fedora Linux 40 | SKIPPED | PASS | SKIPPED | SKIPPED | WARN | SKIPPED | +-------------------------------+-------------------+--------------------+-------------------------+----------------------+-------------------+------------------+ | Fedora Linux 41 | SKIPPED | PASS | SKIPPED | SKIPPED | PASS | PASS | +-------------------------------+-------------------+--------------------+-------------------------+----------------------+-------------------+------------------+ | openSUSE Leap 15.6 | SKIPPED | PASS | SKIPPED | SKIPPED | SKIPPED | SKIPPED | +-------------------------------+-------------------+--------------------+-------------------------+----------------------+-------------------+------------------+ | Red Hat Enterprise Linux 8.10 | SKIPPED | PASS | SKIPPED | SKIPPED | SKIPPED | SKIPPED | +-------------------------------+-------------------+--------------------+-------------------------+----------------------+-------------------+------------------+ | Red Hat Enterprise Linux 9.5 | SKIPPED | PASS | SKIPPED | SKIPPED | SKIPPED | SKIPPED | +-------------------------------+-------------------+--------------------+-------------------------+----------------------+-------------------+------------------+ | Ubuntu 22.04 | SKIPPED | PASS | SKIPPED | SKIPPED | PASS | SKIPPED | +-------------------------------+-------------------+--------------------+-------------------------+----------------------+-------------------+------------------+ | Ubuntu 24.04 | SKIPPED | PASS | SKIPPED | SKIPPED | PASS | PASS | +-------------------------------+-------------------+--------------------+-------------------------+----------------------+-------------------+------------------+ | Alpine Linux 3.22.0 | SKIPPED | PASS | SKIPPED | SKIPPED | SKIPPED | SKIPPED | +-------------------------------+-------------------+--------------------+-------------------------+----------------------+-------------------+------------------+ ==== 20 line log output for Fedora Linux 40 (dpdk_compile_spdk): ==== --- Failed to get log output --- ==== End log output ==== Windows Server 2022 Kernel: 10.0.20348.2031 Compiler: clang 15.0.7, gcc 14.1.0 (MinGW), and MSVC VS 19.39.33521 FreeBSD 14.2 Kernel: 14.2-RELEASE Compiler: clang 18.1.6 Ubuntu 20.04 Kernel: 4.19 Compiler: gcc gcc (Ubuntu 9.4.0-1ubuntu1~20.04.2) 9.4.0 CentOS Stream 9 Kernel: 5.15 Compiler: gcc gcc (GCC) 11.5.0 20240719 (Red Hat 11.5.0-7) CentOS Stream 10 Kernel: 5.15 Compiler: gcc gcc (GCC) 14.2.1 20250110 (Red Hat 14.2.1-8) Debian GNU/Linux 12 Kernel: 5.15 Compiler: gcc gcc (Debian 12.2.0-14+deb12u1) 12.2.0 Fedora Linux 40 Kernel: 5.15 Compiler: gcc gcc (GCC) 14.2.1 20240912 (Red Hat 14.2.1-3) Fedora Linux 41 Kernel: 5.15 Compiler: clang gcc (GCC) 14.3.1 20250523 (Red Hat 14.3.1-1) openSUSE Leap 15.6 Kernel: 5.15 Compiler: gcc gcc (SUSE Linux) 7.5.0 Red Hat Enterprise Linux 8.10 Kernel: 5.15 Compiler: gcc gcc (GCC) 8.5.0 20210514 (Red Hat 8.5.0-22) Red Hat Enterprise Linux 9.5 Kernel: 5.15 Compiler: gcc gcc (GCC) 11.5.0 20240719 (Red Hat 11.5.0-2) Ubuntu 22.04 Kernel: 5.15 Compiler: gcc gcc (Ubuntu 11.4.0-1ubuntu1~22.04) 11.4.0 Ubuntu 24.04 Kernel: 5.15 Compiler: gcc gcc (Ubuntu 13.3.0-6ubuntu2~24.04) 13.3.0 Alpine Linux 3.22.0 Kernel: 5.15 Compiler: gcc gcc (Alpine 14.2.0) 14.2.0 To view detailed results, visit: https://lab.dpdk.org/results/dashboard/patchsets/33545/ UNH-IOL DPDK Community Lab To manage your email subscriptions, visit: https://lab.dpdk.org/results/dashboard/preferences/subscriptions/