From mboxrd@z Thu Jan 1 00:00:00 1970 Return-Path: Received: from mails.dpdk.org (mails.dpdk.org [217.70.189.124]) by inbox.dpdk.org (Postfix) with ESMTP id 94BC646AC3 for ; Mon, 30 Jun 2025 23:46:57 +0200 (CEST) Received: from mails.dpdk.org (localhost [127.0.0.1]) by mails.dpdk.org (Postfix) with ESMTP id 911F34025D; Mon, 30 Jun 2025 23:46:57 +0200 (CEST) Received: from mail-pl1-f227.google.com (mail-pl1-f227.google.com [209.85.214.227]) by mails.dpdk.org (Postfix) with ESMTP id D39244025D for ; Mon, 30 Jun 2025 23:46:56 +0200 (CEST) Received: by mail-pl1-f227.google.com with SMTP id d9443c01a7336-234f17910d8so47098305ad.3 for ; Mon, 30 Jun 2025 14:46:56 -0700 (PDT) DKIM-Signature: v=1; a=rsa-sha256; c=relaxed/relaxed; d=iol.unh.edu; s=unh-iol; t=1751320016; x=1751924816; darn=dpdk.org; h=references:in-reply-to:cc:to:from:subject:message-id:date:from:to :cc:subject:date:message-id:reply-to; bh=v9RD4P2MgsUXLZOoR7k9wj5oy3oAenLz58/+biDcaVc=; b=aGrzJpPUTxYWfoIw3WX2zOfwzqENguNbadUdHoDAoCOYkwpoVU13Q60kXvo08PLs5Z wAhVKb0Az4HYv8vZ+j4RbNOycKy7e78gnEUyrj/7N9YYuGMa0j5CDU5ZicUWshSFm39z hwzq1TTu5Z2icCzfOMeaXPBCM6RXBbNtehlXw= X-Google-DKIM-Signature: v=1; a=rsa-sha256; c=relaxed/relaxed; d=1e100.net; s=20230601; t=1751320016; x=1751924816; h=references:in-reply-to:cc:to:from:subject:message-id:date :x-gm-message-state:from:to:cc:subject:date:message-id:reply-to; bh=v9RD4P2MgsUXLZOoR7k9wj5oy3oAenLz58/+biDcaVc=; b=S6V41MzC7eqgAenLBL39PVnYGHLNBFyMF7sDs3DVbm1Xz0RK4/Mtb6n4ndkZVLU2CF xjv15f1pnnsUnvZN/7/taTH7u4pNpGSW27OFakDvVb91E9vq6nIql+1PG52vV3MQcrah 2dhFaCI8ZTX5ccRhaK+eHzIKB9+SaNEjfEtpq5CiH55XKMkMuEe8hzCW55cRsVgeM9Di imWjfK97EIIzG4KA/clYmenf4/H0Jy6RxiTAS8gvRhEQTWCvQp42jEWsjIUz6db3Uf5u oUphcZMDB7nduz0jxtoCHYw4oRwDhPBC5t2/pTaLt/WlcOuq7aglN80leFu/A9OWkuQr 6oCw== X-Gm-Message-State: AOJu0YzA7HNnxlm5xFXaOpTDOvFux78CI7v53gFdWuuRurkKqPSWE3S9 uzoewF+AInpfI/w1SwuoNcxC+/YbAlOy1pLQ+WgfjdBAzS5o9CjJ16m2HDPI7yKG6Rc7erEcOuy +u10AYFBw1DEnLkMN9CYpN/VeN8NIPzLbBkgOZo7LqV1Z X-Gm-Gg: ASbGncvwcEP3mRWCQhrfI8E3ilnet6B3YZOjBYBvUD8tuPNKhfwCFR5VHppYAsu7ZsK aJ9VBBO/MrQHF8AAMED8gn421C9I1YFhTbYmeDVaD8R8QbCkVvvu0B//orqnJA+yq0GDWYtA4pH 7yimZBznkvYXLsztpxmHn9gwodog0obnBcXOiuGQ785nuKVRDMTYGqAwHycOC10OFrLs0zx838H 9ceCbTJV33YrTl7HEWMbjzMByuJKxytSgJntv0p7wWuU7bSUncEaNiFwChcasfLhjl6vnDZ4Kj/ sW0kQj07RzAUrI71YZVZHmZdPdkgbegNYUYJKSLnXhrNwaY+ivqNx+DS/T95yG/KxNjtjA== X-Google-Smtp-Source: AGHT+IEo+KtXHMLD6DSTaKdkAMF8hazQRRAB+xP64kIBhu3VneKkzaZUcBijoGOBJA5tz03XsPdh0PN7qqNz X-Received: by 2002:a17:902:e785:b0:235:e1e4:ec5e with SMTP id d9443c01a7336-23ac48d9bd0mr231384805ad.49.1751320015802; Mon, 30 Jun 2025 14:46:55 -0700 (PDT) Received: from postal.iol.unh.edu (postal.iol.unh.edu. [132.177.123.84]) by smtp-relay.gmail.com with ESMTPS id d9443c01a7336-23acb39a863sm4782525ad.123.2025.06.30.14.46.55 (version=TLS1_2 cipher=ECDHE-ECDSA-AES128-GCM-SHA256 bits=128/128); Mon, 30 Jun 2025 14:46:55 -0700 (PDT) X-Relaying-Domain: iol.unh.edu Date: Mon, 30 Jun 2025 14:46:55 -0700 (PDT) Message-ID: <686305cf.170a0220.119ef2.b1f2SMTPIN_ADDED_MISSING@mx.google.com> Received: from [172.21.0.8] (unknown [172.18.0.240]) by postal.iol.unh.edu (Postfix) with ESMTP id 3F30E604D420; Mon, 30 Jun 2025 17:46:55 -0400 (EDT) Subject: |WARNING| pw154860 [PATCH] [v2] test/argparse: change initialization From: dpdklab@iol.unh.edu To: Test Report Cc: dpdk-test-reports@iol.unh.edu In-Reply-To: <20250630145934.56969-1-stephen@networkplumber.org> References: <20250630145934.56969-1-stephen@networkplumber.org> Content-Type: text/plain X-BeenThere: test-report@dpdk.org X-Mailman-Version: 2.1.29 Precedence: list List-Id: automatic DPDK test reports List-Unsubscribe: , List-Archive: List-Post: List-Help: List-Subscribe: , Errors-To: test-report-bounces@dpdk.org Test-Label: iol-compile-amd64-testing Test-Status: WARNING http://dpdk.org/patch/154860 _Testing issues_ Submitter: Stephen Hemminger Date: Monday, June 30 2025 14:58:49 DPDK git baseline: Repo:dpdk Branch: master CommitID:20460dcffd08a4680f881c39916ae783ee830374 154860 --> testing issues Upstream job id: Generic-DPDK-Compile-Meson#403821 Test environment and result as below: +-------------------------------+-------------------+--------------------+-------------------------+----------------------+-------------------+------------------+ | Environment | dpdk_msvc_compile | dpdk_meson_compile | dpdk_llvm_clang_compile | dpdk_mingw64_compile | dpdk_compile_spdk | dpdk_compile_ovs | +===============================+===================+====================+=========================+======================+===================+==================+ | Windows Server 2022 | PASS | SKIPPED | PASS | PASS | SKIPPED | SKIPPED | +-------------------------------+-------------------+--------------------+-------------------------+----------------------+-------------------+------------------+ | FreeBSD 14.2 | SKIPPED | PASS | SKIPPED | SKIPPED | SKIPPED | SKIPPED | +-------------------------------+-------------------+--------------------+-------------------------+----------------------+-------------------+------------------+ | Ubuntu 20.04 | SKIPPED | PASS | SKIPPED | SKIPPED | SKIPPED | SKIPPED | +-------------------------------+-------------------+--------------------+-------------------------+----------------------+-------------------+------------------+ | CentOS Stream 9 | SKIPPED | PASS | SKIPPED | SKIPPED | PASS | SKIPPED | +-------------------------------+-------------------+--------------------+-------------------------+----------------------+-------------------+------------------+ | CentOS Stream 10 | SKIPPED | PASS | SKIPPED | SKIPPED | SKIPPED | SKIPPED | +-------------------------------+-------------------+--------------------+-------------------------+----------------------+-------------------+------------------+ | Debian GNU/Linux 12 | SKIPPED | PASS | SKIPPED | SKIPPED | PASS | SKIPPED | +-------------------------------+-------------------+--------------------+-------------------------+----------------------+-------------------+------------------+ | Fedora Linux 40 | SKIPPED | PASS | SKIPPED | SKIPPED | WARN | SKIPPED | +-------------------------------+-------------------+--------------------+-------------------------+----------------------+-------------------+------------------+ | Fedora Linux 41 | SKIPPED | PASS | SKIPPED | SKIPPED | PASS | PASS | +-------------------------------+-------------------+--------------------+-------------------------+----------------------+-------------------+------------------+ | openSUSE Leap 15.6 | SKIPPED | PASS | SKIPPED | SKIPPED | SKIPPED | SKIPPED | +-------------------------------+-------------------+--------------------+-------------------------+----------------------+-------------------+------------------+ | Red Hat Enterprise Linux 8.10 | SKIPPED | PASS | SKIPPED | SKIPPED | SKIPPED | SKIPPED | +-------------------------------+-------------------+--------------------+-------------------------+----------------------+-------------------+------------------+ | Red Hat Enterprise Linux 9.5 | SKIPPED | PASS | SKIPPED | SKIPPED | SKIPPED | SKIPPED | +-------------------------------+-------------------+--------------------+-------------------------+----------------------+-------------------+------------------+ | Ubuntu 22.04 | SKIPPED | PASS | SKIPPED | SKIPPED | PASS | SKIPPED | +-------------------------------+-------------------+--------------------+-------------------------+----------------------+-------------------+------------------+ | Ubuntu 24.04 | SKIPPED | PASS | SKIPPED | SKIPPED | PASS | PASS | +-------------------------------+-------------------+--------------------+-------------------------+----------------------+-------------------+------------------+ | Alpine Linux 3.22.0 | SKIPPED | PASS | SKIPPED | SKIPPED | SKIPPED | SKIPPED | +-------------------------------+-------------------+--------------------+-------------------------+----------------------+-------------------+------------------+ ==== 20 line log output for Fedora Linux 40 (dpdk_compile_spdk): ==== --- Failed to get log output --- ==== End log output ==== Windows Server 2022 Kernel: 10.0.20348.2031 Compiler: clang 15.0.7, gcc 14.1.0 (MinGW), and MSVC VS 19.39.33521 FreeBSD 14.2 Kernel: 14.2-RELEASE Compiler: clang 18.1.6 Ubuntu 20.04 Kernel: 4.19 Compiler: gcc gcc (Ubuntu 9.4.0-1ubuntu1~20.04.2) 9.4.0 CentOS Stream 9 Kernel: 5.15 Compiler: gcc gcc (GCC) 11.5.0 20240719 (Red Hat 11.5.0-7) CentOS Stream 10 Kernel: 5.15 Compiler: gcc gcc (GCC) 14.2.1 20250110 (Red Hat 14.2.1-8) Debian GNU/Linux 12 Kernel: 5.15 Compiler: gcc gcc (Debian 12.2.0-14+deb12u1) 12.2.0 Fedora Linux 40 Kernel: 5.15 Compiler: gcc gcc (GCC) 14.2.1 20240912 (Red Hat 14.2.1-3) Fedora Linux 41 Kernel: 5.15 Compiler: clang gcc (GCC) 14.3.1 20250523 (Red Hat 14.3.1-1) openSUSE Leap 15.6 Kernel: 5.15 Compiler: gcc gcc (SUSE Linux) 7.5.0 Red Hat Enterprise Linux 8.10 Kernel: 5.15 Compiler: gcc gcc (GCC) 8.5.0 20210514 (Red Hat 8.5.0-22) Red Hat Enterprise Linux 9.5 Kernel: 5.15 Compiler: gcc gcc (GCC) 11.5.0 20240719 (Red Hat 11.5.0-2) Ubuntu 22.04 Kernel: 5.15 Compiler: gcc gcc (Ubuntu 11.4.0-1ubuntu1~22.04) 11.4.0 Ubuntu 24.04 Kernel: 5.15 Compiler: gcc gcc (Ubuntu 13.3.0-6ubuntu2~24.04) 13.3.0 Alpine Linux 3.22.0 Kernel: 5.15 Compiler: gcc gcc (Alpine 14.2.0) 14.2.0 To view detailed results, visit: https://lab.dpdk.org/results/dashboard/patchsets/33545/ UNH-IOL DPDK Community Lab To manage your email subscriptions, visit: https://lab.dpdk.org/results/dashboard/preferences/subscriptions/