From mboxrd@z Thu Jan 1 00:00:00 1970 Return-Path: Received: from mails.dpdk.org (mails.dpdk.org [217.70.189.124]) by inbox.dpdk.org (Postfix) with ESMTP id E0A2846A23 for ; Mon, 30 Jun 2025 23:49:30 +0200 (CEST) Received: from mails.dpdk.org (localhost [127.0.0.1]) by mails.dpdk.org (Postfix) with ESMTP id CB7734025D; Mon, 30 Jun 2025 23:49:30 +0200 (CEST) Received: from mail-pf1-f225.google.com (mail-pf1-f225.google.com [209.85.210.225]) by mails.dpdk.org (Postfix) with ESMTP id 437C14025D for ; Mon, 30 Jun 2025 23:49:29 +0200 (CEST) Received: by mail-pf1-f225.google.com with SMTP id d2e1a72fcca58-748e63d4b05so1708575b3a.2 for ; Mon, 30 Jun 2025 14:49:29 -0700 (PDT) DKIM-Signature: v=1; a=rsa-sha256; c=relaxed/relaxed; d=iol.unh.edu; s=unh-iol; t=1751320168; x=1751924968; darn=dpdk.org; h=references:in-reply-to:cc:to:from:subject:message-id:date:from:to :cc:subject:date:message-id:reply-to; bh=gFd5Pzo/s7F/zeanMvsincuxVrSMBLKXtV0EyFPKd1o=; b=NSg1bqndzSZKvFVcBoGjDE7G+5JOXHsREQUcnrIFc49zha8ApmyOiuELCikNVfEaUT oSW5tze5IuZkFU4AUF/gqjXYLsZSZYT6unpNmc6iPPgFe1MTPXFeo9aycj5uNt7Tuwhq awNTPK7ZknA91vSLEQLS7n1ZJDz459R+cXtRc= X-Google-DKIM-Signature: v=1; a=rsa-sha256; c=relaxed/relaxed; d=1e100.net; s=20230601; t=1751320168; x=1751924968; h=references:in-reply-to:cc:to:from:subject:message-id:date :x-gm-message-state:from:to:cc:subject:date:message-id:reply-to; bh=gFd5Pzo/s7F/zeanMvsincuxVrSMBLKXtV0EyFPKd1o=; b=RAQk4dkf+PpCiu2AUR2Ciu5YVT6IW5uvu0jUYryY6SFIrZYyu2zEi06dZjngknHkcA XMtFwOItAxBWB2GX5p7uoRfdqE/dcBD6tXIAaksSIt8J0N+CRoHXM6nnaicZ2HsCQxhf Is9Km79J+u7u3lxVrDRfTntqu8MXT4hpX02/HcOwk91/eZCFieVTlLWtreeYxI1jGIS5 JAsmtApePvGi2ka5G61dtCeKUY6NOH52Qssm7GmHUcrvQMMZuwJAg9RtDQ65W1fPGO0L Dm9kh5OmHWyHeT5P9mTkPLR5e0F/GuMpSh4if8VJNfrTkLr8iTBVrTuWBgIMy6q9GGwg IDlg== X-Gm-Message-State: AOJu0YzkXoxDrHnJGn95ExXwkRmQDI0orjYGr1qZiA4gm3k6/+c5j9d5 mEa15o6zQi6PbEB0a7SnsEtQPRUxVFw/8NNYgHoIVAAOLYxANe6QfHOeyC0cwda/QGnMzObtJZ9 22NErj2xT5yEnUpXE+R3kcklQ6sbRnuFNlB6qmY7zjZsQ X-Gm-Gg: ASbGncvUvrXTWhAA21csYcgqZXn6RX9ZWH37Gcg9U6H9nGiuw/tcO6fjfSFjiO8iDxR 0I/SNboSyBtreyJfBL6yifpeqsnb1EYPDDHd0986LUIAJZUotutl96GX9S8bSJRDx6tePUhH+Gf WIpsTRUR96XF8t/emUwkRdY3HylzHgicOYMC0T5tTEqiK+tKflYKqMSagKXtI/NUdtcLP/ru2pK 10vuzybvKynTW8rMrfq/6Ly1EB4bcGguViV6upvonS/5BOP33SKAEi/KrXnOlG6lrVFgMTP0omb I2QJTmq8xd3dhUdc9k0J1yiuT82WoQeBsvHnB/VETadK+ig3YMNh3YZZDQfhChsPN0tMnA== X-Google-Smtp-Source: AGHT+IHLzJ3bdjlJArHJ6TQvCUtDckyz2NIGnxmp6woHLa1flsoRqke1ZeO9+tD/iOySre714ZSyNOs9LAH0 X-Received: by 2002:a05:6a20:7d9a:b0:21f:54f0:3b84 with SMTP id adf61e73a8af0-220a17e9d07mr27566904637.35.1751320168326; Mon, 30 Jun 2025 14:49:28 -0700 (PDT) Received: from postal.iol.unh.edu (postal.iol.unh.edu. [132.177.123.84]) by smtp-relay.gmail.com with ESMTPS id 41be03b00d2f7-b34e324440esm409456a12.26.2025.06.30.14.49.28 (version=TLS1_2 cipher=ECDHE-ECDSA-AES128-GCM-SHA256 bits=128/128); Mon, 30 Jun 2025 14:49:28 -0700 (PDT) X-Relaying-Domain: iol.unh.edu Date: Mon, 30 Jun 2025 14:49:28 -0700 (PDT) Message-ID: <68630668.630a0220.517e.61c9SMTPIN_ADDED_MISSING@mx.google.com> Received: from [172.21.0.6] (unknown [172.18.0.240]) by postal.iol.unh.edu (Postfix) with ESMTP id 92D9E604D420; Mon, 30 Jun 2025 17:49:27 -0400 (EDT) Subject: |WARNING| pw154860 [PATCH] [v2] test/argparse: change initialization From: dpdklab@iol.unh.edu To: Test Report Cc: dpdk-test-reports@iol.unh.edu In-Reply-To: <20250630145934.56969-1-stephen@networkplumber.org> References: <20250630145934.56969-1-stephen@networkplumber.org> Content-Type: text/plain X-BeenThere: test-report@dpdk.org X-Mailman-Version: 2.1.29 Precedence: list List-Id: automatic DPDK test reports List-Unsubscribe: , List-Archive: List-Post: List-Help: List-Subscribe: , Errors-To: test-report-bounces@dpdk.org Test-Label: iol-compile-amd64-testing Test-Status: WARNING http://dpdk.org/patch/154860 _Testing issues_ Submitter: Stephen Hemminger Date: Monday, June 30 2025 14:58:49 DPDK git baseline: Repo:dpdk Branch: master CommitID:20460dcffd08a4680f881c39916ae783ee830374 154860 --> testing issues Upstream job id: Generic-DPDK-Compile-Meson#403812 Test environment and result as below: +-------------------------------+-------------------+--------------------+-------------------------+----------------------+-------------------+------------------+ | Environment | dpdk_msvc_compile | dpdk_meson_compile | dpdk_llvm_clang_compile | dpdk_mingw64_compile | dpdk_compile_spdk | dpdk_compile_ovs | +===============================+===================+====================+=========================+======================+===================+==================+ | Windows Server 2022 | PASS | SKIPPED | PASS | PASS | SKIPPED | SKIPPED | +-------------------------------+-------------------+--------------------+-------------------------+----------------------+-------------------+------------------+ | FreeBSD 14.2 | SKIPPED | PASS | SKIPPED | SKIPPED | SKIPPED | SKIPPED | +-------------------------------+-------------------+--------------------+-------------------------+----------------------+-------------------+------------------+ | Ubuntu 20.04 | SKIPPED | PASS | SKIPPED | SKIPPED | SKIPPED | SKIPPED | +-------------------------------+-------------------+--------------------+-------------------------+----------------------+-------------------+------------------+ | CentOS Stream 9 | SKIPPED | PASS | SKIPPED | SKIPPED | PASS | SKIPPED | +-------------------------------+-------------------+--------------------+-------------------------+----------------------+-------------------+------------------+ | CentOS Stream 10 | SKIPPED | PASS | SKIPPED | SKIPPED | SKIPPED | SKIPPED | +-------------------------------+-------------------+--------------------+-------------------------+----------------------+-------------------+------------------+ | Debian GNU/Linux 12 | SKIPPED | PASS | SKIPPED | SKIPPED | PASS | SKIPPED | +-------------------------------+-------------------+--------------------+-------------------------+----------------------+-------------------+------------------+ | Fedora Linux 40 | SKIPPED | PASS | SKIPPED | SKIPPED | WARN | SKIPPED | +-------------------------------+-------------------+--------------------+-------------------------+----------------------+-------------------+------------------+ | Fedora Linux 41 | SKIPPED | PASS | SKIPPED | SKIPPED | PASS | PASS | +-------------------------------+-------------------+--------------------+-------------------------+----------------------+-------------------+------------------+ | openSUSE Leap 15.6 | SKIPPED | PASS | SKIPPED | SKIPPED | SKIPPED | SKIPPED | +-------------------------------+-------------------+--------------------+-------------------------+----------------------+-------------------+------------------+ | Red Hat Enterprise Linux 8.10 | SKIPPED | PASS | SKIPPED | SKIPPED | SKIPPED | SKIPPED | +-------------------------------+-------------------+--------------------+-------------------------+----------------------+-------------------+------------------+ | Red Hat Enterprise Linux 9.5 | SKIPPED | PASS | SKIPPED | SKIPPED | SKIPPED | SKIPPED | +-------------------------------+-------------------+--------------------+-------------------------+----------------------+-------------------+------------------+ | Ubuntu 22.04 | SKIPPED | PASS | SKIPPED | SKIPPED | PASS | SKIPPED | +-------------------------------+-------------------+--------------------+-------------------------+----------------------+-------------------+------------------+ | Ubuntu 24.04 | SKIPPED | PASS | SKIPPED | SKIPPED | PASS | PASS | +-------------------------------+-------------------+--------------------+-------------------------+----------------------+-------------------+------------------+ | Alpine Linux 3.22.0 | SKIPPED | PASS | SKIPPED | SKIPPED | SKIPPED | SKIPPED | +-------------------------------+-------------------+--------------------+-------------------------+----------------------+-------------------+------------------+ ==== 20 line log output for Fedora Linux 40 (dpdk_compile_spdk): ==== --- Failed to get log output --- ==== End log output ==== Windows Server 2022 Kernel: 10.0.20348.2031 Compiler: clang 15.0.7, gcc 14.1.0 (MinGW), and MSVC VS 19.39.33521 FreeBSD 14.2 Kernel: 14.2-RELEASE Compiler: clang 18.1.6 Ubuntu 20.04 Kernel: 4.19 Compiler: gcc gcc (Ubuntu 9.4.0-1ubuntu1~20.04.2) 9.4.0 CentOS Stream 9 Kernel: 5.15 Compiler: gcc gcc (GCC) 11.5.0 20240719 (Red Hat 11.5.0-7) CentOS Stream 10 Kernel: 5.15 Compiler: gcc gcc (GCC) 14.2.1 20250110 (Red Hat 14.2.1-8) Debian GNU/Linux 12 Kernel: 5.15 Compiler: gcc gcc (Debian 12.2.0-14+deb12u1) 12.2.0 Fedora Linux 40 Kernel: 5.15 Compiler: gcc gcc (GCC) 14.2.1 20240912 (Red Hat 14.2.1-3) Fedora Linux 41 Kernel: 5.15 Compiler: clang gcc (GCC) 14.3.1 20250523 (Red Hat 14.3.1-1) openSUSE Leap 15.6 Kernel: 5.15 Compiler: gcc gcc (SUSE Linux) 7.5.0 Red Hat Enterprise Linux 8.10 Kernel: 5.15 Compiler: gcc gcc (GCC) 8.5.0 20210514 (Red Hat 8.5.0-22) Red Hat Enterprise Linux 9.5 Kernel: 5.15 Compiler: gcc gcc (GCC) 11.5.0 20240719 (Red Hat 11.5.0-2) Ubuntu 22.04 Kernel: 5.15 Compiler: gcc gcc (Ubuntu 11.4.0-1ubuntu1~22.04) 11.4.0 Ubuntu 24.04 Kernel: 5.15 Compiler: gcc gcc (Ubuntu 13.3.0-6ubuntu2~24.04) 13.3.0 Alpine Linux 3.22.0 Kernel: 5.15 Compiler: gcc gcc (Alpine 14.2.0) 14.2.0 To view detailed results, visit: https://lab.dpdk.org/results/dashboard/patchsets/33545/ UNH-IOL DPDK Community Lab To manage your email subscriptions, visit: https://lab.dpdk.org/results/dashboard/preferences/subscriptions/