From mboxrd@z Thu Jan 1 00:00:00 1970 Return-Path: Received: from mails.dpdk.org (mails.dpdk.org [217.70.189.124]) by inbox.dpdk.org (Postfix) with ESMTP id 1D66046AC3 for ; Tue, 1 Jul 2025 00:03:16 +0200 (CEST) Received: from mails.dpdk.org (localhost [127.0.0.1]) by mails.dpdk.org (Postfix) with ESMTP id 18BF64025D; Tue, 1 Jul 2025 00:03:16 +0200 (CEST) Received: from mail-pl1-f226.google.com (mail-pl1-f226.google.com [209.85.214.226]) by mails.dpdk.org (Postfix) with ESMTP id 4F3024025D for ; Tue, 1 Jul 2025 00:03:14 +0200 (CEST) Received: by mail-pl1-f226.google.com with SMTP id d9443c01a7336-235e1d710d8so56958885ad.1 for ; Mon, 30 Jun 2025 15:03:14 -0700 (PDT) DKIM-Signature: v=1; a=rsa-sha256; c=relaxed/relaxed; d=iol.unh.edu; s=unh-iol; t=1751320993; x=1751925793; darn=dpdk.org; h=references:in-reply-to:cc:to:from:subject:message-id:date:from:to :cc:subject:date:message-id:reply-to; bh=3/mEZtzJjFY1xwDXy3fMCKKUDhl1WuiVmBTOmtcT2Xk=; b=Qc2iHJe/GpNJUAn0A5BRWuEH8lGgT9UOMX4ptkdbxwlwmEfF9Zvse0AI/r+PRmk57P ZRRPMu0PwzCQ5a/byAWehCob2nF94g49Eu18xdkJn4FF9eePuERHz7Ep5OpUbMOPQ3xN UJurlknE/7GuKmAch1D+J9veSlV+d+uvZjyv8= X-Google-DKIM-Signature: v=1; a=rsa-sha256; c=relaxed/relaxed; d=1e100.net; s=20230601; t=1751320993; x=1751925793; h=references:in-reply-to:cc:to:from:subject:message-id:date :x-gm-message-state:from:to:cc:subject:date:message-id:reply-to; bh=3/mEZtzJjFY1xwDXy3fMCKKUDhl1WuiVmBTOmtcT2Xk=; b=nvMSAH9G1/O4eVWrWgDMHApoehjTJIvwcCMNqJNGGBsBYFHzBaU46L4+MB3JzcCOPo J8x/kO0U4BiFlO5BLadxBcOnQ1QgKO1qcVIQKjs6TEWsgQSjY+zhUAbncaX5fsi/RmX9 TheP1iXForLIzLCISQvgF5ji8w99n2PgWTQL/C/ydTp2PIGM1GuCMiR1IrF9HKd1gMue Mp95aw9mC2Wi1YUSepLtPyQq+vdp1xhxchG8ZtL65DvZaf/ZSltPXa/y5ewyeu0aKcUH MfdsCfDkBoySedNbG8X78xoTuM+qx4Q94EWk0c7zKnDNwpB5VVs495pNcb25SPQWIg99 RtLw== X-Gm-Message-State: AOJu0YwmoML5P0kEH3qIr3l2lrh7K77y7GoeZKTGu8iUa9HthvU22jnr 4xAv9ZIbfKWSMycvYAIC6wGfj8la2ctXWJWRnwJwP6mH99zKhyMUJeCwjxeU1GwMhHVWmacmzka vVTVF2CKV6FDNjRfxdu0YsddMtWi6nGC6GCDi4sOZnEu9 X-Gm-Gg: ASbGncvF/57yR6hko560ZXWyKDVyoGLVy7wZ2DHiOvSaN+LD7yQgGstd7WKUu0GoXKr qbmo643fdSwVkCv0Hu1ma27zD3DfIigvgNIRk6j6TDwDa4U9Zd9koESuUFlnKQcf0UP2nS+UkDM tKa9WuJmiZpTYn2sSWJsO4arKU2JmHxEcKMoYaoa++4OSzlukiCq6mxCrd9h4u09xrQtq6LSdpJ e9yvoH2MUfCULWw1WfsveWjzFshs67KKylf0wbt7CrJ8rwy6Qjq5dL+BJNXFXyxiAGglkz/SI1q F4VRy4W8uLS3tS+l0XzrxuFmnuRVOoMKEgokJYLSLWVvEAA4u7ni/EZEpsPVnKIKE6dhhA== X-Google-Smtp-Source: AGHT+IE75i1lYTIxRuivfnZoOe7oobfwBb2mXzX1uD7V8BCFxtgOHmHE3tBfaH5xTxDUV5kRgsuw9tQjVkud X-Received: by 2002:a17:902:e849:b0:234:8c3d:2912 with SMTP id d9443c01a7336-23ac3bffb9emr204398125ad.11.1751320993526; Mon, 30 Jun 2025 15:03:13 -0700 (PDT) Received: from postal.iol.unh.edu (postal.iol.unh.edu. [132.177.123.84]) by smtp-relay.gmail.com with ESMTPS id 41be03b00d2f7-b34e302b7bbsm402465a12.9.2025.06.30.15.03.13 (version=TLS1_2 cipher=ECDHE-ECDSA-AES128-GCM-SHA256 bits=128/128); Mon, 30 Jun 2025 15:03:13 -0700 (PDT) X-Relaying-Domain: iol.unh.edu Date: Mon, 30 Jun 2025 15:03:13 -0700 (PDT) Message-ID: <686309a1.630a0220.3132df.66f7SMTPIN_ADDED_MISSING@mx.google.com> Received: from [172.17.0.2] (unknown [172.18.0.76]) by postal.iol.unh.edu (Postfix) with ESMTP id C07DD604D420; Mon, 30 Jun 2025 18:03:12 -0400 (EDT) Subject: |WARNING| pw154861 [PATCH] [v2] eal: deprecate old coremask-based EA From: dpdklab@iol.unh.edu To: Test Report Cc: dpdk-test-reports@iol.unh.edu In-Reply-To: <20250630153752.2361112-1-bruce.richardson@intel.com> References: <20250630153752.2361112-1-bruce.richardson@intel.com> Content-Type: text/plain X-BeenThere: test-report@dpdk.org X-Mailman-Version: 2.1.29 Precedence: list List-Id: automatic DPDK test reports List-Unsubscribe: , List-Archive: List-Post: List-Help: List-Subscribe: , Errors-To: test-report-bounces@dpdk.org Test-Label: iol-compile-amd64-testing Test-Status: WARNING http://dpdk.org/patch/154861 _Testing issues_ Submitter: Bruce Richardson Date: Monday, June 30 2025 15:37:34 DPDK git baseline: Repo:dpdk Branch: master CommitID:20460dcffd08a4680f881c39916ae783ee830374 154861 --> testing issues Upstream job id: Generic-DPDK-Compile-Meson#403846 Test environment and result as below: +-------------------------------+--------------------+-------------------+-------------------------+----------------------+-------------------+------------------+ | Environment | dpdk_meson_compile | dpdk_msvc_compile | dpdk_llvm_clang_compile | dpdk_mingw64_compile | dpdk_compile_spdk | dpdk_compile_ovs | +===============================+====================+===================+=========================+======================+===================+==================+ | FreeBSD 14.2 | PASS | SKIPPED | SKIPPED | SKIPPED | SKIPPED | SKIPPED | +-------------------------------+--------------------+-------------------+-------------------------+----------------------+-------------------+------------------+ | Ubuntu 20.04 | PASS | SKIPPED | SKIPPED | SKIPPED | SKIPPED | SKIPPED | +-------------------------------+--------------------+-------------------+-------------------------+----------------------+-------------------+------------------+ | CentOS Stream 9 | PASS | SKIPPED | SKIPPED | SKIPPED | PASS | SKIPPED | +-------------------------------+--------------------+-------------------+-------------------------+----------------------+-------------------+------------------+ | CentOS Stream 10 | PASS | SKIPPED | SKIPPED | SKIPPED | SKIPPED | SKIPPED | +-------------------------------+--------------------+-------------------+-------------------------+----------------------+-------------------+------------------+ | Debian GNU/Linux 12 | PASS | SKIPPED | SKIPPED | SKIPPED | PASS | SKIPPED | +-------------------------------+--------------------+-------------------+-------------------------+----------------------+-------------------+------------------+ | Fedora Linux 40 | PASS | SKIPPED | SKIPPED | SKIPPED | PASS | SKIPPED | +-------------------------------+--------------------+-------------------+-------------------------+----------------------+-------------------+------------------+ | Fedora Linux 41 | PASS | SKIPPED | SKIPPED | SKIPPED | PASS | PASS | +-------------------------------+--------------------+-------------------+-------------------------+----------------------+-------------------+------------------+ | openSUSE Leap 15.6 | PASS | SKIPPED | SKIPPED | SKIPPED | SKIPPED | SKIPPED | +-------------------------------+--------------------+-------------------+-------------------------+----------------------+-------------------+------------------+ | Red Hat Enterprise Linux 8.10 | PASS | SKIPPED | SKIPPED | SKIPPED | SKIPPED | SKIPPED | +-------------------------------+--------------------+-------------------+-------------------------+----------------------+-------------------+------------------+ | Red Hat Enterprise Linux 9.5 | PASS | SKIPPED | SKIPPED | SKIPPED | SKIPPED | SKIPPED | +-------------------------------+--------------------+-------------------+-------------------------+----------------------+-------------------+------------------+ | Ubuntu 22.04 | PASS | SKIPPED | SKIPPED | SKIPPED | PASS | SKIPPED | +-------------------------------+--------------------+-------------------+-------------------------+----------------------+-------------------+------------------+ | Ubuntu 24.04 | PASS | SKIPPED | SKIPPED | SKIPPED | PASS | PASS | +-------------------------------+--------------------+-------------------+-------------------------+----------------------+-------------------+------------------+ | Alpine Linux 3.22.0 | PASS | SKIPPED | SKIPPED | SKIPPED | SKIPPED | SKIPPED | +-------------------------------+--------------------+-------------------+-------------------------+----------------------+-------------------+------------------+ | Windows Server 2022 | SKIPPED | PASS | PASS | PASS | SKIPPED | SKIPPED | +-------------------------------+--------------------+-------------------+-------------------------+----------------------+-------------------+------------------+ FreeBSD 14.2 Kernel: 14.2-RELEASE Compiler: clang 18.1.6 Ubuntu 20.04 Kernel: 4.19 Compiler: gcc gcc (Ubuntu 9.4.0-1ubuntu1~20.04.2) 9.4.0 CentOS Stream 9 Kernel: 5.15 Compiler: gcc gcc (GCC) 11.5.0 20240719 (Red Hat 11.5.0-7) CentOS Stream 10 Kernel: 5.15 Compiler: gcc gcc (GCC) 14.2.1 20250110 (Red Hat 14.2.1-8) Debian GNU/Linux 12 Kernel: 5.15 Compiler: gcc gcc (Debian 12.2.0-14+deb12u1) 12.2.0 Fedora Linux 40 Kernel: 5.15 Compiler: clang gcc (GCC) 14.2.1 20240912 (Red Hat 14.2.1-3) Fedora Linux 41 Kernel: 5.15 Compiler: clang gcc (GCC) 14.3.1 20250523 (Red Hat 14.3.1-1) openSUSE Leap 15.6 Kernel: 5.15 Compiler: gcc gcc (SUSE Linux) 7.5.0 Red Hat Enterprise Linux 8.10 Kernel: 5.15 Compiler: gcc gcc (GCC) 8.5.0 20210514 (Red Hat 8.5.0-22) Red Hat Enterprise Linux 9.5 Kernel: 5.15 Compiler: gcc gcc (GCC) 11.5.0 20240719 (Red Hat 11.5.0-2) Ubuntu 22.04 Kernel: 5.15 Compiler: gcc gcc (Ubuntu 11.4.0-1ubuntu1~22.04) 11.4.0 Ubuntu 24.04 Kernel: 5.15 Compiler: gcc gcc (Ubuntu 13.3.0-6ubuntu2~24.04) 13.3.0 Alpine Linux 3.22.0 Kernel: 5.15 Compiler: gcc gcc (Alpine 14.2.0) 14.2.0 Windows Server 2022 Kernel: 10.0.20348.2031 Compiler: clang 15.0.7, gcc 14.1.0 (MinGW), and MSVC VS 19.39.33521 To view detailed results, visit: https://lab.dpdk.org/results/dashboard/patchsets/33546/ UNH-IOL DPDK Community Lab To manage your email subscriptions, visit: https://lab.dpdk.org/results/dashboard/preferences/subscriptions/