From mboxrd@z Thu Jan 1 00:00:00 1970 Return-Path: Received: from mails.dpdk.org (mails.dpdk.org [217.70.189.124]) by inbox.dpdk.org (Postfix) with ESMTP id B892146AC2 for ; Tue, 1 Jul 2025 01:36:30 +0200 (CEST) Received: from mails.dpdk.org (localhost [127.0.0.1]) by mails.dpdk.org (Postfix) with ESMTP id 8B8A540269; Tue, 1 Jul 2025 01:36:30 +0200 (CEST) Received: from mail-yb1-f225.google.com (mail-yb1-f225.google.com [209.85.219.225]) by mails.dpdk.org (Postfix) with ESMTP id 6A3BD40269 for ; Tue, 1 Jul 2025 01:36:28 +0200 (CEST) Received: by mail-yb1-f225.google.com with SMTP id 3f1490d57ef6-e73e9e18556so5030729276.0 for ; Mon, 30 Jun 2025 16:36:28 -0700 (PDT) DKIM-Signature: v=1; a=rsa-sha256; c=relaxed/relaxed; d=iol.unh.edu; s=unh-iol; t=1751326587; x=1751931387; darn=dpdk.org; h=references:in-reply-to:cc:to:from:subject:message-id:date:from:to :cc:subject:date:message-id:reply-to; bh=9pyitBN4kRbQ7PiHQckbBswklhPCOxMK1Sd8gi9LofI=; b=VCqk0FtVWD3Jn6GJZt7z3q1PqGiOAauresCO5NCS7BQjb8YBBiXL1a7jadKLXIlrZQ BaUeQEJO1iHBnEWRzBqHwSOZpPm1eyi0pcjcS7nKNF20uy4G1RrffFni24rHaQmTrLFt tXt8RLq4CJyIFfpjbg6zMhFivyc4WbOiYQOBw= X-Google-DKIM-Signature: v=1; a=rsa-sha256; c=relaxed/relaxed; d=1e100.net; s=20230601; t=1751326587; x=1751931387; h=references:in-reply-to:cc:to:from:subject:message-id:date :x-gm-message-state:from:to:cc:subject:date:message-id:reply-to; bh=9pyitBN4kRbQ7PiHQckbBswklhPCOxMK1Sd8gi9LofI=; b=fi9zVqDUDk0FJDC7f7E62vS4Qd69qbG3R6PqIu571mRFAU+r1qw/ix5EjskDZewgs/ qVl9488c7XcHE/RttUJ/G0VyLdXsUQAqbCX0CiplO7jRogsF5CApWPz3zH117slsJKnB O9GCW8Cx5cZPWx9eJI0SpS3AQCcp8KlTVfkQuYFjETWjpjaFS80l3HvGAiKx8WeqcjJE mb4jGeZRuZ3X6CxNlIQk3G6BITSibW2a59AgeYbRHU8uVfRE0nmLpadbzG9jPxrhpZCQ +JxAztIqSDiMyAH6uXrWyTzo3/hQHm0QAHmUrZsC0ecA1y76J9OcAod770MCLYY4lH0V tfhg== X-Gm-Message-State: AOJu0YyQXtw0zDA24Q/i4Bu7WQfWyJPP13SLwwLMParyn4gsggCuPaER HweX24NDlYVALpK6xvSdtDF3f7LS16M4PFBuBEraeGtE13/fRi+rAjn1l/lHkasy6A4uwsMyc56 l0WKC3Ix1GgMEbKGhAt8FY5VvIIo4fzBL4f3kz2pe8wlP X-Gm-Gg: ASbGncuCcq+rOMpnxuNumZ0PaphtQp7+OJ6za7Mo6WyGxPgh7AN3FOCyoYv9qbvea7c AO7uLTxGCxP9yC9kwcDGtZFFDAPxWx3cqh+scmMlxDf+SXqRqb26qkuyZTTEhNzu0PhPOHyqAlq ZB4FD43CRJ8cR1/18cn1J2r8NhdyG3vaEnSzE81qt13Y4IhIdZv1JioB5yJq6j6AGvmVIJcOBVw UXjhRVNjW48YAKez+W7Byor+NnhMiWWNQsCCd8E9Wjzaa4A9Ao3RRNyAsJKPJv3MkGABn0Xa080 rK9141Rk4Tn9b2dBA2ddEOuNHiq+psfHfYc0zSs9+ZsPRSM+bmANS9zNHHalAElaBb5JUQ== X-Google-Smtp-Source: AGHT+IHBFNWNLqE4lXzW2X5Q3uTlx0amZ98hC5YHr1pKdQjNs0H+v47ajP5EoBTGOIETn4anrAuXEPHlEc6Y X-Received: by 2002:a05:6902:10c1:b0:e84:ec62:9819 with SMTP id 3f1490d57ef6-e896ee6eb6emr2345580276.3.1751326587708; Mon, 30 Jun 2025 16:36:27 -0700 (PDT) Received: from postal.iol.unh.edu (postal.iol.unh.edu. [132.177.123.84]) by smtp-relay.gmail.com with ESMTPS id 3f1490d57ef6-e87a6c0a635sm428183276.20.2025.06.30.16.36.27 (version=TLS1_2 cipher=ECDHE-ECDSA-AES128-GCM-SHA256 bits=128/128); Mon, 30 Jun 2025 16:36:27 -0700 (PDT) X-Relaying-Domain: iol.unh.edu Date: Mon, 30 Jun 2025 16:36:27 -0700 (PDT) Message-ID: <68631f7b.250a0220.398671.8c4fSMTPIN_ADDED_MISSING@mx.google.com> Received: from [172.17.0.2] (unknown [172.18.0.76]) by postal.iol.unh.edu (Postfix) with ESMTP id 701FB6051830; Mon, 30 Jun 2025 19:36:27 -0400 (EDT) Subject: |SUCCESS| pw154850-154856 [PATCH] [7/7] net/ena: upgrade driver vers From: dpdklab@iol.unh.edu To: Test Report Cc: dpdk-test-reports@iol.unh.edu In-Reply-To: <20250630111624.3677-1-shaibran@amazon.com> References: <20250630111624.3677-1-shaibran@amazon.com> Content-Type: text/plain X-BeenThere: test-report@dpdk.org X-Mailman-Version: 2.1.29 Precedence: list List-Id: automatic DPDK test reports List-Unsubscribe: , List-Archive: List-Post: List-Help: List-Subscribe: , Errors-To: test-report-bounces@dpdk.org Test-Label: iol-compile-arm64-testing Test-Status: SUCCESS http://dpdk.org/patch/154856 _Testing PASS_ Submitter: Brandes, Shai Date: Monday, June 30 2025 11:16:24 DPDK git baseline: Repo:dpdk Branch: master CommitID:798e267824a5b9018fff6e0dc37e9a9f1f73e8fb 154850-154856 --> testing pass Upstream job id: Generic-DPDK-Compile-Meson#403782 Test environment and result as below: +------------------------------+--------------------+ | Environment | dpdk_meson_compile | +==============================+====================+ | Red Hat Enterprise Linux 9.5 | PASS | +------------------------------+--------------------+ | Ubuntu 20.04 | PASS | +------------------------------+--------------------+ | Debian GNU/Linux 12 | PASS | +------------------------------+--------------------+ | Fedora Linux 40 | PASS | +------------------------------+--------------------+ | Fedora Linux 41 | PASS | +------------------------------+--------------------+ | Ubuntu 22.04 | PASS | +------------------------------+--------------------+ | Ubuntu 24.04 | PASS | +------------------------------+--------------------+ | CentOS Stream 9 | PASS | +------------------------------+--------------------+ | CentOS Stream 10 | PASS | +------------------------------+--------------------+ Red Hat Enterprise Linux 9.5 Kernel: 5.4 Compiler: gcc gcc (GCC) 11.5.0 20240719 (Red Hat 11.5.0-2) Ubuntu 20.04 Kernel: 5.15 Compiler: aarch64-linux-gnu-gcc gcc (Ubuntu 9.4.0-1ubuntu1~20.04.2) 9.4.0 Debian GNU/Linux 12 Kernel: 5.4 Compiler: gcc gcc (Debian 12.2.0-14+deb12u1) 12.2.0 Fedora Linux 40 Kernel: 5.4 Compiler: gcc gcc (GCC) 14.2.1 20240912 (Red Hat 14.2.1-3) Fedora Linux 41 Kernel: 5.4 Compiler: gcc gcc (GCC) 14.3.1 20250523 (Red Hat 14.3.1-1) Ubuntu 22.04 Kernel: 5.4 Compiler: gcc gcc (Ubuntu 11.4.0-1ubuntu1~22.04) 11.4.0 Ubuntu 24.04 Kernel: 5.4 Compiler: gcc gcc (Ubuntu 13.3.0-6ubuntu2~24.04) 13.3.0 CentOS Stream 9 Kernel: 5.4 Compiler: gcc gcc (GCC) 11.5.0 20240719 (Red Hat 11.5.0-7) CentOS Stream 10 Kernel: 5.4 Compiler: gcc gcc (GCC) 14.2.1 20250110 (Red Hat 14.2.1-8) To view detailed results, visit: https://lab.dpdk.org/results/dashboard/patchsets/33543/ UNH-IOL DPDK Community Lab To manage your email subscriptions, visit: https://lab.dpdk.org/results/dashboard/preferences/subscriptions/