From mboxrd@z Thu Jan 1 00:00:00 1970 Return-Path: Received: from mails.dpdk.org (mails.dpdk.org [217.70.189.124]) by inbox.dpdk.org (Postfix) with ESMTP id A97F146AC2 for ; Tue, 1 Jul 2025 01:36:54 +0200 (CEST) Received: from mails.dpdk.org (localhost [127.0.0.1]) by mails.dpdk.org (Postfix) with ESMTP id A457840269; Tue, 1 Jul 2025 01:36:54 +0200 (CEST) Received: from mail-pl1-f226.google.com (mail-pl1-f226.google.com [209.85.214.226]) by mails.dpdk.org (Postfix) with ESMTP id E4BC840269 for ; Tue, 1 Jul 2025 01:36:52 +0200 (CEST) Received: by mail-pl1-f226.google.com with SMTP id d9443c01a7336-237311f5a54so22506515ad.2 for ; Mon, 30 Jun 2025 16:36:52 -0700 (PDT) DKIM-Signature: v=1; a=rsa-sha256; c=relaxed/relaxed; d=iol.unh.edu; s=unh-iol; t=1751326612; x=1751931412; darn=dpdk.org; h=references:in-reply-to:cc:to:from:subject:message-id:date:from:to :cc:subject:date:message-id:reply-to; bh=pX2soThVk09uKx0mErOpZNjcmud6a6i8Ot3ek3g87p8=; b=Uv+MgJFtnv2d8oPiU5ayXhAGvjmRMhYJf4+xacSeuvAjpeurXsKMDPnj2WQjQn2xGO Sg3LDCYR3e8WqffW3CnsCLmdKlBWE2k+lrT0FcyrfuGJE9oBHG9tVJSG23YmO7peUOmA ZUBRsi0Nm/PL7SRhTzLzE/1ISQFDI8XLn6DS4= X-Google-DKIM-Signature: v=1; a=rsa-sha256; c=relaxed/relaxed; d=1e100.net; s=20230601; t=1751326612; x=1751931412; h=references:in-reply-to:cc:to:from:subject:message-id:date :x-gm-message-state:from:to:cc:subject:date:message-id:reply-to; bh=pX2soThVk09uKx0mErOpZNjcmud6a6i8Ot3ek3g87p8=; b=A8rZV3U8xhJ8PAVCjex2eSMP7TPzldFWVZJMjbRvFDOjZjkAgzw3gk7OASX6FdIY2b ae4omqYD099gREzZGjrZXLFrQz9sty7UI7EZhAck2l1jPQhofIyDEwVkv9Pp3qL9EaWG EQ0LOzERjw02tm8TywF9sCZgpAFl/eUIcNIZK1dkJD5mDHexnlZti+QoXTffEBrqLb+T D0P2V2jyvWwu+O6iZnqNAddiqBSXGMEd80wdojfu2DT3aM4/JtUQT11MPaFJoT5jN3uv bojMeJQdUcP6LPpwU9gpXEM5YOjDNR84zkJazYXbatv4D3gVCvVVpml+90Z2AjKHMa+b EHxw== X-Gm-Message-State: AOJu0YyMI69EMz06o6VEkEbrEBPFK3G6tZXM3jaqfRrhD5SsRe9u8LIV +w7jYYukPgEuDHA24cBJCngpsHapFjTajlRNe15zTxQfT+JekoilfPWwmbiTPDRwVM5FOwWgecD Skth2Avh1YmZqLpf6YaggyEYyOjzD1sktxNO+HhTiQhKH X-Gm-Gg: ASbGncsi0qNbDJ9TfZgbn7dOPBZTSToRQCdw9bX+Iar+t3PPbiYIoHfRhifQUPieEoa eJFxyRJ3jr7U6k+Tfd9huaI4wsUt7fKxxtr19ozbTCTjCdDlgAKhAGiiJFa7EzvYOugpo7p+JaI d6Orw02MiDGBJIcVgtLyXoeNdXAOfO4Kg0uLvY4aFlrlzrKahvgXGE51qXhtgH30TR+svAEDIMV 2dJ1UkH6+kd8xaU1Rxer3SdSkAhaqjHDsR7KPs7eScfxVB9/ZeAyrHODBxg5KFzT3ErBhRhsDon paSMNeFiP7VsNfDxO0RqH7S//U8g262MZ8OL0NcokuQpv2FUxvu9k2Cx7AG3YbpKro5O1w== X-Google-Smtp-Source: AGHT+IGfR/kEvp8A5IXfZtfYI4kCCMAab3L7u5MMjjPxLIKpqYBzYwYwZzg3359GvoYf0vB/pFAxxwzgAE4k X-Received: by 2002:a17:903:98f:b0:235:efbb:9539 with SMTP id d9443c01a7336-23ac3afd85cmr227818435ad.17.1751326612008; Mon, 30 Jun 2025 16:36:52 -0700 (PDT) Received: from postal.iol.unh.edu (postal.iol.unh.edu. [132.177.123.84]) by smtp-relay.gmail.com with ESMTPS id d9443c01a7336-23acb2e3d83sm4767685ad.14.2025.06.30.16.36.51 (version=TLS1_2 cipher=ECDHE-ECDSA-AES128-GCM-SHA256 bits=128/128); Mon, 30 Jun 2025 16:36:52 -0700 (PDT) X-Relaying-Domain: iol.unh.edu Date: Mon, 30 Jun 2025 16:36:52 -0700 (PDT) Message-ID: <68631f94.170a0220.23868.ac3cSMTPIN_ADDED_MISSING@mx.google.com> Received: from [172.17.0.2] (unknown [172.18.0.74]) by postal.iol.unh.edu (Postfix) with ESMTP id 81D7C6051830; Mon, 30 Jun 2025 19:36:51 -0400 (EDT) Subject: |SUCCESS| pw154850-154856 [PATCH] [7/7] net/ena: upgrade driver vers From: dpdklab@iol.unh.edu To: Test Report Cc: dpdk-test-reports@iol.unh.edu In-Reply-To: <20250630111624.3677-1-shaibran@amazon.com> References: <20250630111624.3677-1-shaibran@amazon.com> Content-Type: text/plain X-BeenThere: test-report@dpdk.org X-Mailman-Version: 2.1.29 Precedence: list List-Id: automatic DPDK test reports List-Unsubscribe: , List-Archive: List-Post: List-Help: List-Subscribe: , Errors-To: test-report-bounces@dpdk.org Test-Label: iol-compile-arm64-testing Test-Status: SUCCESS http://dpdk.org/patch/154856 _Testing PASS_ Submitter: Brandes, Shai Date: Monday, June 30 2025 11:16:24 DPDK git baseline: Repo:dpdk Branch: master CommitID:798e267824a5b9018fff6e0dc37e9a9f1f73e8fb 154850-154856 --> testing pass Upstream job id: Generic-DPDK-Compile-Meson#403784 Test environment and result as below: +------------------------------+--------------------+ | Environment | dpdk_meson_compile | +==============================+====================+ | Red Hat Enterprise Linux 9.5 | PASS | +------------------------------+--------------------+ | Ubuntu 20.04 | PASS | +------------------------------+--------------------+ | Debian GNU/Linux 12 | PASS | +------------------------------+--------------------+ | Fedora Linux 40 | PASS | +------------------------------+--------------------+ | Fedora Linux 41 | PASS | +------------------------------+--------------------+ | Ubuntu 22.04 | PASS | +------------------------------+--------------------+ | Ubuntu 24.04 | PASS | +------------------------------+--------------------+ | CentOS Stream 9 | PASS | +------------------------------+--------------------+ | CentOS Stream 10 | PASS | +------------------------------+--------------------+ Red Hat Enterprise Linux 9.5 Kernel: 5.4 Compiler: gcc gcc (GCC) 11.5.0 20240719 (Red Hat 11.5.0-2) Ubuntu 20.04 Kernel: 5.15 Compiler: aarch64-linux-gnu-gcc gcc (Ubuntu 9.4.0-1ubuntu1~20.04.2) 9.4.0 Debian GNU/Linux 12 Kernel: 5.4 Compiler: gcc gcc (Debian 12.2.0-14+deb12u1) 12.2.0 Fedora Linux 40 Kernel: 5.4 Compiler: gcc gcc (GCC) 14.2.1 20240912 (Red Hat 14.2.1-3) Fedora Linux 41 Kernel: 5.4 Compiler: gcc gcc (GCC) 14.3.1 20250523 (Red Hat 14.3.1-1) Ubuntu 22.04 Kernel: 5.4 Compiler: gcc gcc (Ubuntu 11.4.0-1ubuntu1~22.04) 11.4.0 Ubuntu 24.04 Kernel: 5.4 Compiler: gcc gcc (Ubuntu 13.3.0-6ubuntu2~24.04) 13.3.0 CentOS Stream 9 Kernel: 5.4 Compiler: gcc gcc (GCC) 11.5.0 20240719 (Red Hat 11.5.0-7) CentOS Stream 10 Kernel: 5.4 Compiler: gcc gcc (GCC) 14.2.1 20250110 (Red Hat 14.2.1-8) To view detailed results, visit: https://lab.dpdk.org/results/dashboard/patchsets/33543/ UNH-IOL DPDK Community Lab To manage your email subscriptions, visit: https://lab.dpdk.org/results/dashboard/preferences/subscriptions/