From mboxrd@z Thu Jan 1 00:00:00 1970 Return-Path: Received: from mails.dpdk.org (mails.dpdk.org [217.70.189.124]) by inbox.dpdk.org (Postfix) with ESMTP id 18E9C46AC5 for ; Tue, 1 Jul 2025 01:49:50 +0200 (CEST) Received: from mails.dpdk.org (localhost [127.0.0.1]) by mails.dpdk.org (Postfix) with ESMTP id E3D4E40269; Tue, 1 Jul 2025 01:49:49 +0200 (CEST) Received: from mail-qv1-f99.google.com (mail-qv1-f99.google.com [209.85.219.99]) by mails.dpdk.org (Postfix) with ESMTP id 0422740269 for ; Tue, 1 Jul 2025 01:49:48 +0200 (CEST) Received: by mail-qv1-f99.google.com with SMTP id 6a1803df08f44-700c7e4c048so36681106d6.3 for ; Mon, 30 Jun 2025 16:49:48 -0700 (PDT) DKIM-Signature: v=1; a=rsa-sha256; c=relaxed/relaxed; d=iol.unh.edu; s=unh-iol; t=1751327388; x=1751932188; darn=dpdk.org; h=references:in-reply-to:cc:to:from:subject:message-id:date:from:to :cc:subject:date:message-id:reply-to; bh=lvQglbHQSW9tdpgRXhD9ppsiyRr9I4I6D1+2dCX2KZ8=; b=MNojurDwf3/uemJ3Ug+iijErjcZX7v4cpReH4BpWA3IWBGRF6HRHxB0M+QCnO47p/v CvPByzCGwmzf3vLo/VkynwrjD7J9Q684V4h+lSbi6DZgRYQ6GtwlfK+WLrPhhketmpzr wbyVLnv5WEfg2bJJ2T2A+fScsl5wKJRqJYJVo= X-Google-DKIM-Signature: v=1; a=rsa-sha256; c=relaxed/relaxed; d=1e100.net; s=20230601; t=1751327388; x=1751932188; h=references:in-reply-to:cc:to:from:subject:message-id:date :x-gm-message-state:from:to:cc:subject:date:message-id:reply-to; bh=lvQglbHQSW9tdpgRXhD9ppsiyRr9I4I6D1+2dCX2KZ8=; b=rwFnw6rnmVKfXm9+2eZ7HCJF/RYMf2XKCNpAN1lEs6FEdimTbnnGMlJolBc6ggJOOD Jm02v0pqH+J3iXNdx9wmbgjuZXwyibuy6qkzANlVlxgu3sI+LjKH1EXCjPkR0U8QrEhm M/Sn9kukYz4myuBdljpBvMwUZptfNppKkkit9oAaftpxhuqgFFLj8alSZg8m6Lky7Cye McNI1vdHQm6QPJyx3n7tnm+VQQMYKm4mxhM7m00Twm21YPmfWL6wQdC/dnfV7EluK2gy CScIlTzuAq8dEfXc08r7CzkrcKitH3r4rQu55t9tD5LFoAUWPYONdHcH4pjKwDJXZ8Lo nwlQ== X-Gm-Message-State: AOJu0YzfTtq++0G/kOWt/wqpKE0YN+GzxtTTYf/i6LI6hmLn0lI/wjqi Nln2DXDMrsNmZWeR1aPSV2aSw3XQMPGL2VLsS8oUFMyXME10nMnCS2hydXnW+gHnJz0X4a9er0x kPxA0nuNl2vROvh7Ddnh45WU0mtA371oniVvFetchC70F X-Gm-Gg: ASbGnctUMYisMp2WfLoQ+2tNrq4Yqv0a+cKUU5g2Fuecng+XBALCAoPhteWq1+9yZrj qLu2xysA8sHNulPKuKCzRaSDXn2GFAL3brkdjvCcdbkv5Syjr9HJ4y5EUcc2BjKP327It4oOs9T 9kPiMJW7V0a6heZkRlYSKt16LaUQHtnca91xMwhoymPmTxTzMHjVQsHruvO61GGMshAV7N9Pblr dh+GD1J2nHVW19GyQRXyxEELce2C0ZdheMURZBT5xhxJ1u8W5KPeXpRZcPLn4euCFShXzu7YVoY SoBA0Ogc56E+FUKnKHCuKtFQIsrsxoM74DYyWHfAo/6rhOAk7vUzo4OpIP4sFchU67jfPw== X-Google-Smtp-Source: AGHT+IF1L9bdkT7uaatPu6wUhh49a/33A4UbsK9pmMEv2bUBxC61MG3UCwZvnMGOlXTtWeJUsvegPjh7R9TH X-Received: by 2002:a05:6214:5784:b0:6fa:cc39:95 with SMTP id 6a1803df08f44-6fffdcfe051mr207597466d6.11.1751327388320; Mon, 30 Jun 2025 16:49:48 -0700 (PDT) Received: from postal.iol.unh.edu (postal.iol.unh.edu. [132.177.123.84]) by smtp-relay.gmail.com with ESMTPS id 6a1803df08f44-6fd771a6ff0sm5814926d6.19.2025.06.30.16.49.48 (version=TLS1_2 cipher=ECDHE-ECDSA-AES128-GCM-SHA256 bits=128/128); Mon, 30 Jun 2025 16:49:48 -0700 (PDT) X-Relaying-Domain: iol.unh.edu Date: Mon, 30 Jun 2025 16:49:48 -0700 (PDT) Message-ID: <6863229c.d40a0220.3c4e62.fc32SMTPIN_ADDED_MISSING@mx.google.com> Received: from [172.17.0.2] (unknown [172.18.0.76]) by postal.iol.unh.edu (Postfix) with ESMTP id 0E8636051830; Mon, 30 Jun 2025 19:49:48 -0400 (EDT) Subject: |SUCCESS| pw154860 [PATCH] [v2] test/argparse: change initialization From: dpdklab@iol.unh.edu To: Test Report Cc: dpdk-test-reports@iol.unh.edu In-Reply-To: <20250630145934.56969-1-stephen@networkplumber.org> References: <20250630145934.56969-1-stephen@networkplumber.org> Content-Type: text/plain X-BeenThere: test-report@dpdk.org X-Mailman-Version: 2.1.29 Precedence: list List-Id: automatic DPDK test reports List-Unsubscribe: , List-Archive: List-Post: List-Help: List-Subscribe: , Errors-To: test-report-bounces@dpdk.org Test-Label: iol-compile-arm64-testing Test-Status: SUCCESS http://dpdk.org/patch/154860 _Testing PASS_ Submitter: Stephen Hemminger Date: Monday, June 30 2025 14:58:49 DPDK git baseline: Repo:dpdk Branch: master CommitID:20460dcffd08a4680f881c39916ae783ee830374 154860 --> testing pass Upstream job id: Generic-DPDK-Compile-Meson#403800 Test environment and result as below: +------------------------------+--------------------+ | Environment | dpdk_meson_compile | +==============================+====================+ | Red Hat Enterprise Linux 9.5 | PASS | +------------------------------+--------------------+ | Ubuntu 20.04 | PASS | +------------------------------+--------------------+ | Debian GNU/Linux 12 | PASS | +------------------------------+--------------------+ | Fedora Linux 40 | PASS | +------------------------------+--------------------+ | Fedora Linux 41 | PASS | +------------------------------+--------------------+ | Ubuntu 22.04 | PASS | +------------------------------+--------------------+ | Ubuntu 24.04 | PASS | +------------------------------+--------------------+ | CentOS Stream 9 | PASS | +------------------------------+--------------------+ | CentOS Stream 10 | PASS | +------------------------------+--------------------+ Red Hat Enterprise Linux 9.5 Kernel: 5.4 Compiler: gcc gcc (GCC) 11.5.0 20240719 (Red Hat 11.5.0-2) Ubuntu 20.04 Kernel: 5.15 Compiler: aarch64-linux-gnu-gcc gcc (Ubuntu 9.4.0-1ubuntu1~20.04.2) 9.4.0 Debian GNU/Linux 12 Kernel: 5.4 Compiler: gcc gcc (Debian 12.2.0-14+deb12u1) 12.2.0 Fedora Linux 40 Kernel: 5.4 Compiler: gcc gcc (GCC) 14.2.1 20240912 (Red Hat 14.2.1-3) Fedora Linux 41 Kernel: 5.4 Compiler: gcc gcc (GCC) 14.3.1 20250523 (Red Hat 14.3.1-1) Ubuntu 22.04 Kernel: 5.4 Compiler: gcc gcc (Ubuntu 11.4.0-1ubuntu1~22.04) 11.4.0 Ubuntu 24.04 Kernel: 5.4 Compiler: gcc gcc (Ubuntu 13.3.0-6ubuntu2~24.04) 13.3.0 CentOS Stream 9 Kernel: 5.4 Compiler: gcc gcc (GCC) 11.5.0 20240719 (Red Hat 11.5.0-7) CentOS Stream 10 Kernel: 5.4 Compiler: gcc gcc (GCC) 14.2.1 20250110 (Red Hat 14.2.1-8) To view detailed results, visit: https://lab.dpdk.org/results/dashboard/patchsets/33545/ UNH-IOL DPDK Community Lab To manage your email subscriptions, visit: https://lab.dpdk.org/results/dashboard/preferences/subscriptions/