From mboxrd@z Thu Jan 1 00:00:00 1970 Return-Path: Received: from mails.dpdk.org (mails.dpdk.org [217.70.189.124]) by inbox.dpdk.org (Postfix) with ESMTP id 41ADD46AC6 for ; Tue, 1 Jul 2025 02:24:53 +0200 (CEST) Received: from mails.dpdk.org (localhost [127.0.0.1]) by mails.dpdk.org (Postfix) with ESMTP id 3A0FF40269; Tue, 1 Jul 2025 02:24:53 +0200 (CEST) Received: from mail-il1-f227.google.com (mail-il1-f227.google.com [209.85.166.227]) by mails.dpdk.org (Postfix) with ESMTP id C31DD402B1 for ; Tue, 1 Jul 2025 02:24:51 +0200 (CEST) Received: by mail-il1-f227.google.com with SMTP id e9e14a558f8ab-3df2f937370so16390055ab.3 for ; Mon, 30 Jun 2025 17:24:51 -0700 (PDT) DKIM-Signature: v=1; a=rsa-sha256; c=relaxed/relaxed; d=iol.unh.edu; s=unh-iol; t=1751329491; x=1751934291; darn=dpdk.org; h=references:in-reply-to:cc:to:from:subject:message-id:date:from:to :cc:subject:date:message-id:reply-to; bh=vAkz6zd33QEQ7cxdCEv4P/wIOUuytzGnIA3lmc1j6bk=; b=E+Yo8IfmM61VO4QBhpKmVVN3sTaUsyeDwbZl7yDwh7tvz5toYQgCA8SAqqviJyNMWG slcbFDOqDhX+NjKWGa79nhY/8VtqWmYmaylpn7gp2RiZEWhm1qnAwKpSWGGSxtQlFZEb h6heAesGkKQb4byY8JuGDxSygEWlV/ml+68Ec= X-Google-DKIM-Signature: v=1; a=rsa-sha256; c=relaxed/relaxed; d=1e100.net; s=20230601; t=1751329491; x=1751934291; h=references:in-reply-to:cc:to:from:subject:message-id:date :x-gm-message-state:from:to:cc:subject:date:message-id:reply-to; bh=vAkz6zd33QEQ7cxdCEv4P/wIOUuytzGnIA3lmc1j6bk=; b=B0yrCxzxuycYGqYE42wYSeZ6lkNxB+vIBZ8KcTpNYp0bBiqWtc0+BPtREwGLeXK8Ng rsR5EJtWYk943GqYS5D+4mrBhOVENPEA+ti4pWG/r8xQuoKFYcbR3U2CIwXdNtBelBPV IYvdhGnGUcZ5z3ild1FsQeM6xey/od4iJ7jc0kHynTzg7w42tV/XxnKPTR1Qh/BE3VE0 Ska1oEqUzX8hwj6EGJ1lS/a1eM+KrxXgfRAmdgXRh3s2nz9Lz584ewE0DS6eauiVQVdb mseHv4pLHvbkINAMa8sIWPI/1HfU/Af/huw3CIWbavrbFNCh5Lbevd13NZELhqDHJ2LV Zo6A== X-Gm-Message-State: AOJu0YwyHOTkhQsKcMQe2p0HhX4+5ukRj+maP3pDXwqhl+VmzgUw0V4i SUOZrRVvq23gMysD+WDHIYs7qq+wcXV31NWKcOZGV6fRgRkOfm8tZ4sXD1bM0YGJXg37yAj+RZn EWsz+Lx0QH79beNL0UQnku/ALBq9C4qHc5TnKP05UakFs X-Gm-Gg: ASbGncuPKnK+/w0vPHCA1L7HWMvDZTxUWhe+/bRjkGr9SupH44Bj6ht5T+B5lTJq1Em dP8dkVy8Gv9XRNuyaXcLQu5CDQETn/BLZJetMsYYYyoHnBF1BTgPkwiCYCJNGT30hMyn/6BD8/T 7to5Y7m6ttG/4SOlXlTLL/snTUqB7XQTE808n/+uz8dWVX9jG+LM1i/xXHsF9gj4tzLhjqGnyP+ eL4moWuiY9/tJucWshwQiE1qfNIhru+PCGiodVJf8maDputEMCG+hLO2WnI/oyzuXw/V1ZKpqsw Ji4MzksIyKlhVzr/DwZznOjE5YcmRpWyy/JKPeXe5O7zH9qYYeSLNWQ8KP7qAnZkt4mMMA== X-Google-Smtp-Source: AGHT+IGPY9ghgdO3pYo3G/EzXJIlrTq/E2W8LowtsWXH1gmE080PlTPe2S1iN7ePVoQgVpWJJ/DNRsL1lIP4 X-Received: by 2002:a05:6e02:370c:b0:3dc:7f3b:aca9 with SMTP id e9e14a558f8ab-3df4ab87e8amr161966575ab.14.1751329491001; Mon, 30 Jun 2025 17:24:51 -0700 (PDT) Received: from postal.iol.unh.edu (postal.iol.unh.edu. [132.177.123.84]) by smtp-relay.gmail.com with ESMTPS id e9e14a558f8ab-3df4a0a93ebsm5187185ab.36.2025.06.30.17.24.50 (version=TLS1_2 cipher=ECDHE-ECDSA-AES128-GCM-SHA256 bits=128/128); Mon, 30 Jun 2025 17:24:50 -0700 (PDT) X-Relaying-Domain: iol.unh.edu Date: Mon, 30 Jun 2025 17:24:50 -0700 (PDT) Message-ID: <68632ad2.050a0220.2d2307.c43aSMTPIN_ADDED_MISSING@mx.google.com> Received: from [172.17.0.2] (unknown [172.18.0.74]) by postal.iol.unh.edu (Postfix) with ESMTP id 822A86051830; Mon, 30 Jun 2025 20:24:50 -0400 (EDT) Subject: |SUCCESS| pw154861 [PATCH] [v2] eal: deprecate old coremask-based EA From: dpdklab@iol.unh.edu To: Test Report Cc: dpdk-test-reports@iol.unh.edu In-Reply-To: <20250630153752.2361112-1-bruce.richardson@intel.com> References: <20250630153752.2361112-1-bruce.richardson@intel.com> Content-Type: text/plain X-BeenThere: test-report@dpdk.org X-Mailman-Version: 2.1.29 Precedence: list List-Id: automatic DPDK test reports List-Unsubscribe: , List-Archive: List-Post: List-Help: List-Subscribe: , Errors-To: test-report-bounces@dpdk.org Test-Label: iol-unit-arm64-testing Test-Status: SUCCESS http://dpdk.org/patch/154861 _Testing PASS_ Submitter: Bruce Richardson Date: Monday, June 30 2025 15:37:34 DPDK git baseline: Repo:dpdk Branch: master CommitID:20460dcffd08a4680f881c39916ae783ee830374 154861 --> testing pass Upstream job id: Generic-Unit-Test-DPDK#351173 Test environment and result as below: +------------------------------+----------------+--------------+------------------------------+---------------------------+ | Environment | dpdk_unit_test | lpm_autotest | cryptodev_sw_snow3g_autotest | cryptodev_sw_zuc_autotest | +==============================+================+==============+==============================+===========================+ | CentOS Stream 9 | PASS | SKIPPED | SKIPPED | SKIPPED | +------------------------------+----------------+--------------+------------------------------+---------------------------+ | Debian GNU/Linux 12 | PASS | SKIPPED | SKIPPED | SKIPPED | +------------------------------+----------------+--------------+------------------------------+---------------------------+ | Fedora Linux 41 | PASS | SKIPPED | SKIPPED | SKIPPED | +------------------------------+----------------+--------------+------------------------------+---------------------------+ | Fedora Linux 40 | PASS | SKIPPED | SKIPPED | SKIPPED | +------------------------------+----------------+--------------+------------------------------+---------------------------+ | CentOS Stream 10 | PASS | SKIPPED | SKIPPED | SKIPPED | +------------------------------+----------------+--------------+------------------------------+---------------------------+ | Ubuntu 20.04 | PASS | PASS | SKIPPED | SKIPPED | +------------------------------+----------------+--------------+------------------------------+---------------------------+ | Red Hat Enterprise Linux 9.5 | PASS | SKIPPED | SKIPPED | SKIPPED | +------------------------------+----------------+--------------+------------------------------+---------------------------+ | Ubuntu 22.04 | PASS | SKIPPED | SKIPPED | SKIPPED | +------------------------------+----------------+--------------+------------------------------+---------------------------+ | Ubuntu 24.04 | PASS | SKIPPED | SKIPPED | SKIPPED | +------------------------------+----------------+--------------+------------------------------+---------------------------+ | Debian 12 (arm) | SKIPPED | SKIPPED | PASS | PASS | +------------------------------+----------------+--------------+------------------------------+---------------------------+ CentOS Stream 9 Kernel: 5.4 Compiler: gcc gcc (GCC) 11.5.0 20240719 (Red Hat 11.5.0-7) Debian GNU/Linux 12 Kernel: 5.4 Compiler: gcc gcc (Debian 12.2.0-14+deb12u1) 12.2.0 Fedora Linux 41 Kernel: 5.4 Compiler: clang gcc (GCC) 14.3.1 20250523 (Red Hat 14.3.1-1) Fedora Linux 40 Kernel: 5.4 Compiler: clang gcc (GCC) 14.2.1 20240912 (Red Hat 14.2.1-3) CentOS Stream 10 Kernel: 5.4 Compiler: gcc gcc (GCC) 14.2.1 20250110 (Red Hat 14.2.1-8) Ubuntu 20.04 Kernel: 5.4 Compiler: gcc gcc (Ubuntu 9.4.0-1ubuntu1~20.04.2) 9.4.0 Red Hat Enterprise Linux 9.5 Kernel: 5.4 Compiler: gcc gcc (GCC) 11.5.0 20240719 (Red Hat 11.5.0-2) Ubuntu 22.04 Kernel: 5.4 Compiler: gcc gcc (Ubuntu 11.4.0-1ubuntu1~22.04) 11.4.0 Ubuntu 24.04 Kernel: 5.4 Compiler: gcc gcc (Ubuntu 13.3.0-6ubuntu2~24.04) 13.3.0 Debian 12 (arm) Kernel: Depends on container host Compiler: gcc (Debian 12.2.0-14) 12.2.0 To view detailed results, visit: https://lab.dpdk.org/results/dashboard/patchsets/33546/ UNH-IOL DPDK Community Lab To manage your email subscriptions, visit: https://lab.dpdk.org/results/dashboard/preferences/subscriptions/