From mboxrd@z Thu Jan 1 00:00:00 1970 Return-Path: Received: from mails.dpdk.org (mails.dpdk.org [217.70.189.124]) by inbox.dpdk.org (Postfix) with ESMTP id CC78E46AC6 for ; Tue, 1 Jul 2025 03:35:03 +0200 (CEST) Received: from mails.dpdk.org (localhost [127.0.0.1]) by mails.dpdk.org (Postfix) with ESMTP id A621840269; Tue, 1 Jul 2025 03:35:03 +0200 (CEST) Received: from mail-il1-f227.google.com (mail-il1-f227.google.com [209.85.166.227]) by mails.dpdk.org (Postfix) with ESMTP id 0E46C40269 for ; Tue, 1 Jul 2025 03:35:03 +0200 (CEST) Received: by mail-il1-f227.google.com with SMTP id e9e14a558f8ab-3de18fde9cfso15834225ab.3 for ; Mon, 30 Jun 2025 18:35:02 -0700 (PDT) DKIM-Signature: v=1; a=rsa-sha256; c=relaxed/relaxed; d=iol.unh.edu; s=unh-iol; t=1751333702; x=1751938502; darn=dpdk.org; h=references:in-reply-to:cc:to:from:subject:message-id:date:from:to :cc:subject:date:message-id:reply-to; bh=Xncfn8Cof0mygeI759u+zRJJv+tgH8KRYma2W+b2RS8=; b=UX9AmauaTj1hF92VAuzyMkWpiIevtAcSvPh+Qu+biYUqSrvXQnUN3JdaDaLpkW/RQu gw5A5EFCUzsjzfHDojzowVFD7AOfTQC5lofuXA2w55hwRIjwcyq2/9bTx2PitTG9Y/wo PWreLBJns6KJhLw6iHEbSHjKFWKrHVT3bnCsk= X-Google-DKIM-Signature: v=1; a=rsa-sha256; c=relaxed/relaxed; d=1e100.net; s=20230601; t=1751333702; x=1751938502; h=references:in-reply-to:cc:to:from:subject:message-id:date :x-gm-message-state:from:to:cc:subject:date:message-id:reply-to; bh=Xncfn8Cof0mygeI759u+zRJJv+tgH8KRYma2W+b2RS8=; b=igSB3bWxLXY3RNDEIxsZYUoBCNca1fOdztpnB6ANELeA7SlaPqvBv+XztRwY9AluEA dqsAHo+qFcpy1l9JjSZBOeG/SE7gidXlGEJqthFWzcwdtjcb0ob6LcgjIuR0aqqyKamQ 6uXh5Mvcd7kgNN0P7rHT+T9lcCNzJRzTot69omQsn6BeMIHFTZTjo2Yj5t9ysONmkoix 9K87P3sHjGcriawS743eK4tqT6g9LQkznZpNt7SQwgzDniiXvGCeRRw6n16e0HZFFKEB LSEOo751I8W3KDnzA9cI/w0swK3U/jXWQBmkOVOovisYpUIM7psiTjNEG5Q6FGtoWc1G UbhQ== X-Gm-Message-State: AOJu0YzYDIUvC9FsfMKTfDqiLbRGblMOOTh9wbu5lM4vey/qMR8rXpjd aeNNvTarPcuwg4m99gAJRqIyBeQfy3+jcJjW6VG3MEUKR4qE1U6VEOunyk/iEntIwlRBxSDAFEQ XESArbYRs6L8gvtlAlDXcF0xLxXCeXkjdZ/Uvsgw679H2 X-Gm-Gg: ASbGnctWCf+VcKRbUoNbZUBzUJ5iD5oETCv3cbRGkRkbrMYnEZ+zPER4G2vf9pTgvOv txM4xDyuzsdElFj9oZAffEV3GL3zVcxO//dFqdUnW9IAT5u4JK28mSm2IFpk7i9MMwdNYs8MrJq I8z/RkGVzTq+4ZTNvrkdtxg7LXew459UuPMhJ7jBU+nPXGR1drZ1kEP1nXCSySSm105G4DYmpPx qqW69BR0QiOkgwd+98Ax7BLRYZTGsVrtWcqvRKHTdu17pJr6bcca/DAIR22nKIjHXTk9CC9SMP8 auyCKkJZN2Rth9lCQqjJ1IuYmPZAl1mKiNTLqPbLygSyU5xyjdaDWgJqilsF8MHqbn/JTA== X-Google-Smtp-Source: AGHT+IFoIAzS2n5u5y4/d6g5NFJU2FH8I8SlEI6IXFFuCES49qNYGyxS4uIBQkXIVPVSPbpURTTj3aVB0Ar7 X-Received: by 2002:a05:6e02:12e8:b0:3df:154d:aa60 with SMTP id e9e14a558f8ab-3df4acf7b61mr171254075ab.22.1751333702240; Mon, 30 Jun 2025 18:35:02 -0700 (PDT) Received: from postal.iol.unh.edu (postal.iol.unh.edu. [132.177.123.84]) by smtp-relay.gmail.com with ESMTPS id e9e14a558f8ab-3df4a0a93ebsm5242365ab.36.2025.06.30.18.35.02 (version=TLS1_2 cipher=ECDHE-ECDSA-AES128-GCM-SHA256 bits=128/128); Mon, 30 Jun 2025 18:35:02 -0700 (PDT) X-Relaying-Domain: iol.unh.edu Date: Mon, 30 Jun 2025 18:35:02 -0700 (PDT) Message-ID: <68633b46.050a0220.2d2307.c93dSMTPIN_ADDED_MISSING@mx.google.com> Received: from [172.17.0.2] (unknown [172.18.0.74]) by postal.iol.unh.edu (Postfix) with ESMTP id BC42D6051830; Mon, 30 Jun 2025 21:35:01 -0400 (EDT) Subject: |SUCCESS| pw154862 [PATCH] net/r8169: add missing newline at end of From: dpdklab@iol.unh.edu To: Test Report Cc: dpdk-test-reports@iol.unh.edu In-Reply-To: <20250630160533.126163-2-stephen@networkplumber.org> References: <20250630160533.126163-2-stephen@networkplumber.org> Content-Type: text/plain X-BeenThere: test-report@dpdk.org X-Mailman-Version: 2.1.29 Precedence: list List-Id: automatic DPDK test reports List-Unsubscribe: , List-Archive: List-Post: List-Help: List-Subscribe: , Errors-To: test-report-bounces@dpdk.org Test-Label: iol-compile-arm64-testing Test-Status: SUCCESS http://dpdk.org/patch/154862 _Testing PASS_ Submitter: Stephen Hemminger Date: Monday, June 30 2025 16:05:34 DPDK git baseline: Repo:dpdk Branch: master CommitID:83fd93a45061029c8a7850e15114e5932e7d045c 154862 --> testing pass Upstream job id: Generic-DPDK-Compile-Meson#403893 Test environment and result as below: +------------------------------+--------------------+ | Environment | dpdk_meson_compile | +==============================+====================+ | Red Hat Enterprise Linux 9.5 | PASS | +------------------------------+--------------------+ | Ubuntu 20.04 | PASS | +------------------------------+--------------------+ | Debian GNU/Linux 12 | PASS | +------------------------------+--------------------+ | Fedora Linux 40 | PASS | +------------------------------+--------------------+ | Fedora Linux 41 | PASS | +------------------------------+--------------------+ | Ubuntu 22.04 | PASS | +------------------------------+--------------------+ | Ubuntu 24.04 | PASS | +------------------------------+--------------------+ | CentOS Stream 9 | PASS | +------------------------------+--------------------+ | CentOS Stream 10 | PASS | +------------------------------+--------------------+ Red Hat Enterprise Linux 9.5 Kernel: 5.4 Compiler: gcc gcc (GCC) 11.5.0 20240719 (Red Hat 11.5.0-2) Ubuntu 20.04 Kernel: 5.15 Compiler: aarch64-linux-gnu-gcc gcc (Ubuntu 9.4.0-1ubuntu1~20.04.2) 9.4.0 Debian GNU/Linux 12 Kernel: 5.4 Compiler: gcc gcc (Debian 12.2.0-14+deb12u1) 12.2.0 Fedora Linux 40 Kernel: 5.4 Compiler: gcc gcc (GCC) 14.2.1 20240912 (Red Hat 14.2.1-3) Fedora Linux 41 Kernel: 5.4 Compiler: gcc gcc (GCC) 14.3.1 20250523 (Red Hat 14.3.1-1) Ubuntu 22.04 Kernel: 5.4 Compiler: gcc gcc (Ubuntu 11.4.0-1ubuntu1~22.04) 11.4.0 Ubuntu 24.04 Kernel: 5.4 Compiler: gcc gcc (Ubuntu 13.3.0-6ubuntu2~24.04) 13.3.0 CentOS Stream 9 Kernel: 5.4 Compiler: gcc gcc (GCC) 11.5.0 20240719 (Red Hat 11.5.0-7) CentOS Stream 10 Kernel: 5.4 Compiler: gcc gcc (GCC) 14.2.1 20250110 (Red Hat 14.2.1-8) To view detailed results, visit: https://lab.dpdk.org/results/dashboard/patchsets/33547/ UNH-IOL DPDK Community Lab To manage your email subscriptions, visit: https://lab.dpdk.org/results/dashboard/preferences/subscriptions/