From mboxrd@z Thu Jan 1 00:00:00 1970 Return-Path: Received: from mails.dpdk.org (mails.dpdk.org [217.70.189.124]) by inbox.dpdk.org (Postfix) with ESMTP id 972FC46AC8 for ; Tue, 1 Jul 2025 04:02:41 +0200 (CEST) Received: from mails.dpdk.org (localhost [127.0.0.1]) by mails.dpdk.org (Postfix) with ESMTP id 6F6374028E; Tue, 1 Jul 2025 04:02:41 +0200 (CEST) Received: from mail-yw1-f228.google.com (mail-yw1-f228.google.com [209.85.128.228]) by mails.dpdk.org (Postfix) with ESMTP id D58724028E for ; Tue, 1 Jul 2025 04:02:40 +0200 (CEST) Received: by mail-yw1-f228.google.com with SMTP id 00721157ae682-71173646662so28696057b3.2 for ; Mon, 30 Jun 2025 19:02:40 -0700 (PDT) DKIM-Signature: v=1; a=rsa-sha256; c=relaxed/relaxed; d=iol.unh.edu; s=unh-iol; t=1751335360; x=1751940160; darn=dpdk.org; h=references:in-reply-to:cc:to:from:subject:message-id:date:from:to :cc:subject:date:message-id:reply-to; bh=iLTHg820c/XQ9gC0SACNs8NETNyOE/P1g1z5AtYcOqM=; b=iwllaXCl/WOGofr6kG1snrORHS7Zno6B2QIEHhlVGHXO7Bp/g6srUZluTO747qZCG4 WPZL+TlbE5tBC/uj9ETcU2qSiLlYDP6uOf0pfNfWGmkK0d+rKS0CFVCyo+feNnTyzFKF dQhAiETbSpJCLwv19P00h0w4NSEvaNi/hTnZM= X-Google-DKIM-Signature: v=1; a=rsa-sha256; c=relaxed/relaxed; d=1e100.net; s=20230601; t=1751335360; x=1751940160; h=references:in-reply-to:cc:to:from:subject:message-id:date :x-gm-message-state:from:to:cc:subject:date:message-id:reply-to; bh=iLTHg820c/XQ9gC0SACNs8NETNyOE/P1g1z5AtYcOqM=; b=X9kQvGgeFQk+OUdutgUGB5mYNIwgtkmRY2EIcOwFIuarX4eXANn1J6cz2v4PVggwjD xWQZyEPnCzNa8cP05aXnNYvoRUcGxFCSeLAbsfFAjK0l8fhqMDWAyIhB5xmIMKKXCwld XCkJR6ACp8oQqWmoeqmRwq2ihaVhGpxMRpLSF0KmoNz9gL0eoA7m/722/uvILyLD3rTt BtUMNMBBOEmlowy2TqXS3HxrEyqoQ6SLyyW5m8A9TEjfIq5iISRW19LLQDrdHmS9535q Qtz/3zqT6gTfsZFRkWuP48L/6edclnQcXwkSf5tnUbwOdFH8QH9VZhGzs0UsAAgwPt6V 9wtA== X-Gm-Message-State: AOJu0YxfKYJkWVN3MbXCteVAAdq3sL+Dy8u6H64hRgo+awBgaZ+ZzLL0 QGwxbSuHytPUOf/KAuZK/8xrfSnazlGcya6PhwE0sWLtTmWDDtyX5iKGCub/nF8tAgvHU5Zw83r aenIlsnHuWFuCxSnWsDvmqkWxJMxzY+p/0F+b/88tHhlL X-Gm-Gg: ASbGnctgvX7zc9nXL0Cg1wOmAnXVZtVggcCUC7VgrZ7sdAjpHnoK1a1dZn6Op+EaYYv PJmlAyGltCk62Kjtl4PbR47eHGAlvzUEHzy6Ntuht7TtSHIQYRCVIoMxHBpr4og6YTiSBwY7gJn v2PP8+mPIC78fqjKHF2yNR7wLHH35R7XqpMnqXwncAzJZLrCigX5cQjVipQcDw+cNilUoUErUrY 8KUmtJ+zBW0oBwwmZ2Yhfcm9SnQrisNnTFoMs+7S+9AWV9BtCRO0Q9M1lAx5vUpQsK7DY87yaSj BMCeCrEAEwceyeXfQZ+ohXHZ+YQCGXqUQD2JYtcVhs/c5h/tZfPRTrrciWC29ZL+lwDjqw== X-Google-Smtp-Source: AGHT+IHBWsVgmSeZ2tOsYbIxOtv5cSymHCS1faBrW11YDaxxkKONbOCcdgYlEG0hdqV14ISueF4h8NRntU6z X-Received: by 2002:a05:690c:9985:b0:710:ead5:8a95 with SMTP id 00721157ae682-715171506d9mr238983477b3.14.1751335360037; Mon, 30 Jun 2025 19:02:40 -0700 (PDT) Received: from postal.iol.unh.edu (postal.iol.unh.edu. [132.177.123.84]) by smtp-relay.gmail.com with ESMTPS id 00721157ae682-71515bf98bcsm2954507b3.15.2025.06.30.19.02.39 (version=TLS1_2 cipher=ECDHE-ECDSA-AES128-GCM-SHA256 bits=128/128); Mon, 30 Jun 2025 19:02:40 -0700 (PDT) X-Relaying-Domain: iol.unh.edu Date: Mon, 30 Jun 2025 19:02:40 -0700 (PDT) Message-ID: <686341c0.050a0220.141f0a.f4a4SMTPIN_ADDED_MISSING@mx.google.com> Received: from [172.17.0.2] (unknown [172.18.0.74]) by postal.iol.unh.edu (Postfix) with ESMTP id AD1D86051830; Mon, 30 Jun 2025 22:02:39 -0400 (EDT) Subject: |SUCCESS| pw154862 [PATCH] net/r8169: add missing newline at end of From: dpdklab@iol.unh.edu To: Test Report Cc: dpdk-test-reports@iol.unh.edu In-Reply-To: <20250630160533.126163-2-stephen@networkplumber.org> References: <20250630160533.126163-2-stephen@networkplumber.org> Content-Type: text/plain X-BeenThere: test-report@dpdk.org X-Mailman-Version: 2.1.29 Precedence: list List-Id: automatic DPDK test reports List-Unsubscribe: , List-Archive: List-Post: List-Help: List-Subscribe: , Errors-To: test-report-bounces@dpdk.org Test-Label: iol-unit-arm64-testing Test-Status: SUCCESS http://dpdk.org/patch/154862 _Testing PASS_ Submitter: Stephen Hemminger Date: Monday, June 30 2025 16:05:34 DPDK git baseline: Repo:dpdk Branch: master CommitID:83fd93a45061029c8a7850e15114e5932e7d045c 154862 --> testing pass Upstream job id: Generic-Unit-Test-DPDK#351216 Test environment and result as below: +------------------------------+--------------+------------------------------+---------------------------+----------------+ | Environment | lpm_autotest | cryptodev_sw_snow3g_autotest | cryptodev_sw_zuc_autotest | dpdk_unit_test | +==============================+==============+==============================+===========================+================+ | Ubuntu 20.04 | PASS | SKIPPED | SKIPPED | PASS | +------------------------------+--------------+------------------------------+---------------------------+----------------+ | Debian 12 (arm) | SKIPPED | PASS | PASS | SKIPPED | +------------------------------+--------------+------------------------------+---------------------------+----------------+ | CentOS Stream 10 | SKIPPED | SKIPPED | SKIPPED | PASS | +------------------------------+--------------+------------------------------+---------------------------+----------------+ | CentOS Stream 9 | SKIPPED | SKIPPED | SKIPPED | PASS | +------------------------------+--------------+------------------------------+---------------------------+----------------+ | Debian GNU/Linux 12 | SKIPPED | SKIPPED | SKIPPED | PASS | +------------------------------+--------------+------------------------------+---------------------------+----------------+ | Fedora Linux 40 | SKIPPED | SKIPPED | SKIPPED | PASS | +------------------------------+--------------+------------------------------+---------------------------+----------------+ | Fedora Linux 41 | SKIPPED | SKIPPED | SKIPPED | PASS | +------------------------------+--------------+------------------------------+---------------------------+----------------+ | Red Hat Enterprise Linux 9.5 | SKIPPED | SKIPPED | SKIPPED | PASS | +------------------------------+--------------+------------------------------+---------------------------+----------------+ | Ubuntu 22.04 | SKIPPED | SKIPPED | SKIPPED | PASS | +------------------------------+--------------+------------------------------+---------------------------+----------------+ | Ubuntu 24.04 | SKIPPED | SKIPPED | SKIPPED | PASS | +------------------------------+--------------+------------------------------+---------------------------+----------------+ Ubuntu 20.04 Kernel: 5.4 Compiler: gcc gcc (Ubuntu 9.4.0-1ubuntu1~20.04.2) 9.4.0 Debian 12 (arm) Kernel: Depends on container host Compiler: gcc (Debian 12.2.0-14) 12.2.0 CentOS Stream 10 Kernel: 5.4 Compiler: gcc gcc (GCC) 14.2.1 20250110 (Red Hat 14.2.1-8) CentOS Stream 9 Kernel: 5.4 Compiler: gcc gcc (GCC) 11.5.0 20240719 (Red Hat 11.5.0-7) Debian GNU/Linux 12 Kernel: 5.4 Compiler: gcc gcc (Debian 12.2.0-14+deb12u1) 12.2.0 Fedora Linux 40 Kernel: 5.4 Compiler: gcc gcc (GCC) 14.2.1 20240912 (Red Hat 14.2.1-3) Fedora Linux 41 Kernel: 5.4 Compiler: gcc gcc (GCC) 14.3.1 20250523 (Red Hat 14.3.1-1) Red Hat Enterprise Linux 9.5 Kernel: 5.4 Compiler: gcc gcc (GCC) 11.5.0 20240719 (Red Hat 11.5.0-2) Ubuntu 22.04 Kernel: 5.4 Compiler: gcc gcc (Ubuntu 11.4.0-1ubuntu1~22.04) 11.4.0 Ubuntu 24.04 Kernel: 5.4 Compiler: gcc gcc (Ubuntu 13.3.0-6ubuntu2~24.04) 13.3.0 To view detailed results, visit: https://lab.dpdk.org/results/dashboard/patchsets/33547/ UNH-IOL DPDK Community Lab To manage your email subscriptions, visit: https://lab.dpdk.org/results/dashboard/preferences/subscriptions/