From mboxrd@z Thu Jan 1 00:00:00 1970 Return-Path: Received: from mails.dpdk.org (mails.dpdk.org [217.70.189.124]) by inbox.dpdk.org (Postfix) with ESMTP id 49C5246AC8 for ; Tue, 1 Jul 2025 05:27:17 +0200 (CEST) Received: from mails.dpdk.org (localhost [127.0.0.1]) by mails.dpdk.org (Postfix) with ESMTP id 2360F40276; Tue, 1 Jul 2025 05:27:17 +0200 (CEST) Received: from mail-pl1-f226.google.com (mail-pl1-f226.google.com [209.85.214.226]) by mails.dpdk.org (Postfix) with ESMTP id 0FF0540276 for ; Tue, 1 Jul 2025 05:27:15 +0200 (CEST) Received: by mail-pl1-f226.google.com with SMTP id d9443c01a7336-2366e5e4dbaso51609975ad.1 for ; Mon, 30 Jun 2025 20:27:14 -0700 (PDT) DKIM-Signature: v=1; a=rsa-sha256; c=relaxed/relaxed; d=iol.unh.edu; s=unh-iol; t=1751340434; x=1751945234; darn=dpdk.org; h=references:in-reply-to:cc:to:from:subject:message-id:date:from:to :cc:subject:date:message-id:reply-to; bh=9QC0Fw+fRcwmiIfrD9PtvGDofKxrpXHvyyff3871+W8=; b=IDSpd7nwtmKyCZQ/OrZvEofsrXrZ5RRf+PEuSbf+1W5Q9eh4GjIay/5bIYhybxNdEP bd2J69ZMnDTW2+g546z6OhfxlLrwugl1EZ5m9ILpQkLGdDdMksvJz/jlo8NCbC2Vz4vq LkR49FBwGrGf9FjL+BO28VF623Uo5TZg6IG4E= X-Google-DKIM-Signature: v=1; a=rsa-sha256; c=relaxed/relaxed; d=1e100.net; s=20230601; t=1751340434; x=1751945234; h=references:in-reply-to:cc:to:from:subject:message-id:date :x-gm-message-state:from:to:cc:subject:date:message-id:reply-to; bh=9QC0Fw+fRcwmiIfrD9PtvGDofKxrpXHvyyff3871+W8=; b=VAX0znfiVRVGKw9sPBECNHZFLdfenjEQ5jJfg3WsL1S/6PpXF14RzGiuTItBxFeDng GJqIXDemqKoOMfH0Fs0VDE/z5cmk3oYJ/bgbi3cm3dwRbuXkp0uAEETJaVTu9cioOzdL psAsKCxLeHorZSXAyZ/fU8mqWm5domAQMZuk3kqFG20JEpykHWTJINVJ7vN+dDv60muM 4LV/XsKZNvCrlIWwTdcnrmWPo8ysT4MHoThwQfhU+H2EMIt7fZQL3yeW9ooWk3Gorc9W 5nu+UwokIvQrXtYFDcS34Xx2Tsn8HhzJjNvJvkGHupSWA+AM0DDsQSb632OnHdQ2Blht nPrw== X-Gm-Message-State: AOJu0YxkW1AiKetmYlGfh4h78I0j5NKEofl4afu1rePBmTpNmO0nxHWw ReIlqaNYgboGZcJY78XOKEpycRR/rs7/HWnea45jXcJpPAHc1veyQx2OELge2bcDPBmRGa5++MW GDey3yInSDpzxtXOqYGsl81Z77AQDDDp901b9BGHsfFQh X-Gm-Gg: ASbGncudMziB1ezAABOVm9kJUkZFwLvxKKMWnyAdxFVEmsq6766NFyA53VHlMAFTfo3 99kemAAmsvq1+ehK5urT3Tb5ddrPedGHiRhCy0feTKwLoQLyHWeRcwOWiyRfLFe2DS+K6uaO2V1 QG/SMdvcMky1F+GqVhA3Eu+U4AKMl2bNAQNHV7RvUa8ywkRC5SICBxYGoCsj/LAoErst4Ec4Orn 7ntFt9knVjFahrqSL4WIyijJPSzqpuvNUFKgNlNc5GBPJlUXaAx2CUksI9RXAxky+WagXgtGhnj MapGXVeCYBWecMKOLgsIOvofQiwcDRP//Dm79jLYvWhiLVhEU3vtPkj86NQpuuIaCvIkFg== X-Google-Smtp-Source: AGHT+IF2db5Ud5zaDo3WCf4zaPQpa36vSoRCUEZAZeWjAgei7VxV/4oVXuyu0fQA3uIKyFJy0BLtL5jBPS+d X-Received: by 2002:a17:903:3410:b0:231:d0da:5e1f with SMTP id d9443c01a7336-23b354f6497mr18160725ad.21.1751340433874; Mon, 30 Jun 2025 20:27:13 -0700 (PDT) Received: from postal.iol.unh.edu (postal.iol.unh.edu. [132.177.123.84]) by smtp-relay.gmail.com with ESMTPS id d9443c01a7336-23acb2f2299sm4990355ad.45.2025.06.30.20.27.13 (version=TLS1_2 cipher=ECDHE-ECDSA-AES128-GCM-SHA256 bits=128/128); Mon, 30 Jun 2025 20:27:13 -0700 (PDT) X-Relaying-Domain: iol.unh.edu Date: Mon, 30 Jun 2025 20:27:13 -0700 (PDT) Message-ID: <68635591.170a0220.2587fe.bc99SMTPIN_ADDED_MISSING@mx.google.com> Received: from [172.17.0.2] (unknown [172.18.0.76]) by postal.iol.unh.edu (Postfix) with ESMTP id EE4A86051830; Mon, 30 Jun 2025 23:27:12 -0400 (EDT) Subject: |SUCCESS| pw154861 [PATCH] [v2] eal: deprecate old coremask-based EA From: dpdklab@iol.unh.edu To: Test Report Cc: dpdk-test-reports@iol.unh.edu In-Reply-To: <20250630153752.2361112-1-bruce.richardson@intel.com> References: <20250630153752.2361112-1-bruce.richardson@intel.com> Content-Type: text/plain X-BeenThere: test-report@dpdk.org X-Mailman-Version: 2.1.29 Precedence: list List-Id: automatic DPDK test reports List-Unsubscribe: , List-Archive: List-Post: List-Help: List-Subscribe: , Errors-To: test-report-bounces@dpdk.org Test-Label: iol-compile-arm64-testing Test-Status: SUCCESS http://dpdk.org/patch/154861 _Testing PASS_ Submitter: Bruce Richardson Date: Monday, June 30 2025 15:37:34 DPDK git baseline: Repo:dpdk Branch: master CommitID:20460dcffd08a4680f881c39916ae783ee830374 154861 --> testing pass Upstream job id: Generic-DPDK-Compile-Meson#403837 Test environment and result as below: +------------------------------+--------------------+ | Environment | dpdk_meson_compile | +==============================+====================+ | Red Hat Enterprise Linux 9.5 | PASS | +------------------------------+--------------------+ | Ubuntu 20.04 | PASS | +------------------------------+--------------------+ | Debian GNU/Linux 12 | PASS | +------------------------------+--------------------+ | Fedora Linux 40 | PASS | +------------------------------+--------------------+ | Fedora Linux 41 | PASS | +------------------------------+--------------------+ | Ubuntu 22.04 | PASS | +------------------------------+--------------------+ | Ubuntu 24.04 | PASS | +------------------------------+--------------------+ | CentOS Stream 9 | PASS | +------------------------------+--------------------+ | CentOS Stream 10 | PASS | +------------------------------+--------------------+ Red Hat Enterprise Linux 9.5 Kernel: 5.4 Compiler: gcc gcc (GCC) 11.5.0 20240719 (Red Hat 11.5.0-2) Ubuntu 20.04 Kernel: 5.15 Compiler: aarch64-linux-gnu-gcc gcc (Ubuntu 9.4.0-1ubuntu1~20.04.2) 9.4.0 Debian GNU/Linux 12 Kernel: 5.4 Compiler: gcc gcc (Debian 12.2.0-14+deb12u1) 12.2.0 Fedora Linux 40 Kernel: 5.4 Compiler: gcc gcc (GCC) 14.2.1 20240912 (Red Hat 14.2.1-3) Fedora Linux 41 Kernel: 5.4 Compiler: gcc gcc (GCC) 14.3.1 20250523 (Red Hat 14.3.1-1) Ubuntu 22.04 Kernel: 5.4 Compiler: gcc gcc (Ubuntu 11.4.0-1ubuntu1~22.04) 11.4.0 Ubuntu 24.04 Kernel: 5.4 Compiler: gcc gcc (Ubuntu 13.3.0-6ubuntu2~24.04) 13.3.0 CentOS Stream 9 Kernel: 5.4 Compiler: gcc gcc (GCC) 11.5.0 20240719 (Red Hat 11.5.0-7) CentOS Stream 10 Kernel: 5.4 Compiler: gcc gcc (GCC) 14.2.1 20250110 (Red Hat 14.2.1-8) To view detailed results, visit: https://lab.dpdk.org/results/dashboard/patchsets/33546/ UNH-IOL DPDK Community Lab To manage your email subscriptions, visit: https://lab.dpdk.org/results/dashboard/preferences/subscriptions/